Back to Multiple platform build/check report for BioC 3.12
ABCDEFGHIJKLMNOPQR[S]TUVWXYZ

BUILD report for scruff on malbec1

This page was generated on 2020-11-23 12:14:43 -0500 (Mon, 23 Nov 2020).

TO THE DEVELOPERS/MAINTAINERS OF THE scruff PACKAGE: Please make sure to use the following settings in order to reproduce any error or warning you see on this page.
Package 1660/1974HostnameOS / ArchINSTALLBUILDCHECKBUILD BIN
scruff 1.8.2
Zhe Wang
Snapshot Date: 2020-11-22 14:42:09 -0500 (Sun, 22 Nov 2020)
URL: https://git.bioconductor.org/packages/scruff
Branch: RELEASE_3_12
Last Commit: eef2cdd
Last Changed Date: 2020-11-19 17:29:00 -0500 (Thu, 19 Nov 2020)
malbec1 Linux (Ubuntu 18.04.4 LTS) / x86_64  OK [ OK ] OK UNNEEDED, same version exists in internal repository
nebbiolo1 Linux (Ubuntu 20.04.1 LTS) / x86_64  OK  OK  OK 
tokay1 Windows Server 2012 R2 Standard / x64  OK  OK  OK  OK UNNEEDED, same version exists in internal repository
merida1 macOS 10.14.6 Mojave / x86_64  OK  OK  OK  OK UNNEEDED, same version exists in internal repository

Summary

Package: scruff
Version: 1.8.2
Command: /home/biocbuild/bbs-3.12-bioc/R/bin/R CMD build --keep-empty-dirs --no-resave-data scruff
StartedAt: 2020-11-22 22:17:54 -0500 (Sun, 22 Nov 2020)
EndedAt: 2020-11-22 22:20:08 -0500 (Sun, 22 Nov 2020)
EllapsedTime: 133.4 seconds
RetCode: 0
Status:  OK 
PackageFile: scruff_1.8.2.tar.gz
PackageFileSize: 1.536 MiB

Command output

##############################################################################
##############################################################################
###
### Running command:
###
###   /home/biocbuild/bbs-3.12-bioc/R/bin/R CMD build --keep-empty-dirs --no-resave-data scruff
###
##############################################################################
##############################################################################


* checking for file ‘scruff/DESCRIPTION’ ... OK
* preparing ‘scruff’:
* checking DESCRIPTION meta-information ... OK
* installing the package to build vignettes
* creating vignettes ... OK
* checking for LF line-endings in source and make files and shell scripts
* checking for empty or unneeded directories
* looking to see if a ‘data/datalist’ file should be added
* building ‘scruff_1.8.2.tar.gz’