Back to Multiple platform build/check report for BioC 3.12
[A]BCDEFGHIJKLMNOPQRSTUVWXYZ

BUILD report for apComplex on malbec1

This page was generated on 2020-08-10 11:32:16 -0400 (Mon, 10 Aug 2020).

TO THE DEVELOPERS/MAINTAINERS OF THE apComplex PACKAGE: Please make sure to use the following settings in order to reproduce any error or warning you see on this page.
Package 71/1882HostnameOS / ArchINSTALLBUILDCHECKBUILD BIN
apComplex 2.55.0
Denise Scholtens
Snapshot Date: 2020-08-09 14:51:29 -0400 (Sun, 09 Aug 2020)
URL: https://git.bioconductor.org/packages/apComplex
Branch: master
Last Commit: f952b2e
Last Changed Date: 2020-04-27 14:10:49 -0400 (Mon, 27 Apr 2020)
malbec1 Linux (Ubuntu 18.04.4 LTS) / x86_64  OK [ OK ] OK UNNEEDED, same version exists in internal repository
nebbiolo1 Linux (Ubuntu 20.04.1 LTS) / x86_64  OK  OK  OK 
tokay1 Windows Server 2012 R2 Standard / x64  OK  OK  OK  OK UNNEEDED, same version exists in internal repository
merida1 macOS 10.14.6 Mojave / x86_64  OK  OK  OK  OK UNNEEDED, same version exists in internal repository

Summary

Package: apComplex
Version: 2.55.0
Command: /home/biocbuild/bbs-3.12-bioc/R/bin/R CMD build --keep-empty-dirs --no-resave-data apComplex
StartedAt: 2020-08-09 17:34:03 -0400 (Sun, 09 Aug 2020)
EndedAt: 2020-08-09 17:34:23 -0400 (Sun, 09 Aug 2020)
EllapsedTime: 19.8 seconds
RetCode: 0
Status:  OK 
PackageFile: apComplex_2.55.0.tar.gz
PackageFileSize: 664.8 KiB

Command output

##############################################################################
##############################################################################
###
### Running command:
###
###   /home/biocbuild/bbs-3.12-bioc/R/bin/R CMD build --keep-empty-dirs --no-resave-data apComplex
###
##############################################################################
##############################################################################


* checking for file ‘apComplex/DESCRIPTION’ ... OK
* preparing ‘apComplex’:
* checking DESCRIPTION meta-information ... OK
* installing the package to build vignettes
* creating vignettes ... OK
* checking for LF line-endings in source and make files and shell scripts
* checking for empty or unneeded directories
* looking to see if a ‘data/datalist’ file should be added
* building ‘apComplex_2.55.0.tar.gz’