Back to Multiple platform build/check report for BioC 3.12
ABCDEFGHIJKL[M]NOPQRSTUVWXYZ

Multiple platform build/check report for BioC 3.12

Results for methyAnalysis

This page was generated on 2020-10-25 12:00:46 -0400 (Sun, 25 Oct 2020).

Package 1072/1974HostnameOS / ArchINSTALLBUILDCHECKBUILD BIN
methyAnalysis 1.31.0
Lei Huang
Snapshot Date: 2020-10-24 14:40:19 -0400 (Sat, 24 Oct 2020)
URL: https://git.bioconductor.org/packages/methyAnalysis
Branch: master
Last Commit: deca53f
Last Changed Date: 2020-10-09 17:16:11 -0400 (Fri, 09 Oct 2020)
malbec1 Linux (Ubuntu 18.04.4 LTS) / x86_64  OK  OK  WARNINGS UNNEEDED, same version exists in internal repository
nebbiolo1 Linux (Ubuntu 20.04.1 LTS) / x86_64  OK  OK  WARNINGS 
tokay1 Windows Server 2012 R2 Standard / x64 ...NOT SUPPORTED...
riesling1 Windows Server 2019 Standard / x64 ...NOT SUPPORTED...
merida1 macOS 10.14.6 Mojave / x86_64  OK  OK  WARNINGS  OK UNNEEDED, same version exists in internal repository