Back to Multiple platform build/check report for BioC 3.12
[A]BCDEFGHIJKLMNOPQRSTUVWXYZ

INSTALL report for ArrayTV on malbec1

This page was generated on 2020-08-13 11:15:22 -0400 (Thu, 13 Aug 2020).

TO THE DEVELOPERS/MAINTAINERS OF THE ArrayTV PACKAGE: Please make sure to use the following settings in order to reproduce any error or warning you see on this page.
Package 81/1885HostnameOS / ArchINSTALLBUILDCHECKBUILD BIN
ArrayTV 1.27.1
Eitan Halper-Stromberg
Snapshot Date: 2020-08-12 14:52:00 -0400 (Wed, 12 Aug 2020)
URL: https://git.bioconductor.org/packages/ArrayTV
Branch: master
Last Commit: 2629952
Last Changed Date: 2020-06-08 09:58:02 -0400 (Mon, 08 Jun 2020)
malbec1 Linux (Ubuntu 18.04.4 LTS) / x86_64 [ OK ] ERROR  skipped 
nebbiolo1 Linux (Ubuntu 20.04.1 LTS) / x86_64  OK  ERROR  skipped 
tokay1 Windows Server 2012 R2 Standard / x64  OK  ERROR  skipped  skipped 
merida1 macOS 10.14.6 Mojave / x86_64  OK  ERROR  skipped  skipped 

Summary

Package: ArrayTV
Version: 1.27.1
Command: /home/biocbuild/bbs-3.12-bioc/R/bin/R CMD INSTALL ArrayTV
StartedAt: 2020-08-12 16:31:55 -0400 (Wed, 12 Aug 2020)
EndedAt: 2020-08-12 16:32:18 -0400 (Wed, 12 Aug 2020)
EllapsedTime: 23.7 seconds
RetCode: 0
Status:  OK 

Command output

##############################################################################
##############################################################################
###
### Running command:
###
###   /home/biocbuild/bbs-3.12-bioc/R/bin/R CMD INSTALL ArrayTV
###
##############################################################################
##############################################################################


* installing to library ‘/home/biocbuild/bbs-3.12-bioc/R/library’
* installing *source* package ‘ArrayTV’ ...
** using staged installation
** R
** inst
** byte-compile and prepare package for lazy loading
** help
*** installing help indices
** building package indices
** installing vignettes
** testing if installed package can be loaded from temporary location
Warning: Package 'ArrayTV' is deprecated and will be removed from Bioconductor
  version 3.13
** testing if installed package can be loaded from final location
Warning: Package 'ArrayTV' is deprecated and will be removed from Bioconductor
  version 3.13
** testing if installed package keeps a record of temporary installation path
* DONE (ArrayTV)