Back to Multiple platform build/check report for BioC 3.12
[A]BCDEFGHIJKLMNOPQRSTUVWXYZ

INSTALL report for agilp on merida1

This page was generated on 2020-08-06 12:16:54 -0400 (Thu, 06 Aug 2020).

TO THE DEVELOPERS/MAINTAINERS OF THE agilp PACKAGE: Please make sure to use the following settings in order to reproduce any error or warning you see on this page.
Package 37/1882HostnameOS / ArchINSTALLBUILDCHECKBUILD BIN
agilp 3.21.0
Benny Chain
Snapshot Date: 2020-08-05 14:50:59 -0400 (Wed, 05 Aug 2020)
URL: https://git.bioconductor.org/packages/agilp
Branch: master
Last Commit: 653f88f
Last Changed Date: 2020-04-27 14:31:27 -0400 (Mon, 27 Apr 2020)
malbec1 Linux (Ubuntu 18.04.4 LTS) / x86_64  OK  OK  OK UNNEEDED, same version exists in internal repository
tokay1 Windows Server 2012 R2 Standard / x64  OK  OK  OK  OK UNNEEDED, same version exists in internal repository
merida1 macOS 10.14.6 Mojave / x86_64 [ OK ] OK  OK  OK UNNEEDED, same version exists in internal repository

Summary

Package: agilp
Version: 3.21.0
Command: /Library/Frameworks/R.framework/Versions/Current/Resources/bin/R CMD INSTALL agilp
StartedAt: 2020-08-05 16:01:53 -0400 (Wed, 05 Aug 2020)
EndedAt: 2020-08-05 16:02:10 -0400 (Wed, 05 Aug 2020)
EllapsedTime: 16.6 seconds
RetCode: 0
Status:  OK 

Command output

##############################################################################
##############################################################################
###
### Running command:
###
###   /Library/Frameworks/R.framework/Versions/Current/Resources/bin/R CMD INSTALL agilp
###
##############################################################################
##############################################################################


* installing to library ‘/Library/Frameworks/R.framework/Versions/4.0/Resources/library’
* installing *source* package ‘agilp’ ...
** using staged installation
** R
** inst
** byte-compile and prepare package for lazy loading
** help
*** installing help indices
** building package indices
** installing vignettes
** testing if installed package can be loaded from temporary location
** testing if installed package can be loaded from final location
** testing if installed package keeps a record of temporary installation path
* DONE (agilp)