Back to Multiple platform build/check report for BioC 3.12
AB[C]DEFGHIJKLMNOPQRSTUVWXYZ

BUILD BIN report for cellbaseR on tokay1

This page was generated on 2021-02-22 12:37:18 -0500 (Mon, 22 Feb 2021).

To the developers/maintainers of the cellbaseR package:
Please make sure to use the following settings in order to reproduce any error or warning you see on this page.
Package 250/1974HostnameOS / ArchINSTALLBUILDCHECKBUILD BIN
cellbaseR 1.14.0
Mohammed OE Abdallah
Snapshot Date: 2021-02-21 14:52:07 -0500 (Sun, 21 Feb 2021)
URL: https://git.bioconductor.org/packages/cellbaseR
Branch: RELEASE_3_12
Last Commit: 6ecfb00
Last Changed Date: 2020-10-27 11:23:55 -0500 (Tue, 27 Oct 2020)
malbec1Linux (Ubuntu 18.04.5 LTS) / x86_64  OK    OK    OK  UNNEEDED, same version exists in internal repository
nebbiolo1Linux (Ubuntu 20.04.2 LTS) / x86_64  OK    OK    OK  
tokay1Windows Server 2012 R2 Standard / x64  OK    OK    WARNINGS    OK  UNNEEDED, same version exists in internal repository
merida1macOS 10.14.6 Mojave / x86_64  OK    OK    OK    OK  UNNEEDED, same version exists in internal repository

Summary

Package: cellbaseR
Version: 1.14.0
Command: rm -rf cellbaseR.buildbin-libdir && mkdir cellbaseR.buildbin-libdir && C:\Users\biocbuild\bbs-3.12-bioc\R\bin\R.exe CMD INSTALL --merge-multiarch --build --library=cellbaseR.buildbin-libdir cellbaseR_1.14.0.tar.gz
StartedAt: 2021-02-22 08:46:45 -0500 (Mon, 22 Feb 2021)
EndedAt: 2021-02-22 08:47:20 -0500 (Mon, 22 Feb 2021)
EllapsedTime: 35.3 seconds
RetCode: 0
Status:   OK   
PackageFile: cellbaseR_1.14.0.zip
PackageFileSize: 758.7 KiB

Command output

##############################################################################
##############################################################################
###
### Running command:
###
###   rm -rf cellbaseR.buildbin-libdir && mkdir cellbaseR.buildbin-libdir && C:\Users\biocbuild\bbs-3.12-bioc\R\bin\R.exe CMD INSTALL --merge-multiarch --build --library=cellbaseR.buildbin-libdir cellbaseR_1.14.0.tar.gz
###
##############################################################################
##############################################################################



install for i386

* installing *source* package 'cellbaseR' ...
** using staged installation
** R
** inst
** byte-compile and prepare package for lazy loading
** help
*** installing help indices
  converting help for package 'cellbaseR'
    finding HTML links ... done
    AnnotateVcf-CellBaseR-method            html  
    CellBaseParam-class                     html  
    CellBaseParam                           html  
    CellBaseR-class                         html  
    CellBaseR                               html  
    cellbaseR-package                       html  
    createGeneModel                         html  
Rd warning: C:/Users/biocbuild/bbs-3.12-bioc/tmpdir/RtmpKe2TJe/R.INSTALL28bc549558c/cellbaseR/man/createGeneModel.Rd:23: file link 'GeneRegionTrack' in package 'Gviz' does not exist and so has been treated as a topic
    getCaddScores                           html  
    getCellBase-CellBaseR-method            html  
    getCellBaseResourceHelp                 html  
    getChromosomeInfo-CellBaseR-method      html  
    getClinical-CellBaseR-method            html  
    getClinicalByGene                       html  
    getClinicalByRegion                     html  
    getConservationByRegion                 html  
    getGene-CellBaseR-method                html  
    getGeneInfo                             html  
    getMeta-CellBaseR-method                html  
    getProtein-CellBaseR-method             html  
    getProteinInfo                          html  
    getRegion-CellBaseR-method              html  
    getRegulatoryByRegion                   html  
    getSnp-CellBaseR-method                 html  
    getSnpByGene                            html  
    getTf-CellBaseR-method                  html  
    getTfbsByRegion                         html  
    getTranscript-CellBaseR-method          html  
    getTranscriptByGene                     html  
    getVariant-CellBaseR-method             html  
    getVariantAnnotation                    html  
    getXref-CellBaseR-method                html  
** building package indices
** installing vignettes
** testing if installed package can be loaded from temporary location
** testing if installed package can be loaded from final location
** testing if installed package keeps a record of temporary installation path

install for x64

* installing *source* package 'cellbaseR' ...
** testing if installed package can be loaded
* MD5 sums
packaged installation of 'cellbaseR' as cellbaseR_1.14.0.zip
* DONE (cellbaseR)