Back to Multiple platform build/check report for BioC 3.12
[A]BCDEFGHIJKLMNOPQRSTUVWXYZ

BUILD report for ABSSeq on merida1

This page was generated on 2020-09-21 11:25:18 -0400 (Mon, 21 Sep 2020).

TO THE DEVELOPERS/MAINTAINERS OF THE ABSSeq PACKAGE: Please make sure to use the following settings in order to reproduce any error or warning you see on this page.
Package 10/1912HostnameOS / ArchINSTALLBUILDCHECKBUILD BIN
ABSSeq 1.43.0
Wentao Yang
Snapshot Date: 2020-09-20 14:41:51 -0400 (Sun, 20 Sep 2020)
URL: https://git.bioconductor.org/packages/ABSSeq
Branch: master
Last Commit: 2181a4f
Last Changed Date: 2020-04-27 14:39:30 -0400 (Mon, 27 Apr 2020)
malbec1 Linux (Ubuntu 18.04.4 LTS) / x86_64  OK  OK  OK UNNEEDED, same version exists in internal repository
nebbiolo1 Linux (Ubuntu 20.04.1 LTS) / x86_64  OK  OK  OK 
tokay1 Windows Server 2012 R2 Standard / x64  OK  OK  OK  OK UNNEEDED, same version exists in internal repository
riesling1 Windows Server 2019 Standard / x64  OK  OK  OK  OK 
merida1 macOS 10.14.6 Mojave / x86_64  OK [ OK ] OK  OK UNNEEDED, same version exists in internal repository

Summary

Package: ABSSeq
Version: 1.43.0
Command: /Library/Frameworks/R.framework/Versions/Current/Resources/bin/R CMD build --keep-empty-dirs --no-resave-data ABSSeq
StartedAt: 2020-09-20 19:13:02 -0400 (Sun, 20 Sep 2020)
EndedAt: 2020-09-20 19:16:02 -0400 (Sun, 20 Sep 2020)
EllapsedTime: 180.3 seconds
RetCode: 0
Status:  OK 
PackageFile: ABSSeq_1.43.0.tar.gz
PackageFileSize: 1.023 MiB

Command output

##############################################################################
##############################################################################
###
### Running command:
###
###   /Library/Frameworks/R.framework/Versions/Current/Resources/bin/R CMD build --keep-empty-dirs --no-resave-data ABSSeq
###
##############################################################################
##############################################################################


* checking for file ‘ABSSeq/DESCRIPTION’ ... OK
* preparing ‘ABSSeq’:
* checking DESCRIPTION meta-information ... OK
* installing the package to build vignettes
* creating vignettes ... OK
* checking for LF line-endings in source and make files and shell scripts
* checking for empty or unneeded directories
* looking to see if a ‘data/datalist’ file should be added
* building ‘ABSSeq_1.43.0.tar.gz’