Back to Multiple platform build/check report for BioC 3.12
A[B]CDEFGHIJKLMNOPQRSTUVWXYZ

BUILD BIN report for BubbleTree on merida1

This page was generated on 2020-08-11 11:57:06 -0400 (Tue, 11 Aug 2020).

TO THE DEVELOPERS/MAINTAINERS OF THE BubbleTree PACKAGE: Please make sure to use the following settings in order to reproduce any error or warning you see on this page.
Package 204/1885HostnameOS / ArchINSTALLBUILDCHECKBUILD BIN
BubbleTree 2.19.0
Todd Creasy , Wei Zhu
Snapshot Date: 2020-08-10 14:50:56 -0400 (Mon, 10 Aug 2020)
URL: https://git.bioconductor.org/packages/BubbleTree
Branch: master
Last Commit: 50dd6a4
Last Changed Date: 2020-04-27 14:46:47 -0400 (Mon, 27 Apr 2020)
malbec1 Linux (Ubuntu 18.04.4 LTS) / x86_64  OK  OK  OK UNNEEDED, same version exists in internal repository
nebbiolo1 Linux (Ubuntu 20.04.1 LTS) / x86_64  OK  OK  NA 
tokay1 Windows Server 2012 R2 Standard / x64  OK  OK  OK  OK UNNEEDED, same version exists in internal repository
merida1 macOS 10.14.6 Mojave / x86_64  OK  OK  OK [ OK ]UNNEEDED, same version exists in internal repository

Summary

Package: BubbleTree
Version: 2.19.0
Command: rm -rf BubbleTree.buildbin-libdir && mkdir BubbleTree.buildbin-libdir && /Users/biocbuild/BBS/utils/build-universal.sh BubbleTree_2.19.0.tar.gz /Library/Frameworks/R.framework/Versions/Current/Resources/bin/R BubbleTree.buildbin-libdir
StartedAt: 2020-08-11 07:08:39 -0400 (Tue, 11 Aug 2020)
EndedAt: 2020-08-11 07:09:35 -0400 (Tue, 11 Aug 2020)
EllapsedTime: 56.1 seconds
RetCode: 0
Status:  OK 
PackageFile: BubbleTree_2.19.0.tgz
PackageFileSize: 24.41 MiB

Command output

##############################################################################
##############################################################################
###
### Running command:
###
###   rm -rf BubbleTree.buildbin-libdir && mkdir BubbleTree.buildbin-libdir && /Users/biocbuild/BBS/utils/build-universal.sh BubbleTree_2.19.0.tar.gz /Library/Frameworks/R.framework/Versions/Current/Resources/bin/R BubbleTree.buildbin-libdir
###
##############################################################################
##############################################################################


>>>>>>> 
>>>>>>> INSTALLATION WITH 'R CMD INSTALL --preclean --no-multiarch --library=BubbleTree.buildbin-libdir BubbleTree_2.19.0.tar.gz'
>>>>>>> 

* installing *source* package ‘BubbleTree’ ...
** using staged installation
It is recommended to use ‘given’ instead of ‘middle’.
** R
** data
** inst
** byte-compile and prepare package for lazy loading
** help
*** installing help indices
** building package indices
** installing vignettes
** testing if installed package can be loaded from temporary location
** testing if installed package can be loaded from final location
** testing if installed package keeps a record of temporary installation path
* DONE (BubbleTree)