Back to Multiple platform build/check report for BioC 3.12
[A]BCDEFGHIJKLMNOPQRSTUVWXYZ

BUILD BIN report for apComplex on merida1

This page was generated on 2020-08-11 11:51:29 -0400 (Tue, 11 Aug 2020).

TO THE DEVELOPERS/MAINTAINERS OF THE apComplex PACKAGE: Please make sure to use the following settings in order to reproduce any error or warning you see on this page.
Package 71/1885HostnameOS / ArchINSTALLBUILDCHECKBUILD BIN
apComplex 2.55.0
Denise Scholtens
Snapshot Date: 2020-08-10 14:50:56 -0400 (Mon, 10 Aug 2020)
URL: https://git.bioconductor.org/packages/apComplex
Branch: master
Last Commit: f952b2e
Last Changed Date: 2020-04-27 14:10:49 -0400 (Mon, 27 Apr 2020)
malbec1 Linux (Ubuntu 18.04.4 LTS) / x86_64  OK  OK  OK UNNEEDED, same version exists in internal repository
nebbiolo1 Linux (Ubuntu 20.04.1 LTS) / x86_64  OK  OK  NA 
tokay1 Windows Server 2012 R2 Standard / x64  OK  OK  OK  OK UNNEEDED, same version exists in internal repository
merida1 macOS 10.14.6 Mojave / x86_64  OK  OK  OK [ OK ]UNNEEDED, same version exists in internal repository

Summary

Package: apComplex
Version: 2.55.0
Command: rm -rf apComplex.buildbin-libdir && mkdir apComplex.buildbin-libdir && /Users/biocbuild/BBS/utils/build-universal.sh apComplex_2.55.0.tar.gz /Library/Frameworks/R.framework/Versions/Current/Resources/bin/R apComplex.buildbin-libdir
StartedAt: 2020-08-11 06:13:15 -0400 (Tue, 11 Aug 2020)
EndedAt: 2020-08-11 06:14:16 -0400 (Tue, 11 Aug 2020)
EllapsedTime: 61.0 seconds
RetCode: 0
Status:  OK 
PackageFile: apComplex_2.55.0.tgz
PackageFileSize: 716.4 KiB

Command output

##############################################################################
##############################################################################
###
### Running command:
###
###   rm -rf apComplex.buildbin-libdir && mkdir apComplex.buildbin-libdir && /Users/biocbuild/BBS/utils/build-universal.sh apComplex_2.55.0.tar.gz /Library/Frameworks/R.framework/Versions/Current/Resources/bin/R apComplex.buildbin-libdir
###
##############################################################################
##############################################################################


>>>>>>> 
>>>>>>> INSTALLATION WITH 'R CMD INSTALL --preclean --no-multiarch --library=apComplex.buildbin-libdir apComplex_2.55.0.tar.gz'
>>>>>>> 

* installing *source* package ‘apComplex’ ...
** using staged installation
** R
** data
** inst
** byte-compile and prepare package for lazy loading
** help
*** installing help indices
** building package indices
** installing vignettes
** testing if installed package can be loaded from temporary location
** testing if installed package can be loaded from final location
** testing if installed package keeps a record of temporary installation path
* DONE (apComplex)