Back to Multiple platform build/check report for BioC 3.12
A[B]CDEFGHIJKLMNOPQRSTUVWXYZ

BUILD report for biocGraph on merida1

This page was generated on 2020-08-11 11:52:12 -0400 (Tue, 11 Aug 2020).

TO THE DEVELOPERS/MAINTAINERS OF THE biocGraph PACKAGE: Please make sure to use the following settings in order to reproduce any error or warning you see on this page.
Package 153/1885HostnameOS / ArchINSTALLBUILDCHECKBUILD BIN
biocGraph 1.51.0
Florian Hahne
Snapshot Date: 2020-08-10 14:50:56 -0400 (Mon, 10 Aug 2020)
URL: https://git.bioconductor.org/packages/biocGraph
Branch: master
Last Commit: a37dab4
Last Changed Date: 2020-04-27 14:15:24 -0400 (Mon, 27 Apr 2020)
malbec1 Linux (Ubuntu 18.04.4 LTS) / x86_64  OK  OK  OK UNNEEDED, same version exists in internal repository
nebbiolo1 Linux (Ubuntu 20.04.1 LTS) / x86_64  OK  OK  NA 
tokay1 Windows Server 2012 R2 Standard / x64  OK  OK  OK  OK UNNEEDED, same version exists in internal repository
merida1 macOS 10.14.6 Mojave / x86_64  OK [ OK ] OK  OK UNNEEDED, same version exists in internal repository

Summary

Package: biocGraph
Version: 1.51.0
Command: /Library/Frameworks/R.framework/Versions/Current/Resources/bin/R CMD build --keep-empty-dirs --no-resave-data biocGraph
StartedAt: 2020-08-10 18:11:24 -0400 (Mon, 10 Aug 2020)
EndedAt: 2020-08-10 18:12:02 -0400 (Mon, 10 Aug 2020)
EllapsedTime: 38.7 seconds
RetCode: 0
Status:  OK 
PackageFile: biocGraph_1.51.0.tar.gz
PackageFileSize: 542.6 KiB

Command output

##############################################################################
##############################################################################
###
### Running command:
###
###   /Library/Frameworks/R.framework/Versions/Current/Resources/bin/R CMD build --keep-empty-dirs --no-resave-data biocGraph
###
##############################################################################
##############################################################################


* checking for file ‘biocGraph/DESCRIPTION’ ... OK
* preparing ‘biocGraph’:
* checking DESCRIPTION meta-information ... OK
* installing the package to build vignettes
* creating vignettes ... OK
* checking for LF line-endings in source and make files and shell scripts
* checking for empty or unneeded directories
* building ‘biocGraph_1.51.0.tar.gz’