Back to Multiple platform build/check report for BioC 3.12
A[B]CDEFGHIJKLMNOPQRSTUVWXYZ

BUILD report for BiRewire on malbec1

This page was generated on 2020-08-06 11:34:03 -0400 (Thu, 06 Aug 2020).

TO THE DEVELOPERS/MAINTAINERS OF THE BiRewire PACKAGE: Please make sure to use the following settings in order to reproduce any error or warning you see on this page.
Package 181/1882HostnameOS / ArchINSTALLBUILDCHECKBUILD BIN
BiRewire 3.21.0
Andrea Gobbi
Snapshot Date: 2020-08-05 14:50:59 -0400 (Wed, 05 Aug 2020)
URL: https://git.bioconductor.org/packages/BiRewire
Branch: master
Last Commit: 7ab05ed
Last Changed Date: 2020-04-27 14:36:26 -0400 (Mon, 27 Apr 2020)
malbec1 Linux (Ubuntu 18.04.4 LTS) / x86_64  OK [ OK ] WARNINGS UNNEEDED, same version exists in internal repository
tokay1 Windows Server 2012 R2 Standard / x64  OK  OK  WARNINGS  OK UNNEEDED, same version exists in internal repository
merida1 macOS 10.14.6 Mojave / x86_64  OK  OK  OK  OK UNNEEDED, same version exists in internal repository

Summary

Package: BiRewire
Version: 3.21.0
Command: /home/biocbuild/bbs-3.12-bioc/R/bin/R CMD build --keep-empty-dirs --no-resave-data BiRewire
StartedAt: 2020-08-05 18:30:01 -0400 (Wed, 05 Aug 2020)
EndedAt: 2020-08-05 18:30:51 -0400 (Wed, 05 Aug 2020)
EllapsedTime: 50.3 seconds
RetCode: 0
Status:  OK 
PackageFile: BiRewire_3.21.0.tar.gz
PackageFileSize: 637.7 KiB

Command output

##############################################################################
##############################################################################
###
### Running command:
###
###   /home/biocbuild/bbs-3.12-bioc/R/bin/R CMD build --keep-empty-dirs --no-resave-data BiRewire
###
##############################################################################
##############################################################################


* checking for file ‘BiRewire/DESCRIPTION’ ... OK
* preparing ‘BiRewire’:
* checking DESCRIPTION meta-information ... OK
* cleaning src
* installing the package to build vignettes
* creating vignettes ... OK
* cleaning src
* checking for LF line-endings in source and make files and shell scripts
* checking for empty or unneeded directories
* looking to see if a ‘data/datalist’ file should be added
* building ‘BiRewire_3.21.0.tar.gz’