Back to Multiple platform build/check report for BioC 3.12
A[B]CDEFGHIJKLMNOPQRSTUVWXYZ

BUILD report for bsseq on merida1

This page was generated on 2020-08-07 12:27:04 -0400 (Fri, 07 Aug 2020).

TO THE DEVELOPERS/MAINTAINERS OF THE bsseq PACKAGE: Please make sure to use the following settings in order to reproduce any error or warning you see on this page.
Package 203/1882HostnameOS / ArchINSTALLBUILDCHECKBUILD BIN
bsseq 1.25.5
Kasper Daniel Hansen
Snapshot Date: 2020-08-06 14:50:46 -0400 (Thu, 06 Aug 2020)
URL: https://git.bioconductor.org/packages/bsseq
Branch: master
Last Commit: f2728b7
Last Changed Date: 2020-06-28 21:21:07 -0400 (Sun, 28 Jun 2020)
malbec1 Linux (Ubuntu 18.04.4 LTS) / x86_64  OK  OK  TIMEOUT 
tokay1 Windows Server 2012 R2 Standard / x64  OK  OK  WARNINGS  OK UNNEEDED, same version exists in internal repository
merida1 macOS 10.14.6 Mojave / x86_64  OK [ OK ] WARNINGS  OK UNNEEDED, same version exists in internal repository

Summary

Package: bsseq
Version: 1.25.5
Command: /Library/Frameworks/R.framework/Versions/Current/Resources/bin/R CMD build --keep-empty-dirs --no-resave-data bsseq
StartedAt: 2020-08-06 18:43:55 -0400 (Thu, 06 Aug 2020)
EndedAt: 2020-08-06 18:47:35 -0400 (Thu, 06 Aug 2020)
EllapsedTime: 219.8 seconds
RetCode: 0
Status:  OK 
PackageFile: bsseq_1.25.5.tar.gz
PackageFileSize: 2.609 MiB

Command output

##############################################################################
##############################################################################
###
### Running command:
###
###   /Library/Frameworks/R.framework/Versions/Current/Resources/bin/R CMD build --keep-empty-dirs --no-resave-data bsseq
###
##############################################################################
##############################################################################


* checking for file ‘bsseq/DESCRIPTION’ ... OK
* preparing ‘bsseq’:
* checking DESCRIPTION meta-information ... OK
* cleaning src
* installing the package to build vignettes
* creating vignettes ... OK
* cleaning src
* checking for LF line-endings in source and make files and shell scripts
* checking for empty or unneeded directories
* looking to see if a ‘data/datalist’ file should be added
* building ‘bsseq_1.25.5.tar.gz’