Back to Multiple platform build/check report for BioC 3.12
[A]BCDEFGHIJKLMNOPQRSTUVWXYZ

INSTALL report for acde on tokay1

This page was generated on 2020-09-19 10:19:58 -0400 (Sat, 19 Sep 2020).

TO THE DEVELOPERS/MAINTAINERS OF THE acde PACKAGE: Please make sure to use the following settings in order to reproduce any error or warning you see on this page.
Package 11/1912HostnameOS / ArchINSTALLBUILDCHECKBUILD BIN
acde 1.19.0
Juan Pablo Acosta
Snapshot Date: 2020-09-18 14:43:25 -0400 (Fri, 18 Sep 2020)
URL: https://git.bioconductor.org/packages/acde
Branch: master
Last Commit: b0efcae
Last Changed Date: 2020-04-27 14:49:17 -0400 (Mon, 27 Apr 2020)
malbec1 Linux (Ubuntu 18.04.4 LTS) / x86_64  OK  OK  OK UNNEEDED, same version exists in internal repository
nebbiolo1 Linux (Ubuntu 20.04.1 LTS) / x86_64  OK  OK  OK 
tokay1 Windows Server 2012 R2 Standard / x64 [ OK ] OK  OK  OK UNNEEDED, same version exists in internal repository
riesling1 Windows Server 2019 Standard / x64  OK  OK  OK  OK 
merida1 macOS 10.14.6 Mojave / x86_64  OK  OK  OK  OK UNNEEDED, same version exists in internal repository

Summary

Package: acde
Version: 1.19.0
Command: C:\cygwin\bin\curl.exe -O https://malbec1.bioconductor.org/BBS/3.12/bioc/src/contrib/acde_1.19.0.tar.gz && rm -rf acde.buildbin-libdir && mkdir acde.buildbin-libdir && C:\Users\biocbuild\bbs-3.12-bioc\R\bin\R.exe CMD INSTALL --merge-multiarch --build --library=acde.buildbin-libdir acde_1.19.0.tar.gz && C:\Users\biocbuild\bbs-3.12-bioc\R\bin\R.exe CMD INSTALL acde_1.19.0.zip && rm acde_1.19.0.tar.gz acde_1.19.0.zip
StartedAt: 2020-09-18 16:46:30 -0400 (Fri, 18 Sep 2020)
EndedAt: 2020-09-18 16:47:14 -0400 (Fri, 18 Sep 2020)
EllapsedTime: 43.7 seconds
RetCode: 0
Status:  OK  

Command output

##############################################################################
##############################################################################
###
### Running command:
###
###   C:\cygwin\bin\curl.exe -O https://malbec1.bioconductor.org/BBS/3.12/bioc/src/contrib/acde_1.19.0.tar.gz && rm -rf acde.buildbin-libdir && mkdir acde.buildbin-libdir && C:\Users\biocbuild\bbs-3.12-bioc\R\bin\R.exe CMD INSTALL --merge-multiarch --build --library=acde.buildbin-libdir acde_1.19.0.tar.gz && C:\Users\biocbuild\bbs-3.12-bioc\R\bin\R.exe CMD INSTALL acde_1.19.0.zip && rm acde_1.19.0.tar.gz acde_1.19.0.zip
###
##############################################################################
##############################################################################


  % Total    % Received % Xferd  Average Speed   Time    Time     Time  Current
                                 Dload  Upload   Total   Spent    Left  Speed

  0     0    0     0    0     0      0      0 --:--:-- --:--:-- --:--:--     0
 79 2427k   79 1920k    0     0  3139k      0 --:--:-- --:--:-- --:--:-- 3152k
100 2427k  100 2427k    0     0  3941k      0 --:--:-- --:--:-- --:--:-- 3960k

install for i386

* installing *source* package 'acde' ...
** using staged installation
** R
** data
*** moving datasets to lazyload DB
** inst
** byte-compile and prepare package for lazy loading
** help
*** installing help indices
  converting help for package 'acde'
    finding HTML links ... done
    ac                                      html  
    acde-package                            html  
    bcaFDR                                  html  
    fdr                                     html  
    phytophthora                            html  
    plot.STP                                html  
    plot.TC                                 html  
    print.STP                               html  
    print.TC                                html  
    qval                                    html  
    stp                                     html  
    tc                                      html  
** building package indices
** installing vignettes
** testing if installed package can be loaded from temporary location
** testing if installed package can be loaded from final location
** testing if installed package keeps a record of temporary installation path

install for x64

* installing *source* package 'acde' ...
** testing if installed package can be loaded
* MD5 sums
packaged installation of 'acde' as acde_1.19.0.zip
* DONE (acde)
* installing to library 'C:/Users/biocbuild/bbs-3.12-bioc/R/library'
package 'acde' successfully unpacked and MD5 sums checked