Back to Multiple platform build/check report for BioC 3.12
AB[C]DEFGHIJKLMNOPQRSTUVWXYZ

BUILD BIN report for CEMiTool on merida1

This page was generated on 2020-08-07 12:36:56 -0400 (Fri, 07 Aug 2020).

TO THE DEVELOPERS/MAINTAINERS OF THE CEMiTool PACKAGE: Please make sure to use the following settings in order to reproduce any error or warning you see on this page.
Package 250/1882HostnameOS / ArchINSTALLBUILDCHECKBUILD BIN
CEMiTool 1.13.1
Helder Nakaya
Snapshot Date: 2020-08-06 14:50:46 -0400 (Thu, 06 Aug 2020)
URL: https://git.bioconductor.org/packages/CEMiTool
Branch: master
Last Commit: 18c5654
Last Changed Date: 2020-07-02 12:14:01 -0400 (Thu, 02 Jul 2020)
malbec1 Linux (Ubuntu 18.04.4 LTS) / x86_64  OK  OK  OK UNNEEDED, same version exists in internal repository
tokay1 Windows Server 2012 R2 Standard / x64  OK  OK  OK  OK UNNEEDED, same version exists in internal repository
merida1 macOS 10.14.6 Mojave / x86_64  OK  OK  OK [ OK ]UNNEEDED, same version exists in internal repository

Summary

Package: CEMiTool
Version: 1.13.1
Command: rm -rf CEMiTool.buildbin-libdir && mkdir CEMiTool.buildbin-libdir && /Users/biocbuild/BBS/utils/build-universal.sh CEMiTool_1.13.1.tar.gz /Library/Frameworks/R.framework/Versions/Current/Resources/bin/R CEMiTool.buildbin-libdir
StartedAt: 2020-08-07 07:23:11 -0400 (Fri, 07 Aug 2020)
EndedAt: 2020-08-07 07:24:05 -0400 (Fri, 07 Aug 2020)
EllapsedTime: 53.5 seconds
RetCode: 0
Status:  OK 
PackageFile: CEMiTool_1.13.1.tgz
PackageFileSize: 4.676 MiB

Command output

##############################################################################
##############################################################################
###
### Running command:
###
###   rm -rf CEMiTool.buildbin-libdir && mkdir CEMiTool.buildbin-libdir && /Users/biocbuild/BBS/utils/build-universal.sh CEMiTool_1.13.1.tar.gz /Library/Frameworks/R.framework/Versions/Current/Resources/bin/R CEMiTool.buildbin-libdir
###
##############################################################################
##############################################################################


>>>>>>> 
>>>>>>> INSTALLATION WITH 'R CMD INSTALL --preclean --no-multiarch --library=CEMiTool.buildbin-libdir CEMiTool_1.13.1.tar.gz'
>>>>>>> 

* installing *source* package ‘CEMiTool’ ...
** using staged installation
** R
** data
*** moving datasets to lazyload DB
** exec
** inst
** byte-compile and prepare package for lazy loading
** help
*** installing help indices
** building package indices
** installing vignettes
** testing if installed package can be loaded from temporary location
** testing if installed package can be loaded from final location
** testing if installed package keeps a record of temporary installation path
* DONE (CEMiTool)