Back to Multiple platform build/check report for BioC 3.12
[A]BCDEFGHIJKLMNOPQRSTUVWXYZ

BUILD BIN report for ArrayExpress on tokay1

This page was generated on 2020-08-13 11:35:08 -0400 (Thu, 13 Aug 2020).

TO THE DEVELOPERS/MAINTAINERS OF THE ArrayExpress PACKAGE: Please make sure to use the following settings in order to reproduce any error or warning you see on this page.
Package 75/1885HostnameOS / ArchINSTALLBUILDCHECKBUILD BIN
ArrayExpress 1.49.0
Suhaib Mohammed
Snapshot Date: 2020-08-12 14:52:00 -0400 (Wed, 12 Aug 2020)
URL: https://git.bioconductor.org/packages/ArrayExpress
Branch: master
Last Commit: 99c772d
Last Changed Date: 2020-04-27 14:18:09 -0400 (Mon, 27 Apr 2020)
malbec1 Linux (Ubuntu 18.04.4 LTS) / x86_64  OK  OK  OK UNNEEDED, same version exists in internal repository
nebbiolo1 Linux (Ubuntu 20.04.1 LTS) / x86_64  OK  OK  OK 
tokay1 Windows Server 2012 R2 Standard / x64  OK  OK  OK [ OK ]UNNEEDED, same version exists in internal repository
merida1 macOS 10.14.6 Mojave / x86_64  OK  OK  OK  OK UNNEEDED, same version exists in internal repository

Summary

Package: ArrayExpress
Version: 1.49.0
Command: rm -rf ArrayExpress.buildbin-libdir && mkdir ArrayExpress.buildbin-libdir && C:\Users\biocbuild\bbs-3.12-bioc\R\bin\R.exe CMD INSTALL --merge-multiarch --build --library=ArrayExpress.buildbin-libdir ArrayExpress_1.49.0.tar.gz
StartedAt: 2020-08-13 07:27:51 -0400 (Thu, 13 Aug 2020)
EndedAt: 2020-08-13 07:28:43 -0400 (Thu, 13 Aug 2020)
EllapsedTime: 52.5 seconds
RetCode: 0
Status:  OK  
PackageFile: ArrayExpress_1.49.0.zip
PackageFileSize: 258 KiB

Command output

##############################################################################
##############################################################################
###
### Running command:
###
###   rm -rf ArrayExpress.buildbin-libdir && mkdir ArrayExpress.buildbin-libdir && C:\Users\biocbuild\bbs-3.12-bioc\R\bin\R.exe CMD INSTALL --merge-multiarch --build --library=ArrayExpress.buildbin-libdir ArrayExpress_1.49.0.tar.gz
###
##############################################################################
##############################################################################



install for i386

* installing *source* package 'ArrayExpress' ...
** using staged installation
** R
** inst
** byte-compile and prepare package for lazy loading
No methods found in package 'RSQLite' for request: 'dbListFields' when loading 'oligo'
** help
*** installing help indices
  converting help for package 'ArrayExpress'
    finding HTML links ... done
    ArrayExpress                            html  
    ae2bioc                                 html  
    extract.zip                             html  
    getAE                                   html  
    getcolproc                              html  
    getcolraw                               html  
    procset                                 html  
    queryAE                                 html  
** building package indices
** installing vignettes
** testing if installed package can be loaded from temporary location
No methods found in package 'RSQLite' for request: 'dbListFields' when loading 'oligo'
** testing if installed package can be loaded from final location
No methods found in package 'RSQLite' for request: 'dbListFields' when loading 'oligo'
** testing if installed package keeps a record of temporary installation path

install for x64

* installing *source* package 'ArrayExpress' ...
** testing if installed package can be loaded
No methods found in package 'RSQLite' for request: 'dbListFields' when loading 'oligo'
* MD5 sums
packaged installation of 'ArrayExpress' as ArrayExpress_1.49.0.zip
* DONE (ArrayExpress)