Back to Multiple platform build/check report for BioC 3.12
[A]BCDEFGHIJKLMNOPQRSTUVWXYZ

BUILD BIN report for altcdfenvs on merida1

This page was generated on 2020-08-07 12:21:50 -0400 (Fri, 07 Aug 2020).

TO THE DEVELOPERS/MAINTAINERS OF THE altcdfenvs PACKAGE: Please make sure to use the following settings in order to reproduce any error or warning you see on this page.
Package 47/1882HostnameOS / ArchINSTALLBUILDCHECKBUILD BIN
altcdfenvs 2.51.0
Laurent Gautier
Snapshot Date: 2020-08-06 14:50:46 -0400 (Thu, 06 Aug 2020)
URL: https://git.bioconductor.org/packages/altcdfenvs
Branch: master
Last Commit: ce94335
Last Changed Date: 2020-04-27 14:09:31 -0400 (Mon, 27 Apr 2020)
malbec1 Linux (Ubuntu 18.04.4 LTS) / x86_64  OK  OK  OK UNNEEDED, same version exists in internal repository
tokay1 Windows Server 2012 R2 Standard / x64  OK  OK  OK  OK UNNEEDED, same version exists in internal repository
merida1 macOS 10.14.6 Mojave / x86_64  OK  OK  OK [ OK ]UNNEEDED, same version exists in internal repository

Summary

Package: altcdfenvs
Version: 2.51.0
Command: rm -rf altcdfenvs.buildbin-libdir && mkdir altcdfenvs.buildbin-libdir && /Users/biocbuild/BBS/utils/build-universal.sh altcdfenvs_2.51.0.tar.gz /Library/Frameworks/R.framework/Versions/Current/Resources/bin/R altcdfenvs.buildbin-libdir
StartedAt: 2020-08-07 05:53:42 -0400 (Fri, 07 Aug 2020)
EndedAt: 2020-08-07 05:54:40 -0400 (Fri, 07 Aug 2020)
EllapsedTime: 57.5 seconds
RetCode: 0
Status:  OK 
PackageFile: altcdfenvs_2.51.0.tgz
PackageFileSize: 822.7 KiB

Command output

##############################################################################
##############################################################################
###
### Running command:
###
###   rm -rf altcdfenvs.buildbin-libdir && mkdir altcdfenvs.buildbin-libdir && /Users/biocbuild/BBS/utils/build-universal.sh altcdfenvs_2.51.0.tar.gz /Library/Frameworks/R.framework/Versions/Current/Resources/bin/R altcdfenvs.buildbin-libdir
###
##############################################################################
##############################################################################


>>>>>>> 
>>>>>>> INSTALLATION WITH 'R CMD INSTALL --preclean --no-multiarch --library=altcdfenvs.buildbin-libdir altcdfenvs_2.51.0.tar.gz'
>>>>>>> 

* installing *source* package ‘altcdfenvs’ ...
** using staged installation
** R
** data
** inst
** byte-compile and prepare package for lazy loading
NOTE: arguments in definition for validity method for class 'AffyProbesMatch' changed from (obj) to (object)
in method for ‘toHypergraph’ with signature ‘"CdfEnvAffy"’: no definition for class “CdfEnvAffy”
** help
*** installing help indices
** building package indices
** installing vignettes
** testing if installed package can be loaded from temporary location
** testing if installed package can be loaded from final location
** testing if installed package keeps a record of temporary installation path
* DONE (altcdfenvs)