Back to Multiple platform build/check report for BioC 3.12
A[B]CDEFGHIJKLMNOPQRSTUVWXYZ

BUILD BIN report for BEARscc on merida1

This page was generated on 2020-08-09 12:38:41 -0400 (Sun, 09 Aug 2020).

TO THE DEVELOPERS/MAINTAINERS OF THE BEARscc PACKAGE: Please make sure to use the following settings in order to reproduce any error or warning you see on this page.
Package 129/1882HostnameOS / ArchINSTALLBUILDCHECKBUILD BIN
BEARscc 1.9.1
Benjamin Schuster-Boeckler
Snapshot Date: 2020-08-08 14:51:01 -0400 (Sat, 08 Aug 2020)
URL: https://git.bioconductor.org/packages/BEARscc
Branch: master
Last Commit: 3860d28
Last Changed Date: 2020-06-02 23:17:57 -0400 (Tue, 02 Jun 2020)
malbec1 Linux (Ubuntu 18.04.4 LTS) / x86_64  OK  OK  OK UNNEEDED, same version exists in internal repository
nebbiolo1 Linux (Ubuntu 20.04.1 LTS) / x86_64  OK  OK  OK 
tokay1 Windows Server 2012 R2 Standard / x64  OK  OK  OK  OK UNNEEDED, same version exists in internal repository
merida1 macOS 10.14.6 Mojave / x86_64  OK  OK  OK [ OK ]UNNEEDED, same version exists in internal repository

Summary

Package: BEARscc
Version: 1.9.1
Command: rm -rf BEARscc.buildbin-libdir && mkdir BEARscc.buildbin-libdir && /Users/biocbuild/BBS/utils/build-universal.sh BEARscc_1.9.1.tar.gz /Library/Frameworks/R.framework/Versions/Current/Resources/bin/R BEARscc.buildbin-libdir
StartedAt: 2020-08-09 07:23:10 -0400 (Sun, 09 Aug 2020)
EndedAt: 2020-08-09 07:23:54 -0400 (Sun, 09 Aug 2020)
EllapsedTime: 44.1 seconds
RetCode: 0
Status:  OK 
PackageFile: BEARscc_1.9.1.tgz
PackageFileSize: 676.2 KiB

Command output

##############################################################################
##############################################################################
###
### Running command:
###
###   rm -rf BEARscc.buildbin-libdir && mkdir BEARscc.buildbin-libdir && /Users/biocbuild/BBS/utils/build-universal.sh BEARscc_1.9.1.tar.gz /Library/Frameworks/R.framework/Versions/Current/Resources/bin/R BEARscc.buildbin-libdir
###
##############################################################################
##############################################################################


>>>>>>> 
>>>>>>> INSTALLATION WITH 'R CMD INSTALL --preclean --no-multiarch --library=BEARscc.buildbin-libdir BEARscc_1.9.1.tar.gz'
>>>>>>> 

* installing *source* package ‘BEARscc’ ...
** using staged installation
** R
** data
** inst
** byte-compile and prepare package for lazy loading
** help
*** installing help indices
** building package indices
** installing vignettes
** testing if installed package can be loaded from temporary location
** testing if installed package can be loaded from final location
** testing if installed package keeps a record of temporary installation path
* DONE (BEARscc)