Back to Multiple platform build/check report for BioC 3.12
A[B]CDEFGHIJKLMNOPQRSTUVWXYZ

BUILD BIN report for BiFET on merida1

This page was generated on 2020-08-07 12:37:48 -0400 (Fri, 07 Aug 2020).

TO THE DEVELOPERS/MAINTAINERS OF THE BiFET PACKAGE: Please make sure to use the following settings in order to reproduce any error or warning you see on this page.
Package 138/1882HostnameOS / ArchINSTALLBUILDCHECKBUILD BIN
BiFET 1.9.0
Ahrim Youn
Snapshot Date: 2020-08-06 14:50:46 -0400 (Thu, 06 Aug 2020)
URL: https://git.bioconductor.org/packages/BiFET
Branch: master
Last Commit: a8b7789
Last Changed Date: 2020-04-27 15:13:03 -0400 (Mon, 27 Apr 2020)
malbec1 Linux (Ubuntu 18.04.4 LTS) / x86_64  OK  OK  OK UNNEEDED, same version exists in internal repository
tokay1 Windows Server 2012 R2 Standard / x64  OK  OK  OK  OK UNNEEDED, same version exists in internal repository
merida1 macOS 10.14.6 Mojave / x86_64  OK  OK  OK [ OK ]UNNEEDED, same version exists in internal repository

Summary

Package: BiFET
Version: 1.9.0
Command: rm -rf BiFET.buildbin-libdir && mkdir BiFET.buildbin-libdir && /Users/biocbuild/BBS/utils/build-universal.sh BiFET_1.9.0.tar.gz /Library/Frameworks/R.framework/Versions/Current/Resources/bin/R BiFET.buildbin-libdir
StartedAt: 2020-08-07 07:29:01 -0400 (Fri, 07 Aug 2020)
EndedAt: 2020-08-07 07:29:57 -0400 (Fri, 07 Aug 2020)
EllapsedTime: 55.8 seconds
RetCode: 0
Status:  OK 
PackageFile: BiFET_1.9.0.tgz
PackageFileSize: 749.3 KiB

Command output

##############################################################################
##############################################################################
###
### Running command:
###
###   rm -rf BiFET.buildbin-libdir && mkdir BiFET.buildbin-libdir && /Users/biocbuild/BBS/utils/build-universal.sh BiFET_1.9.0.tar.gz /Library/Frameworks/R.framework/Versions/Current/Resources/bin/R BiFET.buildbin-libdir
###
##############################################################################
##############################################################################


>>>>>>> 
>>>>>>> INSTALLATION WITH 'R CMD INSTALL --preclean --no-multiarch --library=BiFET.buildbin-libdir BiFET_1.9.0.tar.gz'
>>>>>>> 

* installing *source* package ‘BiFET’ ...
** using staged installation
** R
** inst
** byte-compile and prepare package for lazy loading
** help
*** installing help indices
** building package indices
** installing vignettes
** testing if installed package can be loaded from temporary location
** testing if installed package can be loaded from final location
** testing if installed package keeps a record of temporary installation path
* DONE (BiFET)