Back to Multiple platform build/check report for BioC 3.12
A[B]CDEFGHIJKLMNOPQRSTUVWXYZ

CHECK report for BgeeDB on merida1

This page was generated on 2020-08-12 11:59:44 -0400 (Wed, 12 Aug 2020).

TO THE DEVELOPERS/MAINTAINERS OF THE BgeeDB PACKAGE: Please make sure to use the following settings in order to reproduce any error or warning you see on this page.
Package 133/1885HostnameOS / ArchINSTALLBUILDCHECKBUILD BIN
BgeeDB 2.15.4
Julien Wollbrett , Julien Roux , Andrea Komljenovic , Frederic Bastian
Snapshot Date: 2020-08-11 14:50:16 -0400 (Tue, 11 Aug 2020)
URL: https://git.bioconductor.org/packages/BgeeDB
Branch: master
Last Commit: 0541e44
Last Changed Date: 2020-06-02 05:16:26 -0400 (Tue, 02 Jun 2020)
malbec1 Linux (Ubuntu 18.04.4 LTS) / x86_64  OK  OK  OK UNNEEDED, same version exists in internal repository
nebbiolo1 Linux (Ubuntu 20.04.1 LTS) / x86_64  OK  OK  OK 
tokay1 Windows Server 2012 R2 Standard / x64  OK  OK  OK  OK UNNEEDED, same version exists in internal repository
merida1 macOS 10.14.6 Mojave / x86_64  OK  OK [ OK ] OK UNNEEDED, same version exists in internal repository

Summary

Package: BgeeDB
Version: 2.15.4
Command: /Library/Frameworks/R.framework/Versions/Current/Resources/bin/R CMD check --install=check:BgeeDB.install-out.txt --library=/Library/Frameworks/R.framework/Versions/Current/Resources/library --no-vignettes --timings BgeeDB_2.15.4.tar.gz
StartedAt: 2020-08-12 02:10:08 -0400 (Wed, 12 Aug 2020)
EndedAt: 2020-08-12 02:27:37 -0400 (Wed, 12 Aug 2020)
EllapsedTime: 1049.4 seconds
RetCode: 0
Status:  OK 
CheckDir: BgeeDB.Rcheck
Warnings: 0

Command output

##############################################################################
##############################################################################
###
### Running command:
###
###   /Library/Frameworks/R.framework/Versions/Current/Resources/bin/R CMD check --install=check:BgeeDB.install-out.txt --library=/Library/Frameworks/R.framework/Versions/Current/Resources/library --no-vignettes --timings BgeeDB_2.15.4.tar.gz
###
##############################################################################
##############################################################################


* using log directory ‘/Users/biocbuild/bbs-3.12-bioc/meat/BgeeDB.Rcheck’
* using R version 4.0.2 (2020-06-22)
* using platform: x86_64-apple-darwin17.0 (64-bit)
* using session charset: UTF-8
* using option ‘--no-vignettes’
* checking for file ‘BgeeDB/DESCRIPTION’ ... OK
* checking extension type ... Package
* this is package ‘BgeeDB’ version ‘2.15.4’
* checking package namespace information ... OK
* checking package dependencies ... OK
* checking if this is a source package ... OK
* checking if there is a namespace ... OK
* checking for hidden files and directories ... OK
* checking for portable file names ... OK
* checking for sufficient/correct file permissions ... OK
* checking whether package ‘BgeeDB’ can be installed ... OK
* checking installed package size ... OK
* checking package directory ... OK
* checking ‘build’ directory ... OK
* checking DESCRIPTION meta-information ... OK
* checking top-level files ... OK
* checking for left-over files ... OK
* checking index information ... OK
* checking package subdirectories ... OK
* checking R files for non-ASCII characters ... OK
* checking R files for syntax errors ... OK
* checking whether the package can be loaded ... OK
* checking whether the package can be loaded with stated dependencies ... OK
* checking whether the package can be unloaded cleanly ... OK
* checking whether the namespace can be loaded with stated dependencies ... OK
* checking whether the namespace can be unloaded cleanly ... OK
* checking dependencies in R code ... OK
* checking S3 generic/method consistency ... OK
* checking replacement functions ... OK
* checking foreign function calls ... OK
* checking R code for possible problems ... OK
* checking Rd files ... OK
* checking Rd metadata ... OK
* checking Rd cross-references ... OK
* checking for missing documentation entries ... OK
* checking for code/documentation mismatches ... OK
* checking Rd \usage sections ... OK
* checking Rd contents ... OK
* checking for unstated dependencies in examples ... OK
* checking contents of ‘data’ directory ... OK
* checking data for non-ASCII characters ... OK
* checking data for ASCII and uncompressed saves ... OK
* checking files in ‘vignettes’ ... OK
* checking examples ... OK
Examples with CPU (user + system) or elapsed time > 5s
                   user system elapsed
getData         444.504 36.889 503.226
geneList         16.350  0.600  48.225
makeTable        12.298  1.084 165.012
formatData        4.967  0.336  12.171
topAnat           2.599  0.799   9.302
loadTopAnatData   2.211  0.212  36.449
listBgeeSpecies   0.110  0.023   8.097
* checking for unstated dependencies in ‘tests’ ... OK
* checking tests ...
  Running ‘testthat.R’
 OK
* checking for unstated dependencies in vignettes ... OK
* checking package vignettes in ‘inst/doc’ ... OK
* checking running R code from vignettes ... SKIPPED
* checking re-building of vignette outputs ... SKIPPED
* checking PDF version of manual ... OK
* DONE

Status: OK


Installation output

BgeeDB.Rcheck/00install.out

##############################################################################
##############################################################################
###
### Running command:
###
###   /Library/Frameworks/R.framework/Versions/Current/Resources/bin/R CMD INSTALL BgeeDB
###
##############################################################################
##############################################################################


* installing to library ‘/Library/Frameworks/R.framework/Versions/4.0/Resources/library’
* installing *source* package ‘BgeeDB’ ...
** using staged installation
** R
** data
** inst
** byte-compile and prepare package for lazy loading

groupGOTerms: 	GOBPTerm, GOMFTerm, GOCCTerm environments built.
** help
*** installing help indices
** building package indices
** installing vignettes
** testing if installed package can be loaded from temporary location

groupGOTerms: 	GOBPTerm, GOMFTerm, GOCCTerm environments built.
** testing if installed package can be loaded from final location

groupGOTerms: 	GOBPTerm, GOMFTerm, GOCCTerm environments built.
** testing if installed package keeps a record of temporary installation path
* DONE (BgeeDB)

Tests output

BgeeDB.Rcheck/tests/testthat.Rout


R version 4.0.2 (2020-06-22) -- "Taking Off Again"
Copyright (C) 2020 The R Foundation for Statistical Computing
Platform: x86_64-apple-darwin17.0 (64-bit)

R is free software and comes with ABSOLUTELY NO WARRANTY.
You are welcome to redistribute it under certain conditions.
Type 'license()' or 'licence()' for distribution details.

R is a collaborative project with many contributors.
Type 'contributors()' for more information and
'citation()' on how to cite R or R packages in publications.

Type 'demo()' for some demos, 'help()' for on-line help, or
'help.start()' for an HTML browser interface to help.
Type 'q()' to quit R.

> library(testthat)
> library(BgeeDB)
Loading required package: topGO
Loading required package: BiocGenerics
Loading required package: parallel

Attaching package: 'BiocGenerics'

The following objects are masked from 'package:parallel':

    clusterApply, clusterApplyLB, clusterCall, clusterEvalQ,
    clusterExport, clusterMap, parApply, parCapply, parLapply,
    parLapplyLB, parRapply, parSapply, parSapplyLB

The following objects are masked from 'package:stats':

    IQR, mad, sd, var, xtabs

The following objects are masked from 'package:base':

    Filter, Find, Map, Position, Reduce, anyDuplicated, append,
    as.data.frame, basename, cbind, colnames, dirname, do.call,
    duplicated, eval, evalq, get, grep, grepl, intersect, is.unsorted,
    lapply, mapply, match, mget, order, paste, pmax, pmax.int, pmin,
    pmin.int, rank, rbind, rownames, sapply, setdiff, sort, table,
    tapply, union, unique, unsplit, which.max, which.min

Loading required package: graph
Loading required package: Biobase
Welcome to Bioconductor

    Vignettes contain introductory material; view with
    'browseVignettes()'. To cite Bioconductor, see
    'citation("Biobase")', and for packages 'citation("pkgname")'.

Loading required package: GO.db
Loading required package: AnnotationDbi
Loading required package: stats4
Loading required package: IRanges
Loading required package: S4Vectors

Attaching package: 'S4Vectors'

The following object is masked from 'package:base':

    expand.grid


Loading required package: SparseM

Attaching package: 'SparseM'

The following object is masked from 'package:base':

    backsolve


groupGOTerms: 	GOBPTerm, GOMFTerm, GOCCTerm environments built.

Attaching package: 'topGO'

The following object is masked from 'package:IRanges':

    members

Loading required package: tidyr

Attaching package: 'tidyr'

The following object is masked from 'package:S4Vectors':

    expand

The following object is masked from 'package:testthat':

    matches

> 
> Sys.setenv("R_TESTS" = "")
> test_check("BgeeDB")

Querying Bgee to get release information...

Building URL to query species in Bgee release 14_1...

Submitting URL to Bgee webservice... (https://r.bgee.org/bgee14_1/?page=r_package&action=get_all_species&display_type=tsv&source=BgeeDB_R_package&source_version=2.15.4)

Query to Bgee webservice successful!

API key built: 131063dbbba45f0cbde14e83aef5c1be85b99f537ce4a03d35fe873727a91572c2ca72496151de820d522e08174ebf42e6564f491c73f42dedcf5cfd28aa416b

Saved annotation files in /Users/biocbuild/bbs-3.12-bioc/meat/BgeeDB.Rcheck/tests/testthat/Mus_musculus_Bgee_14_1 folder.

Extracting expression data matrix...
  Keeping only present genes.

Extracting features information...

Extracting samples information...

Extracting expression data matrix...
  Keeping only present genes.

Extracting features information...

Extracting samples information...

Extracting expression data matrix...
  Keeping only present genes.

Extracting features information...

Extracting samples information...

Querying Bgee to get release information...

Building URL to query species in Bgee release 13_2...

Submitting URL to Bgee webservice... (https://r.bgee.org/bgee13/?page=species&display_type=tsv&source=BgeeDB_R_package&source_version=2.15.4)

Query to Bgee webservice successful!

API key built: 131063dbbba45f0cbde14e83aef5c1be85b99f537ce4a03d35fe873727a91572c2ca72496151de820d522e08174ebf42e6564f491c73f42dedcf5cfd28aa416b

IMPORTANT INFORMATION: Be careful! You are not using the last release of the Bgee database! If it is not intentional you should update to the last version of Bioconductor and of the BgeeDB package. To update Bioconductor, see https://www.bioconductor.org/install/

Saved annotation files in /Users/biocbuild/bbs-3.12-bioc/meat/BgeeDB.Rcheck/tests/testthat/Mus_musculus_Bgee_13_2 folder.

Extracting expression data matrix...
  Keeping only present genes.

Extracting features information...

Extracting samples information...

Extracting expression data matrix...
  Keeping only present genes.

Extracting features information...

Extracting samples information...

Querying Bgee to get release information...

NOTE: the file describing Bgee species information for release 14_1 was found in the download directory /Users/biocbuild/bbs-3.12-bioc/meat/BgeeDB.Rcheck/tests/testthat. Data will not be redownloaded.

API key built: 131063dbbba45f0cbde14e83aef5c1be85b99f537ce4a03d35fe873727a91572c2ca72496151de820d522e08174ebf42e6564f491c73f42dedcf5cfd28aa416b

NOTE: annotation files for this species were found in the download directory /Users/biocbuild/bbs-3.12-bioc/meat/BgeeDB.Rcheck/tests/testthat/Mus_musculus_Bgee_14_1. Data will not be redownloaded.

Querying Bgee to get release information...

NOTE: the file describing Bgee species information for release 14_1 was found in the download directory /Users/biocbuild/bbs-3.12-bioc/meat/BgeeDB.Rcheck/tests/testthat. Data will not be redownloaded.

API key built: 131063dbbba45f0cbde14e83aef5c1be85b99f537ce4a03d35fe873727a91572c2ca72496151de820d522e08174ebf42e6564f491c73f42dedcf5cfd28aa416b

Saved annotation files in /Users/biocbuild/bbs-3.12-bioc/meat/BgeeDB.Rcheck/tests/testthat/Mus_musculus_Bgee_14_1 folder.

Querying Bgee to get release information...

NOTE: the file describing Bgee species information for release 13_2 was found in the download directory /Users/biocbuild/bbs-3.12-bioc/meat/BgeeDB.Rcheck/tests/testthat. Data will not be redownloaded.

API key built: 131063dbbba45f0cbde14e83aef5c1be85b99f537ce4a03d35fe873727a91572c2ca72496151de820d522e08174ebf42e6564f491c73f42dedcf5cfd28aa416b

IMPORTANT INFORMATION: Be careful! You are not using the last release of the Bgee database! If it is not intentional you should update to the last version of Bioconductor and of the BgeeDB package. To update Bioconductor, see https://www.bioconductor.org/install/

NOTE: annotation files for this species were found in the download directory /Users/biocbuild/bbs-3.12-bioc/meat/BgeeDB.Rcheck/tests/testthat/Mus_musculus_Bgee_13_2. Data will not be redownloaded.

Querying Bgee to get release information...

NOTE: the file describing Bgee species information for release 13_2 was found in the download directory /Users/biocbuild/bbs-3.12-bioc/meat/BgeeDB.Rcheck/tests/testthat. Data will not be redownloaded.

API key built: 131063dbbba45f0cbde14e83aef5c1be85b99f537ce4a03d35fe873727a91572c2ca72496151de820d522e08174ebf42e6564f491c73f42dedcf5cfd28aa416b

IMPORTANT INFORMATION: Be careful! You are not using the last release of the Bgee database! If it is not intentional you should update to the last version of Bioconductor and of the BgeeDB package. To update Bioconductor, see https://www.bioconductor.org/install/

Saved annotation files in /Users/biocbuild/bbs-3.12-bioc/meat/BgeeDB.Rcheck/tests/testthat/Mus_musculus_Bgee_13_2 folder.

Querying Bgee to get release information...

Building URL to query species in Bgee release 14_1...

Submitting URL to Bgee webservice... (https://r.bgee.org/bgee14_1/?page=r_package&action=get_all_species&display_type=tsv&source=BgeeDB_R_package&source_version=2.15.4)

Query to Bgee webservice successful!

Querying Bgee to get release information...

Building URL to query species in Bgee release 14_1...

Submitting URL to Bgee webservice... (https://r.bgee.org/bgee14_1/?page=r_package&action=get_all_species&display_type=tsv&source=BgeeDB_R_package&source_version=2.15.4)

Query to Bgee webservice successful!

API key built: 131063dbbba45f0cbde14e83aef5c1be85b99f537ce4a03d35fe873727a91572c2ca72496151de820d522e08174ebf42e6564f491c73f42dedcf5cfd28aa416b

Building URLs to retrieve organ relationships from Bgee.........
   URL successfully built (https://r.bgee.org/bgee14_1/?page=r_package&action=get_anat_entity_relations&display_type=tsv&species_list=9913&attr_list=SOURCE_ID&attr_list=TARGET_ID&api_key=131063dbbba45f0cbde14e83aef5c1be85b99f537ce4a03d35fe873727a91572c2ca72496151de820d522e08174ebf42e6564f491c73f42dedcf5cfd28aa416b&source=BgeeDB_R_package&source_version=2.15.4)
   Submitting URL to Bgee webservice (can be long)
   Got results from Bgee webservice. Files are written in "/Users/biocbuild/bbs-3.12-bioc/meat/BgeeDB.Rcheck/tests/testthat/Bos_taurus_Bgee_14_1"

Building URLs to retrieve organ names from Bgee.................
   URL successfully built (https://r.bgee.org/bgee14_1/?page=r_package&action=get_anat_entities&display_type=tsv&species_list=9913&attr_list=ID&attr_list=NAME&api_key=131063dbbba45f0cbde14e83aef5c1be85b99f537ce4a03d35fe873727a91572c2ca72496151de820d522e08174ebf42e6564f491c73f42dedcf5cfd28aa416b&source=BgeeDB_R_package&source_version=2.15.4)
   Submitting URL to Bgee webservice (can be long)
   Got results from Bgee webservice. Files are written in "/Users/biocbuild/bbs-3.12-bioc/meat/BgeeDB.Rcheck/tests/testthat/Bos_taurus_Bgee_14_1"

Building URLs to retrieve mapping of gene to organs from Bgee...
   URL successfully built (https://r.bgee.org/bgee14_1/?page=r_package&action=get_expression_calls&display_type=tsv&species_list=9913&attr_list=GENE_ID&attr_list=ANAT_ENTITY_ID&api_key=131063dbbba45f0cbde14e83aef5c1be85b99f537ce4a03d35fe873727a91572c2ca72496151de820d522e08174ebf42e6564f491c73f42dedcf5cfd28aa416b&source=BgeeDB_R_package&source_version=2.15.4&data_type=RNA_SEQ&data_qual=SILVER&stage_id=UBERON:0000092)
   Submitting URL to Bgee webservice (can be long)
   Got results from Bgee webservice. Files are written in "/Users/biocbuild/bbs-3.12-bioc/meat/BgeeDB.Rcheck/tests/testthat/Bos_taurus_Bgee_14_1"

Parsing the results.............................................

Adding BGEE:0 as unique root of all terms of the ontology.......

Done.

Querying Bgee to get release information...

NOTE: the file describing Bgee species information for release 14_1 was found in the download directory /Users/biocbuild/bbs-3.12-bioc/meat/BgeeDB.Rcheck/tests/testthat. Data will not be redownloaded.

API key built: 131063dbbba45f0cbde14e83aef5c1be85b99f537ce4a03d35fe873727a91572c2ca72496151de820d522e08174ebf42e6564f491c73f42dedcf5cfd28aa416b

Saved annotation files in /Users/biocbuild/bbs-3.12-bioc/meat/BgeeDB.Rcheck/tests/testthat/Drosophila_simulans_Bgee_14_1 folder.

Querying Bgee to get release information...

NOTE: the file describing Bgee species information for release 14_1 was found in the download directory /Users/biocbuild/bbs-3.12-bioc/meat/BgeeDB.Rcheck/tests/testthat. Data will not be redownloaded.

API key built: 131063dbbba45f0cbde14e83aef5c1be85b99f537ce4a03d35fe873727a91572c2ca72496151de820d522e08174ebf42e6564f491c73f42dedcf5cfd28aa416b

NOTE: annotation files for this species were found in the download directory /Users/biocbuild/bbs-3.12-bioc/meat/BgeeDB.Rcheck/tests/testthat/Mus_musculus_Bgee_14_1. Data will not be redownloaded.

Querying Bgee to get release information...

NOTE: the file describing Bgee species information for release 14_1 was found in the download directory /Users/biocbuild/bbs-3.12-bioc/meat/BgeeDB.Rcheck/tests/testthat. Data will not be redownloaded.

API key built: 131063dbbba45f0cbde14e83aef5c1be85b99f537ce4a03d35fe873727a91572c2ca72496151de820d522e08174ebf42e6564f491c73f42dedcf5cfd28aa416b

NOTE: an organ relationships file was found in the download directory /Users/biocbuild/bbs-3.12-bioc/meat/BgeeDB.Rcheck/tests/testthat/Bos_taurus_Bgee_14_1. Data will not be redownloaded.

NOTE: an organ names file was found in the download directory /Users/biocbuild/bbs-3.12-bioc/meat/BgeeDB.Rcheck/tests/testthat/Bos_taurus_Bgee_14_1. Data will not be redownloaded.

NOTE: a gene to organs mapping file was found in the download directory /Users/biocbuild/bbs-3.12-bioc/meat/BgeeDB.Rcheck/tests/testthat/Bos_taurus_Bgee_14_1. Data will not be redownloaded.

Parsing the results.............................................

Adding BGEE:0 as unique root of all terms of the ontology.......

Done.

Checking topAnatData object.............

Checking gene list......................

Building most specific Ontology terms...  (  14  Ontology terms found. )

Building DAG topology...................  (  145  Ontology terms and  211  relations. )

Annotating nodes (Can be long)..........  (  97  genes annotated to the Ontology terms. )
══ testthat results  ═══════════════════════════════════════════════════════════
[ OK: 32 | SKIPPED: 0 | WARNINGS: 0 | FAILED: 0 ]
> 
> proc.time()
   user  system elapsed 
 29.919   2.032 108.324 

Example timings

BgeeDB.Rcheck/BgeeDB-Ex.timings

nameusersystemelapsed
Bgee-class0.1230.0134.597
deleteLocalData0.0170.0041.443
deleteOldData0.0160.0031.514
formatData 4.967 0.33612.171
geneList16.350 0.60048.225
getAnnotation0.0180.0041.400
getData444.504 36.889503.226
listBgeeRelease0.0090.0051.396
listBgeeSpecies0.1100.0238.097
loadTopAnatData 2.211 0.21236.449
makeTable 12.298 1.084165.012
topAnat2.5990.7999.302