Back to Multiple platform build/check report for BioC 3.12
A[B]CDEFGHIJKLMNOPQRSTUVWXYZ

INSTALL report for beadarraySNP on merida1

This page was generated on 2020-08-13 11:48:29 -0400 (Thu, 13 Aug 2020).

TO THE DEVELOPERS/MAINTAINERS OF THE beadarraySNP PACKAGE: Please make sure to use the following settings in order to reproduce any error or warning you see on this page.
Package 127/1885HostnameOS / ArchINSTALLBUILDCHECKBUILD BIN
beadarraySNP 1.55.0
Jan Oosting
Snapshot Date: 2020-08-12 14:52:00 -0400 (Wed, 12 Aug 2020)
URL: https://git.bioconductor.org/packages/beadarraySNP
Branch: master
Last Commit: 5922a97
Last Changed Date: 2020-04-27 14:13:54 -0400 (Mon, 27 Apr 2020)
malbec1 Linux (Ubuntu 18.04.4 LTS) / x86_64  OK  OK  OK UNNEEDED, same version exists in internal repository
nebbiolo1 Linux (Ubuntu 20.04.1 LTS) / x86_64  OK  OK  OK 
tokay1 Windows Server 2012 R2 Standard / x64  OK  OK  OK  OK UNNEEDED, same version exists in internal repository
merida1 macOS 10.14.6 Mojave / x86_64 [ OK ] OK  OK  OK UNNEEDED, same version exists in internal repository

Summary

Package: beadarraySNP
Version: 1.55.0
Command: /Library/Frameworks/R.framework/Versions/Current/Resources/bin/R CMD INSTALL beadarraySNP
StartedAt: 2020-08-12 16:21:17 -0400 (Wed, 12 Aug 2020)
EndedAt: 2020-08-12 16:22:01 -0400 (Wed, 12 Aug 2020)
EllapsedTime: 44.2 seconds
RetCode: 0
Status:  OK 

Command output

##############################################################################
##############################################################################
###
### Running command:
###
###   /Library/Frameworks/R.framework/Versions/Current/Resources/bin/R CMD INSTALL beadarraySNP
###
##############################################################################
##############################################################################


* installing to library ‘/Library/Frameworks/R.framework/Versions/4.0/Resources/library’
* installing *source* package ‘beadarraySNP’ ...
** using staged installation
** R
** data
** inst
** byte-compile and prepare package for lazy loading
** help
*** installing help indices
** building package indices
** installing vignettes
** testing if installed package can be loaded from temporary location
** testing if installed package can be loaded from final location
** testing if installed package keeps a record of temporary installation path
* DONE (beadarraySNP)