Back to Multiple platform build/check report for BioC 3.12
[A]BCDEFGHIJKLMNOPQRSTUVWXYZ

BUILD report for ALDEx2 on merida1

This page was generated on 2020-08-12 11:57:28 -0400 (Wed, 12 Aug 2020).

TO THE DEVELOPERS/MAINTAINERS OF THE ALDEx2 PACKAGE: Please make sure to use the following settings in order to reproduce any error or warning you see on this page.
Package 40/1885HostnameOS / ArchINSTALLBUILDCHECKBUILD BIN
ALDEx2 1.21.1
Greg Gloor
Snapshot Date: 2020-08-11 14:50:16 -0400 (Tue, 11 Aug 2020)
URL: https://git.bioconductor.org/packages/ALDEx2
Branch: master
Last Commit: 93c54f9
Last Changed Date: 2020-07-07 15:59:33 -0400 (Tue, 07 Jul 2020)
malbec1 Linux (Ubuntu 18.04.4 LTS) / x86_64  OK  OK  OK UNNEEDED, same version exists in internal repository
nebbiolo1 Linux (Ubuntu 20.04.1 LTS) / x86_64  OK  OK  OK 
tokay1 Windows Server 2012 R2 Standard / x64  OK  OK  OK  OK UNNEEDED, same version exists in internal repository
merida1 macOS 10.14.6 Mojave / x86_64  OK [ OK ] OK  OK UNNEEDED, same version exists in internal repository

Summary

Package: ALDEx2
Version: 1.21.1
Command: /Library/Frameworks/R.framework/Versions/Current/Resources/bin/R CMD build --keep-empty-dirs --no-resave-data ALDEx2
StartedAt: 2020-08-11 19:21:14 -0400 (Tue, 11 Aug 2020)
EndedAt: 2020-08-11 19:23:09 -0400 (Tue, 11 Aug 2020)
EllapsedTime: 115.4 seconds
RetCode: 0
Status:  OK 
PackageFile: ALDEx2_1.21.1.tar.gz
PackageFileSize: 1.247 MiB

Command output

##############################################################################
##############################################################################
###
### Running command:
###
###   /Library/Frameworks/R.framework/Versions/Current/Resources/bin/R CMD build --keep-empty-dirs --no-resave-data ALDEx2
###
##############################################################################
##############################################################################


* checking for file ‘ALDEx2/DESCRIPTION’ ... OK
* preparing ‘ALDEx2’:
* checking DESCRIPTION meta-information ... OK
* installing the package to build vignettes
* creating vignettes ... OK
* checking for LF line-endings in source and make files and shell scripts
* checking for empty or unneeded directories
* looking to see if a ‘data/datalist’ file should be added
* building ‘ALDEx2_1.21.1.tar.gz’