Back to Multiple platform build/check report for BioC 3.12
A[B]CDEFGHIJKLMNOPQRSTUVWXYZ

INSTALL report for BaalChIP on tokay1

This page was generated on 2020-09-19 10:20:17 -0400 (Sat, 19 Sep 2020).

TO THE DEVELOPERS/MAINTAINERS OF THE BaalChIP PACKAGE: Please make sure to use the following settings in order to reproduce any error or warning you see on this page.
Package 100/1912HostnameOS / ArchINSTALLBUILDCHECKBUILD BIN
BaalChIP 1.15.0
Ines de Santiago
Snapshot Date: 2020-09-18 14:43:25 -0400 (Fri, 18 Sep 2020)
URL: https://git.bioconductor.org/packages/BaalChIP
Branch: master
Last Commit: 53476ef
Last Changed Date: 2020-04-27 15:01:46 -0400 (Mon, 27 Apr 2020)
malbec1 Linux (Ubuntu 18.04.4 LTS) / x86_64  OK  OK  WARNINGS UNNEEDED, same version exists in internal repository
nebbiolo1 Linux (Ubuntu 20.04.1 LTS) / x86_64  OK  OK  WARNINGS 
tokay1 Windows Server 2012 R2 Standard / x64 [ OK ] OK  WARNINGS  OK UNNEEDED, same version exists in internal repository
riesling1 Windows Server 2019 Standard / x64  OK  OK  WARNINGS  OK 
merida1 macOS 10.14.6 Mojave / x86_64  OK  OK  WARNINGS  OK UNNEEDED, same version exists in internal repository

Summary

Package: BaalChIP
Version: 1.15.0
Command: C:\cygwin\bin\curl.exe -O https://malbec1.bioconductor.org/BBS/3.12/bioc/src/contrib/BaalChIP_1.15.0.tar.gz && rm -rf BaalChIP.buildbin-libdir && mkdir BaalChIP.buildbin-libdir && C:\Users\biocbuild\bbs-3.12-bioc\R\bin\R.exe CMD INSTALL --merge-multiarch --build --library=BaalChIP.buildbin-libdir BaalChIP_1.15.0.tar.gz && C:\Users\biocbuild\bbs-3.12-bioc\R\bin\R.exe CMD INSTALL BaalChIP_1.15.0.zip && rm BaalChIP_1.15.0.tar.gz BaalChIP_1.15.0.zip
StartedAt: 2020-09-18 18:10:10 -0400 (Fri, 18 Sep 2020)
EndedAt: 2020-09-18 18:14:19 -0400 (Fri, 18 Sep 2020)
EllapsedTime: 248.9 seconds
RetCode: 0
Status:  OK  

Command output

##############################################################################
##############################################################################
###
### Running command:
###
###   C:\cygwin\bin\curl.exe -O https://malbec1.bioconductor.org/BBS/3.12/bioc/src/contrib/BaalChIP_1.15.0.tar.gz && rm -rf BaalChIP.buildbin-libdir && mkdir BaalChIP.buildbin-libdir && C:\Users\biocbuild\bbs-3.12-bioc\R\bin\R.exe CMD INSTALL --merge-multiarch --build --library=BaalChIP.buildbin-libdir BaalChIP_1.15.0.tar.gz && C:\Users\biocbuild\bbs-3.12-bioc\R\bin\R.exe CMD INSTALL BaalChIP_1.15.0.zip && rm BaalChIP_1.15.0.tar.gz BaalChIP_1.15.0.zip
###
##############################################################################
##############################################################################


  % Total    % Received % Xferd  Average Speed   Time    Time     Time  Current
                                 Dload  Upload   Total   Spent    Left  Speed

  0     0    0     0    0     0      0      0 --:--:-- --:--:-- --:--:--     0
 69 44.3M   69 30.6M    0     0  77.9M      0 --:--:-- --:--:-- --:--:-- 78.6M
100 44.3M  100 44.3M    0     0  81.3M      0 --:--:-- --:--:-- --:--:-- 81.8M

install for i386

* installing *source* package 'BaalChIP' ...
** using staged installation
** R
** data
*** moving datasets to lazyload DB
** inst
** byte-compile and prepare package for lazy loading
** help
*** installing help indices
  converting help for package 'BaalChIP'
    finding HTML links ... done
    BaalChIP                                html  
    BaalChIP.get                            html  
    BaalChIP.report                         html  
    BaalChIP.run                            html  
    BaalObject                              html  
    ENCODEexample                           html  
    FAIREexample                            html  
    QCfilter                                html  
    UniqueMappability50bp_hg19              html  
    adjustmentBaalPlot                      html  
    alleleCounts                            html  
    blacklist_hg19                          html  
    filter1allele                           html  
    filterIntbias                           html  
    getASB                                  html  
    mergePerGroup                           html  
    pickrell2011cov1_hg19                   html  
    plotQC                                  html  
    plotSimul                               html  
    summaryASB                              html  
    summaryQC                               html  
** building package indices
** installing vignettes
** testing if installed package can be loaded from temporary location
** testing if installed package can be loaded from final location
** testing if installed package keeps a record of temporary installation path

install for x64

* installing *source* package 'BaalChIP' ...
** testing if installed package can be loaded
* MD5 sums
packaged installation of 'BaalChIP' as BaalChIP_1.15.0.zip
* DONE (BaalChIP)
* installing to library 'C:/Users/biocbuild/bbs-3.12-bioc/R/library'
package 'BaalChIP' successfully unpacked and MD5 sums checked