Back to Multiple platform build/check report for BioC 3.12
A[B]CDEFGHIJKLMNOPQRSTUVWXYZ

BUILD report for BaseSpaceR on malbec1

This page was generated on 2020-08-12 11:16:31 -0400 (Wed, 12 Aug 2020).

TO THE DEVELOPERS/MAINTAINERS OF THE BaseSpaceR PACKAGE: Please make sure to use the following settings in order to reproduce any error or warning you see on this page.
Package 110/1885HostnameOS / ArchINSTALLBUILDCHECKBUILD BIN
BaseSpaceR 1.33.0
Jared O'Connell
Snapshot Date: 2020-08-11 14:50:16 -0400 (Tue, 11 Aug 2020)
URL: https://git.bioconductor.org/packages/BaseSpaceR
Branch: master
Last Commit: f6aa2f5
Last Changed Date: 2020-04-27 14:33:50 -0400 (Mon, 27 Apr 2020)
malbec1 Linux (Ubuntu 18.04.4 LTS) / x86_64  OK [ OK ] OK UNNEEDED, same version exists in internal repository
nebbiolo1 Linux (Ubuntu 20.04.1 LTS) / x86_64  OK  OK  OK 
tokay1 Windows Server 2012 R2 Standard / x64  OK  OK  OK  OK UNNEEDED, same version exists in internal repository
merida1 macOS 10.14.6 Mojave / x86_64  OK  OK  OK  OK UNNEEDED, same version exists in internal repository

Summary

Package: BaseSpaceR
Version: 1.33.0
Command: /home/biocbuild/bbs-3.12-bioc/R/bin/R CMD build --keep-empty-dirs --no-resave-data BaseSpaceR
StartedAt: 2020-08-11 19:05:26 -0400 (Tue, 11 Aug 2020)
EndedAt: 2020-08-11 19:05:46 -0400 (Tue, 11 Aug 2020)
EllapsedTime: 20.1 seconds
RetCode: 0
Status:  OK 
PackageFile: BaseSpaceR_1.33.0.tar.gz
PackageFileSize: 463.3 KiB

Command output

##############################################################################
##############################################################################
###
### Running command:
###
###   /home/biocbuild/bbs-3.12-bioc/R/bin/R CMD build --keep-empty-dirs --no-resave-data BaseSpaceR
###
##############################################################################
##############################################################################


* checking for file ‘BaseSpaceR/DESCRIPTION’ ... OK
* preparing ‘BaseSpaceR’:
* checking DESCRIPTION meta-information ... OK
* installing the package to build vignettes
* creating vignettes ... OK
* checking for LF line-endings in source and make files and shell scripts
* checking for empty or unneeded directories
* looking to see if a ‘data/datalist’ file should be added
* building ‘BaseSpaceR_1.33.0.tar.gz’