Back to Multiple platform build/check report for BioC 3.12
AB[C]DEFGHIJKLMNOPQRSTUVWXYZ

BUILD BIN report for ccmap on tokay1

This page was generated on 2020-08-13 11:41:09 -0400 (Thu, 13 Aug 2020).

TO THE DEVELOPERS/MAINTAINERS OF THE ccmap PACKAGE: Please make sure to use the following settings in order to reproduce any error or warning you see on this page.
Package 234/1885HostnameOS / ArchINSTALLBUILDCHECKBUILD BIN
ccmap 1.15.0
Alex Pickering
Snapshot Date: 2020-08-12 14:52:00 -0400 (Wed, 12 Aug 2020)
URL: https://git.bioconductor.org/packages/ccmap
Branch: master
Last Commit: 80d6bb6
Last Changed Date: 2020-04-27 14:58:50 -0400 (Mon, 27 Apr 2020)
malbec1 Linux (Ubuntu 18.04.4 LTS) / x86_64  OK  OK  OK UNNEEDED, same version exists in internal repository
nebbiolo1 Linux (Ubuntu 20.04.1 LTS) / x86_64  OK  OK  OK 
tokay1 Windows Server 2012 R2 Standard / x64  OK  OK  OK [ OK ]UNNEEDED, same version exists in internal repository
merida1 macOS 10.14.6 Mojave / x86_64  OK  OK  OK  OK UNNEEDED, same version exists in internal repository

Summary

Package: ccmap
Version: 1.15.0
Command: rm -rf ccmap.buildbin-libdir && mkdir ccmap.buildbin-libdir && C:\Users\biocbuild\bbs-3.12-bioc\R\bin\R.exe CMD INSTALL --merge-multiarch --build --library=ccmap.buildbin-libdir ccmap_1.15.0.tar.gz
StartedAt: 2020-08-13 08:25:53 -0400 (Thu, 13 Aug 2020)
EndedAt: 2020-08-13 08:26:33 -0400 (Thu, 13 Aug 2020)
EllapsedTime: 40.3 seconds
RetCode: 0
Status:  OK  
PackageFile: ccmap_1.15.0.zip
PackageFileSize: 433.1 KiB

Command output

##############################################################################
##############################################################################
###
### Running command:
###
###   rm -rf ccmap.buildbin-libdir && mkdir ccmap.buildbin-libdir && C:\Users\biocbuild\bbs-3.12-bioc\R\bin\R.exe CMD INSTALL --merge-multiarch --build --library=ccmap.buildbin-libdir ccmap_1.15.0.tar.gz
###
##############################################################################
##############################################################################



install for i386

* installing *source* package 'ccmap' ...
** using staged installation
** R
** inst
** byte-compile and prepare package for lazy loading
** help
*** installing help indices
  converting help for package 'ccmap'
    finding HTML links ... done
    get_dprimes                             html  
    query_combos                            html  
    query_drugs                             html  
    sum_rowcolCumsum                        html  
** building package indices
** installing vignettes
** testing if installed package can be loaded from temporary location
** testing if installed package can be loaded from final location
** testing if installed package keeps a record of temporary installation path

install for x64

* installing *source* package 'ccmap' ...
** testing if installed package can be loaded
* MD5 sums
packaged installation of 'ccmap' as ccmap_1.15.0.zip
* DONE (ccmap)