Back to Multiple platform build/check report for BioC 3.12
A[B]CDEFGHIJKLMNOPQRSTUVWXYZ

BUILD report for BSgenome on merida1

This page was generated on 2020-08-09 12:22:25 -0400 (Sun, 09 Aug 2020).

TO THE DEVELOPERS/MAINTAINERS OF THE BSgenome PACKAGE: Please make sure to use the following settings in order to reproduce any error or warning you see on this page.
Package 202/1882HostnameOS / ArchINSTALLBUILDCHECKBUILD BIN
BSgenome 1.57.5
H. Pagès
Snapshot Date: 2020-08-08 14:51:01 -0400 (Sat, 08 Aug 2020)
URL: https://git.bioconductor.org/packages/BSgenome
Branch: master
Last Commit: 781c61d
Last Changed Date: 2020-07-20 17:17:06 -0400 (Mon, 20 Jul 2020)
malbec1 Linux (Ubuntu 18.04.4 LTS) / x86_64  OK  OK  WARNINGS UNNEEDED, same version exists in internal repository
nebbiolo1 Linux (Ubuntu 20.04.1 LTS) / x86_64  OK  OK  WARNINGS 
tokay1 Windows Server 2012 R2 Standard / x64  OK  OK  WARNINGS  OK UNNEEDED, same version exists in internal repository
merida1 macOS 10.14.6 Mojave / x86_64  OK [ OK ] WARNINGS  OK UNNEEDED, same version exists in internal repository

Summary

Package: BSgenome
Version: 1.57.5
Command: /Library/Frameworks/R.framework/Versions/Current/Resources/bin/R CMD build --keep-empty-dirs --no-resave-data BSgenome
StartedAt: 2020-08-08 17:59:40 -0400 (Sat, 08 Aug 2020)
EndedAt: 2020-08-08 18:01:28 -0400 (Sat, 08 Aug 2020)
EllapsedTime: 107.9 seconds
RetCode: 0
Status:  OK 
PackageFile: BSgenome_1.57.5.tar.gz
PackageFileSize: 5.789 MiB

Command output

##############################################################################
##############################################################################
###
### Running command:
###
###   /Library/Frameworks/R.framework/Versions/Current/Resources/bin/R CMD build --keep-empty-dirs --no-resave-data BSgenome
###
##############################################################################
##############################################################################


* checking for file ‘BSgenome/DESCRIPTION’ ... OK
* preparing ‘BSgenome’:
* checking DESCRIPTION meta-information ... OK
* installing the package to build vignettes
* creating vignettes ... OK
* checking for LF line-endings in source and make files and shell scripts
* checking for empty or unneeded directories
WARNING: directory ‘BSgenome/inst/pkgtemplates/BSgenome_datapkg/inst/extdata’ is empty
WARNING: directory ‘BSgenome/inst/pkgtemplates/MaskedBSgenome_datapkg/inst/extdata’ is empty
* building ‘BSgenome_1.57.5.tar.gz’
Warning in utils::tar(filepath, pkgname, compression = compression, compression_level = 9L,  :
  storing paths of more than 100 bytes is not portable:
  ‘BSgenome/inst/extdata/GentlemanLab/BSgenome.Gmellonella.NCBI.ASM364042v2-tools/fasta_to_sorted_2bit.R’