Back to Multiple platform build/check report for BioC 3.12
ABCDEF[G]HIJKLMNOPQRSTUVWXYZ

Multiple platform build/check report for BioC 3.12

Results for GGtools

This page was generated on 2020-10-25 12:00:40 -0400 (Sun, 25 Oct 2020).

Package 739/1974HostnameOS / ArchINSTALLBUILDCHECKBUILD BIN
GGtools 5.25.4
VJ Carey
Snapshot Date: 2020-10-24 14:40:19 -0400 (Sat, 24 Oct 2020)
URL: https://git.bioconductor.org/packages/GGtools
Branch: master
Last Commit: 9b228eb
Last Changed Date: 2020-08-17 10:13:13 -0400 (Mon, 17 Aug 2020)
malbec1 Linux (Ubuntu 18.04.4 LTS) / x86_64  OK  OK  ERROR 
nebbiolo1 Linux (Ubuntu 20.04.1 LTS) / x86_64  OK  OK  ERROR 
tokay1 Windows Server 2012 R2 Standard / x64  OK  OK  ERROR  OK 
riesling1 Windows Server 2019 Standard / x64  OK  OK  ERROR  OK 
merida1 macOS 10.14.6 Mojave / x86_64  OK  OK  ERROR  OK