Back to Multiple platform build/check report for BioC 3.12
[A]BCDEFGHIJKLMNOPQRSTUVWXYZ

BUILD BIN report for annotate on tokay1

This page was generated on 2020-08-06 11:48:37 -0400 (Thu, 06 Aug 2020).

TO THE DEVELOPERS/MAINTAINERS OF THE annotate PACKAGE: Please make sure to use the following settings in order to reproduce any error or warning you see on this page.
Package 57/1882HostnameOS / ArchINSTALLBUILDCHECKBUILD BIN
annotate 1.67.0
Bioconductor Package Maintainer
Snapshot Date: 2020-08-05 14:50:59 -0400 (Wed, 05 Aug 2020)
URL: https://git.bioconductor.org/packages/annotate
Branch: master
Last Commit: 9a6f339
Last Changed Date: 2020-04-27 14:07:46 -0400 (Mon, 27 Apr 2020)
malbec1 Linux (Ubuntu 18.04.4 LTS) / x86_64  OK  OK  OK UNNEEDED, same version exists in internal repository
tokay1 Windows Server 2012 R2 Standard / x64  OK  OK  OK [ OK ]UNNEEDED, same version exists in internal repository
merida1 macOS 10.14.6 Mojave / x86_64  OK  OK  OK  OK UNNEEDED, same version exists in internal repository

Summary

Package: annotate
Version: 1.67.0
Command: rm -rf annotate.buildbin-libdir && mkdir annotate.buildbin-libdir && C:\Users\biocbuild\bbs-3.12-bioc\R\bin\R.exe CMD INSTALL --merge-multiarch --build --library=annotate.buildbin-libdir annotate_1.67.0.tar.gz
StartedAt: 2020-08-06 06:57:35 -0400 (Thu, 06 Aug 2020)
EndedAt: 2020-08-06 06:58:16 -0400 (Thu, 06 Aug 2020)
EllapsedTime: 41.5 seconds
RetCode: 0
Status:  OK  
PackageFile: annotate_1.67.0.zip
PackageFileSize: 2.131 MiB

Command output

##############################################################################
##############################################################################
###
### Running command:
###
###   rm -rf annotate.buildbin-libdir && mkdir annotate.buildbin-libdir && C:\Users\biocbuild\bbs-3.12-bioc\R\bin\R.exe CMD INSTALL --merge-multiarch --build --library=annotate.buildbin-libdir annotate_1.67.0.tar.gz
###
##############################################################################
##############################################################################



install for i386

* installing *source* package 'annotate' ...
** using staged installation
** R
** data
** inst
** byte-compile and prepare package for lazy loading
** help
*** installing help indices
  converting help for package 'annotate'
    finding HTML links ... done
    ACCNUMStats                             html  
    GO2heatmap                              html  
    GOmnplot                                html  
    HTMLPage-class                          html  
    LL2homology                             html  
    PMIDAmat                                html  
    PWAmat                                  html  
    UniGeneQuery                            html  
    accessionToUID                          html  
    annPkgName                              html  
    annotate-defunct                        html  
    aqListGOIDs                             html  
    blastSequences                          html  
    buildChromLocation                      html  
    buildPubMedAbst                         html  
    chrCats                                 html  
    chromLocation-class                     html  
    compatibleVersions                      html  
    dropECode                               html  
    entrezGeneByID                          html  
    entrezGeneQuery                         html  
    filterGOByOntology                      html  
    findNeighbors                           html  
    genbank                                 html  
    getAnnMap                               html  
    getEvidence                             html  
    getGOTerm                               html  
    getOntology                             html  
    getPMInfo                               html  
    getSYMBOL                               html  
    getSeq4Acc                              html  
    getTDRows                               html  
    hasGOannote                             html  
    hgByChroms                              html  
    hgCLengths                              html  
    hgu95AProbLocs                          html  
    hgu95Achroloc                           html  
    hgu95Achrom                             html  
    hgu95All                                html  
    hgu95Asym                               html  
    homoData-class                          html  
    htmlpage                                html  
    isValidkey                              html  
    makeAnchor                              html  
    mapOrgs                                 html  
    organism                                html  
    p2LL                                    html  
    pm.abstGrep                             html  
    pm.getabst                              html  
    pm.titles                               html  
    pmAbst2HTML                             html  
    pmid2MIAME                              html  
    pmidQuery                               html  
    pubMedAbst-class                        html  
    pubmed                                  html  
    readGEOAnn                              html  
    serializeEnv                            html  
    setRepository                           html  
    updateSymbolsToValidKeys                html  
    usedChromGenes                          html  
** building package indices
** installing vignettes
** testing if installed package can be loaded from temporary location
** testing if installed package can be loaded from final location
** testing if installed package keeps a record of temporary installation path

install for x64

* installing *source* package 'annotate' ...
** testing if installed package can be loaded
* MD5 sums
packaged installation of 'annotate' as annotate_1.67.0.zip
* DONE (annotate)