Back to Multiple platform build/check report for BioC 3.12
AB[C]DEFGHIJKLMNOPQRSTUVWXYZ

BUILD report for ChIPpeakAnno on malbec1

This page was generated on 2020-08-10 11:34:10 -0400 (Mon, 10 Aug 2020).

TO THE DEVELOPERS/MAINTAINERS OF THE ChIPpeakAnno PACKAGE: Please make sure to use the following settings in order to reproduce any error or warning you see on this page.
Package 274/1882HostnameOS / ArchINSTALLBUILDCHECKBUILD BIN
ChIPpeakAnno 3.23.4
Lihua Julie Zhu
Snapshot Date: 2020-08-09 14:51:29 -0400 (Sun, 09 Aug 2020)
URL: https://git.bioconductor.org/packages/ChIPpeakAnno
Branch: master
Last Commit: 538e556
Last Changed Date: 2020-08-04 12:43:36 -0400 (Tue, 04 Aug 2020)
malbec1 Linux (Ubuntu 18.04.4 LTS) / x86_64  OK [ OK ] OK UNNEEDED, same version exists in internal repository
nebbiolo1 Linux (Ubuntu 20.04.1 LTS) / x86_64  OK  OK  OK 
tokay1 Windows Server 2012 R2 Standard / x64  OK  OK  OK  OK UNNEEDED, same version exists in internal repository
merida1 macOS 10.14.6 Mojave / x86_64  OK  OK  OK  OK UNNEEDED, same version exists in internal repository

Summary

Package: ChIPpeakAnno
Version: 3.23.4
Command: /home/biocbuild/bbs-3.12-bioc/R/bin/R CMD build --keep-empty-dirs --no-resave-data ChIPpeakAnno
StartedAt: 2020-08-09 17:50:15 -0400 (Sun, 09 Aug 2020)
EndedAt: 2020-08-09 17:58:34 -0400 (Sun, 09 Aug 2020)
EllapsedTime: 499.4 seconds
RetCode: 0
Status:  OK 
PackageFile: ChIPpeakAnno_3.23.4.tar.gz
PackageFileSize: 17.87 MiB

Command output

##############################################################################
##############################################################################
###
### Running command:
###
###   /home/biocbuild/bbs-3.12-bioc/R/bin/R CMD build --keep-empty-dirs --no-resave-data ChIPpeakAnno
###
##############################################################################
##############################################################################


* checking for file ‘ChIPpeakAnno/DESCRIPTION’ ... OK
* preparing ‘ChIPpeakAnno’:
* checking DESCRIPTION meta-information ... OK
* installing the package to build vignettes
* creating vignettes ... OK
* checking for LF line-endings in source and make files and shell scripts
* checking for empty or unneeded directories
* building ‘ChIPpeakAnno_3.23.4.tar.gz’