Back to Multiple platform build/check report for BioC 3.12
AB[C]DEFGHIJKLMNOPQRSTUVWXYZ

BUILD BIN report for cghMCR on tokay1

This page was generated on 2020-10-14 11:14:24 -0400 (Wed, 14 Oct 2020).

TO THE DEVELOPERS/MAINTAINERS OF THE cghMCR PACKAGE: Please make sure to use the following settings in order to reproduce any error or warning you see on this page.
Package 261/1930HostnameOS / ArchINSTALLBUILDCHECKBUILD BIN
cghMCR 1.47.0
J. Zhang
Snapshot Date: 2020-10-13 14:40:34 -0400 (Tue, 13 Oct 2020)
URL: https://git.bioconductor.org/packages/cghMCR
Branch: master
Last Commit: ac6f1bb
Last Changed Date: 2020-04-27 14:13:14 -0400 (Mon, 27 Apr 2020)
malbec1 Linux (Ubuntu 18.04.4 LTS) / x86_64  OK  OK  WARNINGS UNNEEDED, same version exists in internal repository
nebbiolo1 Linux (Ubuntu 20.04.1 LTS) / x86_64  OK  OK  WARNINGS 
tokay1 Windows Server 2012 R2 Standard / x64  OK  OK  WARNINGS [ OK ]UNNEEDED, same version exists in internal repository
riesling1 Windows Server 2019 Standard / x64  OK  OK  WARNINGS  OK 
merida1 macOS 10.14.6 Mojave / x86_64  OK  OK  WARNINGS  OK UNNEEDED, same version exists in internal repository

Summary

Package: cghMCR
Version: 1.47.0
Command: rm -rf cghMCR.buildbin-libdir && mkdir cghMCR.buildbin-libdir && C:\Users\biocbuild\bbs-3.12-bioc\R\bin\R.exe CMD INSTALL --merge-multiarch --build --library=cghMCR.buildbin-libdir cghMCR_1.47.0.tar.gz
StartedAt: 2020-10-14 09:46:19 -0400 (Wed, 14 Oct 2020)
EndedAt: 2020-10-14 09:48:26 -0400 (Wed, 14 Oct 2020)
EllapsedTime: 127.0 seconds
RetCode: 0
Status:  OK  
PackageFile: cghMCR_1.47.0.zip
PackageFileSize: 36.33 MiB

Command output

##############################################################################
##############################################################################
###
### Running command:
###
###   rm -rf cghMCR.buildbin-libdir && mkdir cghMCR.buildbin-libdir && C:\Users\biocbuild\bbs-3.12-bioc\R\bin\R.exe CMD INSTALL --merge-multiarch --build --library=cghMCR.buildbin-libdir cghMCR_1.47.0.tar.gz
###
##############################################################################
##############################################################################



install for i386

* installing *source* package 'cghMCR' ...
** using staged installation
** R
** data
** inst
** byte-compile and prepare package for lazy loading
** help
*** installing help indices
  converting help for package 'cghMCR'
    finding HTML links ... done
    SGOL-class                              html  
    cghMCR-class                            html  
    cghMCR                                  html  
    mergeMCRProbes                          html  
    methods                                 html  
    plot.DNAcopy                            html  
** building package indices
** installing vignettes
** testing if installed package can be loaded from temporary location
** testing if installed package can be loaded from final location
** testing if installed package keeps a record of temporary installation path

install for x64

* installing *source* package 'cghMCR' ...
** testing if installed package can be loaded
* MD5 sums
packaged installation of 'cghMCR' as cghMCR_1.47.0.zip
* DONE (cghMCR)