Back to Multiple platform build/check report for BioC 3.12
ABCDEFGHIJKLMNOP[Q]RSTUVWXYZ

CHECK report for quantsmooth on merida1

This page was generated on 2021-02-22 12:44:35 -0500 (Mon, 22 Feb 2021).

To the developers/maintainers of the quantsmooth package:
Please make sure to use the following settings in order to reproduce any error or warning you see on this page.
Package 1434/1974HostnameOS / ArchINSTALLBUILDCHECKBUILD BIN
quantsmooth 1.56.0
Jan Oosting
Snapshot Date: 2021-02-21 14:52:07 -0500 (Sun, 21 Feb 2021)
URL: https://git.bioconductor.org/packages/quantsmooth
Branch: RELEASE_3_12
Last Commit: 6635ed8
Last Changed Date: 2020-10-27 10:29:04 -0500 (Tue, 27 Oct 2020)
malbec1Linux (Ubuntu 18.04.5 LTS) / x86_64  OK    OK    OK  UNNEEDED, same version exists in internal repository
nebbiolo1Linux (Ubuntu 20.04.2 LTS) / x86_64  OK    OK    OK  
tokay1Windows Server 2012 R2 Standard / x64  OK    OK    OK    OK  UNNEEDED, same version exists in internal repository
merida1macOS 10.14.6 Mojave / x86_64  OK    OK    OK    OK  UNNEEDED, same version exists in internal repository

Summary

Package: quantsmooth
Version: 1.56.0
Command: /Library/Frameworks/R.framework/Versions/Current/Resources/bin/R CMD check --install=check:quantsmooth.install-out.txt --library=/Library/Frameworks/R.framework/Versions/Current/Resources/library --no-vignettes --timings quantsmooth_1.56.0.tar.gz
StartedAt: 2021-02-22 05:20:29 -0500 (Mon, 22 Feb 2021)
EndedAt: 2021-02-22 05:21:47 -0500 (Mon, 22 Feb 2021)
EllapsedTime: 77.3 seconds
RetCode: 0
Status:   OK  
CheckDir: quantsmooth.Rcheck
Warnings: 0

Command output

##############################################################################
##############################################################################
###
### Running command:
###
###   /Library/Frameworks/R.framework/Versions/Current/Resources/bin/R CMD check --install=check:quantsmooth.install-out.txt --library=/Library/Frameworks/R.framework/Versions/Current/Resources/library --no-vignettes --timings quantsmooth_1.56.0.tar.gz
###
##############################################################################
##############################################################################


* using log directory ‘/Users/biocbuild/bbs-3.12-bioc/meat/quantsmooth.Rcheck’
* using R version 4.0.3 (2020-10-10)
* using platform: x86_64-apple-darwin17.0 (64-bit)
* using session charset: UTF-8
* using option ‘--no-vignettes’
* checking for file ‘quantsmooth/DESCRIPTION’ ... OK
* checking extension type ... Package
* this is package ‘quantsmooth’ version ‘1.56.0’
* checking package namespace information ... OK
* checking package dependencies ... OK
* checking if this is a source package ... OK
* checking if there is a namespace ... OK
* checking for hidden files and directories ... OK
* checking for portable file names ... OK
* checking for sufficient/correct file permissions ... OK
* checking whether package ‘quantsmooth’ can be installed ... OK
* checking installed package size ... OK
* checking package directory ... OK
* checking ‘build’ directory ... OK
* checking DESCRIPTION meta-information ... OK
* checking top-level files ... OK
* checking for left-over files ... OK
* checking index information ... OK
* checking package subdirectories ... OK
* checking R files for non-ASCII characters ... OK
* checking R files for syntax errors ... OK
* checking whether the package can be loaded ... OK
* checking whether the package can be loaded with stated dependencies ... OK
* checking whether the package can be unloaded cleanly ... OK
* checking whether the namespace can be loaded with stated dependencies ... OK
* checking whether the namespace can be unloaded cleanly ... OK
* checking dependencies in R code ... NOTE
Package in Depends field not imported from: ‘grid’
  These packages need to be imported from (in the NAMESPACE file)
  for when this namespace is loaded but not attached.
* checking S3 generic/method consistency ... OK
* checking replacement functions ... OK
* checking foreign function calls ... OK
* checking R code for possible problems ... NOTE
.getChrombands: no visible global function definition for ‘data’
drawSimpleChrom: no visible global function definition for ‘rect’
drawSimpleChrom: no visible global function definition for ‘lines’
drawSimpleChrom: no visible global function definition for ‘yinch’
drawSimpleChrom: no visible global function definition for ‘symbols’
drawSimpleChrom: no visible global function definition for ‘xinch’
grid.chromosome: no visible global function definition for ‘gray’
grid.chromosome: no visible global function definition for
  ‘pushViewport’
grid.chromosome: no visible global function definition for ‘viewport’
grid.chromosome: no visible global function definition for ‘grid.rect’
grid.chromosome: no visible global function definition for ‘gpar’
grid.chromosome: no visible global function definition for
  ‘grid.circle’
grid.chromosome: no visible global function definition for ‘unit’
grid.chromosome: no visible global function definition for ‘grid.text’
grid.chromosome: no visible global function definition for
  ‘popViewport’
lengthChromosome: no visible global function definition for ‘aggregate’
paintCytobands: no visible global function definition for ‘gray’
paintCytobands: no visible global function definition for ‘rect’
paintCytobands: no visible global function definition for ‘yinch’
paintCytobands: no visible global function definition for ‘symbols’
paintCytobands: no visible global function definition for ‘text’
paintCytobands: no visible global function definition for ‘xinch’
plotSmoothed: no visible global function definition for ‘abline’
plotSmoothed: no visible global function definition for ‘points’
plotSmoothed: no visible global function definition for ‘lines’
prepareGenomePlot: no visible global function definition for ‘par’
prepareGenomePlot: no visible global function definition for ‘axis’
prepareGenomePlot: no visible global function definition for ‘lines’
qs.grid.semicircle: no visible global function definition for
  ‘grid.polygon’
qs.semicircle: no visible global function definition for ‘polygon’
qs.semicircle: no visible global function definition for ‘lines’
Undefined global functions or variables:
  abline aggregate axis data gpar gray grid.circle grid.polygon
  grid.rect grid.text lines par points polygon popViewport pushViewport
  rect symbols text unit viewport xinch yinch
Consider adding
  importFrom("grDevices", "gray")
  importFrom("graphics", "abline", "axis", "lines", "par", "points",
             "polygon", "rect", "symbols", "text", "xinch", "yinch")
  importFrom("stats", "aggregate")
  importFrom("utils", "data")
to your NAMESPACE file.
* checking Rd files ... OK
* checking Rd metadata ... OK
* checking Rd cross-references ... OK
* checking for missing documentation entries ... OK
* checking for code/documentation mismatches ... OK
* checking Rd \usage sections ... OK
* checking Rd contents ... OK
* checking for unstated dependencies in examples ... OK
* checking contents of ‘data’ directory ... OK
* checking data for non-ASCII characters ... OK
* checking data for ASCII and uncompressed saves ... OK
* checking sizes of PDF files under ‘inst/doc’ ... OK
* checking files in ‘vignettes’ ... OK
* checking examples ... OK
Examples with CPU (user + system) or elapsed time > 5s
                  user system elapsed
lengthChromosome 0.074  0.006    6.43
* checking for unstated dependencies in vignettes ... OK
* checking package vignettes in ‘inst/doc’ ... OK
* checking running R code from vignettes ... SKIPPED
* checking re-building of vignette outputs ... SKIPPED
* checking PDF version of manual ... OK
* DONE

Status: 2 NOTEs
See
  ‘/Users/biocbuild/bbs-3.12-bioc/meat/quantsmooth.Rcheck/00check.log’
for details.



Installation output

quantsmooth.Rcheck/00install.out

##############################################################################
##############################################################################
###
### Running command:
###
###   /Library/Frameworks/R.framework/Versions/Current/Resources/bin/R CMD INSTALL quantsmooth
###
##############################################################################
##############################################################################


* installing to library ‘/Library/Frameworks/R.framework/Versions/4.0/Resources/library’
* installing *source* package ‘quantsmooth’ ...
** using staged installation
** R
** data
** byte-compile and prepare package for lazy loading
** help
*** installing help indices
** building package indices
** installing vignettes
** testing if installed package can be loaded from temporary location
** testing if installed package can be loaded from final location
** testing if installed package keeps a record of temporary installation path
* DONE (quantsmooth)

Tests output


Example timings

quantsmooth.Rcheck/quantsmooth-Ex.timings

nameusersystemelapsed
drawSimpleChrom0.0080.0010.009
getChangedRegions0.0830.0080.091
getLambdaMin0.3450.0310.377
grid.chromosome0.0340.0040.038
lengthChromosome0.0740.0066.430
numericCHR0.0010.0000.001
paintCytobands0.0750.0020.078
plotSmoothed0.0810.0050.085
position2Cytoband0.0430.0020.044
quantsmooth0.0190.0030.021
quantsmooth.cv0.0260.0030.029
quantsmooth.seg0.0070.0020.010