Back to Multiple platform build/check report for BioC 3.12
A[B]CDEFGHIJKLMNOPQRSTUVWXYZ

BUILD report for biscuiteer on merida1

This page was generated on 2020-08-10 12:45:22 -0400 (Mon, 10 Aug 2020).

TO THE DEVELOPERS/MAINTAINERS OF THE biscuiteer PACKAGE: Please make sure to use the following settings in order to reproduce any error or warning you see on this page.
Package 182/1882HostnameOS / ArchINSTALLBUILDCHECKBUILD BIN
biscuiteer 1.3.0
"Jacob Morrison"
Snapshot Date: 2020-08-09 14:51:29 -0400 (Sun, 09 Aug 2020)
URL: https://git.bioconductor.org/packages/biscuiteer
Branch: master
Last Commit: 35ac8d6
Last Changed Date: 2020-04-27 15:31:52 -0400 (Mon, 27 Apr 2020)
malbec1 Linux (Ubuntu 18.04.4 LTS) / x86_64  OK  OK  WARNINGS UNNEEDED, same version exists in internal repository
nebbiolo1 Linux (Ubuntu 20.04.1 LTS) / x86_64  OK  OK  WARNINGS 
tokay1 Windows Server 2012 R2 Standard / x64  OK  OK  WARNINGS  OK UNNEEDED, same version exists in internal repository
merida1 macOS 10.14.6 Mojave / x86_64  OK [ OK ] WARNINGS  OK UNNEEDED, same version exists in internal repository

Summary

Package: biscuiteer
Version: 1.3.0
Command: /Library/Frameworks/R.framework/Versions/Current/Resources/bin/R CMD build --keep-empty-dirs --no-resave-data biscuiteer
StartedAt: 2020-08-09 21:38:54 -0400 (Sun, 09 Aug 2020)
EndedAt: 2020-08-09 21:41:34 -0400 (Sun, 09 Aug 2020)
EllapsedTime: 160.2 seconds
RetCode: 0
Status:  OK 
PackageFile: biscuiteer_1.3.0.tar.gz
PackageFileSize: 4.745 MiB

Command output

##############################################################################
##############################################################################
###
### Running command:
###
###   /Library/Frameworks/R.framework/Versions/Current/Resources/bin/R CMD build --keep-empty-dirs --no-resave-data biscuiteer
###
##############################################################################
##############################################################################


* checking for file ‘biscuiteer/DESCRIPTION’ ... OK
* preparing ‘biscuiteer’:
* checking DESCRIPTION meta-information ... OK
* installing the package to build vignettes
* creating vignettes ... OK
* checking for LF line-endings in source and make files and shell scripts
* checking for empty or unneeded directories
* looking to see if a ‘data/datalist’ file should be added
* building ‘biscuiteer_1.3.0.tar.gz’