Switch to simplified report

Multiple platform build/check report for BioC 3.17

This page was generated on 2023-10-16 11:37:53 -0400 (Mon, 16 Oct 2023).

Approx. Package Snapshot Date (git pull): 2023-10-15 14:00:13 -0400 (Sun, 15 Oct 2023)

HostnameOSArch (*)R versionInstalled pkgs
nebbiolo1Linux (Ubuntu 22.04.2 LTS)x86_644.3.1 (2023-06-16) -- "Beagle Scouts" 4626
palomino3Windows Server 2022 Datacenterx644.3.1 (2023-06-16 ucrt) -- "Beagle Scouts" 4379
merida1macOS 12.6.4 Montereyx86_644.3.1 (2023-06-16) -- "Beagle Scouts" 4395
Click on any hostname to see more info about the system (e.g. compilers)      (*) as reported by 'uname -p', except on Windows and Mac OS X

Package status is indicated by one of the following glyphs
  TIMEOUT  
INSTALL, BUILD, CHECK or BUILD BIN of package took more than 40 minutes
  ERROR  
Bad DESCRIPTION file, or INSTALL, BUILD or BUILD BIN of package failed, or CHECK produced errors
  WARNINGS  
CHECK of package produced warnings
  OK  
INSTALL, BUILD, CHECK or BUILD BIN of package went OK
  NA  
INSTALL, BUILD, CHECK or BUILD BIN result is not available because of an anomaly in the Build System
skipped
CHECK or BUILD BIN of package was skipped because the BUILD step failed
Click on any glyph in the report below to access the detailed report.
Package propagation status is indicated by one of the following LEDs
YES YES: Package was propagated because it didn't previously exist or version was bumped
NO NO: Package was not propagated because of a problem (impossible dependencies, or version lower than what is already propagated)
UNNEEDED UNNEEDED: Package was not propagated because it is already in the repository with this version. A version bump is required in order to propagate it

A crossed-out package name indicates the package is deprecated


QUICK STATSOS / ArchINSTALLBUILDCHECKBUILD BIN
nebbiolo1Linux (Ubuntu 22.04.2 LTS) / x86_64
0182211
0772152
41223881638
palomino3Windows Server 2022 Datacenter / x64
0152180
1732121
4413701706
002121
merida1macOS 12.6.4 Monterey / x86_64
0332185
71152096
15473751659
002096
A
ABCDEFGHIJKLMNOPQRSTUVWXYZ
Package 1/2230HostnameOS / ArchINSTALLBUILDCHECKBUILD BIN
a4 1.48.0  (landing page)
Laure Cougnaud
git_last_commit: 89ef9f4
git_last_commit_date: 2023-04-25 10:19:40 -0400
nebbiolo1Linux (Ubuntu 22.04.2 LTS) / x86_64  OK    OK    WARNINGS  UNNEEDED, same version is already published
palomino3Windows Server 2022 Datacenter / x64  OK    OK    OK    OK  UNNEEDED, same version is already published
merida1macOS 12.6.4 Monterey / x86_64  OK    OK    OK    OK  UNNEEDED, same version is already published
kjohnson2macOS 12.6.1 Monterey / arm64see weekly results here
Package 2/2230HostnameOS / ArchINSTALLBUILDCHECKBUILD BIN
a4Base 1.48.0  (landing page)
Laure Cougnaud
git_last_commit: 26d5793
git_last_commit_date: 2023-04-25 10:19:28 -0400
nebbiolo1Linux (Ubuntu 22.04.2 LTS) / x86_64  OK    OK    OK  UNNEEDED, same version is already published
palomino3Windows Server 2022 Datacenter / x64  OK    OK    OK    OK  UNNEEDED, same version is already published
merida1macOS 12.6.4 Monterey / x86_64  OK    OK    OK    OK  UNNEEDED, same version is already published
kjohnson2macOS 12.6.1 Monterey / arm64see weekly results here
Package 3/2230HostnameOS / ArchINSTALLBUILDCHECKBUILD BIN
a4Classif 1.48.0  (landing page)
Laure Cougnaud
git_last_commit: 1e2ff90
git_last_commit_date: 2023-04-25 10:19:33 -0400
nebbiolo1Linux (Ubuntu 22.04.2 LTS) / x86_64  OK    OK    OK  UNNEEDED, same version is already published
palomino3Windows Server 2022 Datacenter / x64  OK    OK    OK    OK  UNNEEDED, same version is already published
merida1macOS 12.6.4 Monterey / x86_64  OK    OK    OK    OK  UNNEEDED, same version is already published
kjohnson2macOS 12.6.1 Monterey / arm64see weekly results here
Package 4/2230HostnameOS / ArchINSTALLBUILDCHECKBUILD BIN
a4Core 1.48.0  (landing page)
Laure Cougnaud
git_last_commit: 3dd09f0
git_last_commit_date: 2023-04-25 10:19:35 -0400
nebbiolo1Linux (Ubuntu 22.04.2 LTS) / x86_64  OK    OK    OK  UNNEEDED, same version is already published
palomino3Windows Server 2022 Datacenter / x64  OK    OK    OK    OK  UNNEEDED, same version is already published
merida1macOS 12.6.4 Monterey / x86_64  OK    OK    OK    OK  UNNEEDED, same version is already published
kjohnson2macOS 12.6.1 Monterey / arm64see weekly results here
Package 5/2230HostnameOS / ArchINSTALLBUILDCHECKBUILD BIN
a4Preproc 1.48.0  (landing page)
Laure Cougnaud
git_last_commit: d3bf8b8
git_last_commit_date: 2023-04-25 10:19:30 -0400
nebbiolo1Linux (Ubuntu 22.04.2 LTS) / x86_64  OK    OK    OK  UNNEEDED, same version is already published
palomino3Windows Server 2022 Datacenter / x64  OK    OK    OK    OK  UNNEEDED, same version is already published
merida1macOS 12.6.4 Monterey / x86_64  OK    OK    OK    OK  UNNEEDED, same version is already published
kjohnson2macOS 12.6.1 Monterey / arm64see weekly results here
Package 6/2230HostnameOS / ArchINSTALLBUILDCHECKBUILD BIN
a4Reporting 1.48.0  (landing page)
Laure Cougnaud
git_last_commit: de8c4b7
git_last_commit_date: 2023-04-25 10:19:37 -0400
nebbiolo1Linux (Ubuntu 22.04.2 LTS) / x86_64  OK    OK    OK  UNNEEDED, same version is already published
palomino3Windows Server 2022 Datacenter / x64  OK    OK    OK    OK  UNNEEDED, same version is already published
merida1macOS 12.6.4 Monterey / x86_64  OK    OK    OK    OK  UNNEEDED, same version is already published
kjohnson2macOS 12.6.1 Monterey / arm64see weekly results here
Package 7/2230HostnameOS / ArchINSTALLBUILDCHECKBUILD BIN
ABarray 1.68.0  (landing page)
Yongming Andrew Sun
git_last_commit: 7ffc3cf
git_last_commit_date: 2023-04-25 09:43:58 -0400
nebbiolo1Linux (Ubuntu 22.04.2 LTS) / x86_64  OK    OK    OK  UNNEEDED, same version is already published
palomino3Windows Server 2022 Datacenter / x64  OK    OK    OK    OK  UNNEEDED, same version is already published
merida1macOS 12.6.4 Monterey / x86_64  OK    OK    OK    OK  UNNEEDED, same version is already published
kjohnson2macOS 12.6.1 Monterey / arm64see weekly results here
Package 8/2230HostnameOS / ArchINSTALLBUILDCHECKBUILD BIN
abseqR 1.18.0  (landing page)
JiaHong Fong
git_last_commit: c325db9
git_last_commit_date: 2023-04-25 11:06:03 -0400
nebbiolo1Linux (Ubuntu 22.04.2 LTS) / x86_64  OK    OK    OK  UNNEEDED, same version is already published
palomino3Windows Server 2022 Datacenter / x64  OK    OK    OK    OK  UNNEEDED, same version is already published
merida1macOS 12.6.4 Monterey / x86_64  OK    OK    OK    OK  UNNEEDED, same version is already published
kjohnson2macOS 12.6.1 Monterey / arm64see weekly results here
Package 9/2230HostnameOS / ArchINSTALLBUILDCHECKBUILD BIN
ABSSeq 1.54.0  (landing page)
Wentao Yang
git_last_commit: 5e7de8c
git_last_commit_date: 2023-04-25 10:31:15 -0400
nebbiolo1Linux (Ubuntu 22.04.2 LTS) / x86_64  OK    OK    OK  UNNEEDED, same version is already published
palomino3Windows Server 2022 Datacenter / x64  OK    OK    OK    OK  UNNEEDED, same version is already published
merida1macOS 12.6.4 Monterey / x86_64  OK    OK    OK    OK  UNNEEDED, same version is already published
kjohnson2macOS 12.6.1 Monterey / arm64see weekly results here
Package 10/2230HostnameOS / ArchINSTALLBUILDCHECKBUILD BIN
acde 1.30.0  (landing page)
Juan Pablo Acosta
git_last_commit: 4c16b9f
git_last_commit_date: 2023-04-25 10:39:55 -0400
nebbiolo1Linux (Ubuntu 22.04.2 LTS) / x86_64  OK    OK    OK  UNNEEDED, same version is already published
palomino3Windows Server 2022 Datacenter / x64  OK    OK    OK    OK  UNNEEDED, same version is already published
merida1macOS 12.6.4 Monterey / x86_64  OK    OK    OK    OK  UNNEEDED, same version is already published
kjohnson2macOS 12.6.1 Monterey / arm64see weekly results here
Package 11/2230HostnameOS / ArchINSTALLBUILDCHECKBUILD BIN
ACE 1.18.0  (landing page)
Jos B Poell
git_last_commit: 4c6870f
git_last_commit_date: 2023-04-25 11:03:07 -0400
nebbiolo1Linux (Ubuntu 22.04.2 LTS) / x86_64  OK    OK    OK  UNNEEDED, same version is already published
palomino3Windows Server 2022 Datacenter / x64  OK    OK    OK    OK  UNNEEDED, same version is already published
merida1macOS 12.6.4 Monterey / x86_64  OK    OK    OK    OK  UNNEEDED, same version is already published
kjohnson2macOS 12.6.1 Monterey / arm64see weekly results here
Package 12/2230HostnameOS / ArchINSTALLBUILDCHECKBUILD BIN
aCGH 1.78.0  (landing page)
Peter Dimitrov
git_last_commit: 75df3a4
git_last_commit_date: 2023-04-25 09:40:31 -0400
nebbiolo1Linux (Ubuntu 22.04.2 LTS) / x86_64  OK    OK    OK  UNNEEDED, same version is already published
palomino3Windows Server 2022 Datacenter / x64  OK    OK    OK    OK  UNNEEDED, same version is already published
merida1macOS 12.6.4 Monterey / x86_64  OK    OK    OK    OK  UNNEEDED, same version is already published
kjohnson2macOS 12.6.1 Monterey / arm64see weekly results here
Package 13/2230HostnameOS / ArchINSTALLBUILDCHECKBUILD BIN
ACME 2.56.0  (landing page)
Sean Davis
git_last_commit: 083af12
git_last_commit_date: 2023-04-25 09:45:10 -0400
nebbiolo1Linux (Ubuntu 22.04.2 LTS) / x86_64  OK    OK    WARNINGS  UNNEEDED, same version is already published
palomino3Windows Server 2022 Datacenter / x64  OK    OK    WARNINGS    OK  UNNEEDED, same version is already published
merida1macOS 12.6.4 Monterey / x86_64  OK    OK    OK    OK  UNNEEDED, same version is already published
kjohnson2macOS 12.6.1 Monterey / arm64see weekly results here
Package 14/2230HostnameOS / ArchINSTALLBUILDCHECKBUILD BIN
ADaCGH2 2.40.0  (landing page)
Ramon Diaz-Uriarte
git_last_commit: ab57ef7
git_last_commit_date: 2023-04-25 10:18:17 -0400
nebbiolo1Linux (Ubuntu 22.04.2 LTS) / x86_64  OK    OK    OK  UNNEEDED, same version is already published
palomino3Windows Server 2022 Datacenter / x64  OK    OK    OK    OK  UNNEEDED, same version is already published
merida1macOS 12.6.4 Monterey / x86_64  OK    OK    OK    OK  UNNEEDED, same version is already published
kjohnson2macOS 12.6.1 Monterey / arm64see weekly results here
Package 15/2230HostnameOS / ArchINSTALLBUILDCHECKBUILD BIN
ADAM 1.16.0  (landing page)
Jose Luiz Rybarczyk Filho
git_last_commit: 18fda24
git_last_commit_date: 2023-04-25 11:06:22 -0400
nebbiolo1Linux (Ubuntu 22.04.2 LTS) / x86_64  OK    OK    OK  UNNEEDED, same version is already published
palomino3Windows Server 2022 Datacenter / x64  OK    OK    OK    OK  UNNEEDED, same version is already published
merida1macOS 12.6.4 Monterey / x86_64  OK    OK    OK    OK  UNNEEDED, same version is already published
kjohnson2macOS 12.6.1 Monterey / arm64see weekly results here
Package 16/2230HostnameOS / ArchINSTALLBUILDCHECKBUILD BIN
ADAMgui 1.16.0  (landing page)
Jose Luiz Rybarczyk Filho
git_last_commit: 0dbfc49
git_last_commit_date: 2023-04-25 11:09:41 -0400
nebbiolo1Linux (Ubuntu 22.04.2 LTS) / x86_64  OK    OK    OK  UNNEEDED, same version is already published
palomino3Windows Server 2022 Datacenter / x64  OK    OK    OK    OK  UNNEEDED, same version is already published
merida1macOS 12.6.4 Monterey / x86_64  OK    OK    OK    OK  UNNEEDED, same version is already published
kjohnson2macOS 12.6.1 Monterey / arm64see weekly results here
Package 17/2230HostnameOS / ArchINSTALLBUILDCHECKBUILD BIN
adductomicsR 1.16.0  (landing page)
Josie Hayes
git_last_commit: 7476fb3
git_last_commit_date: 2023-04-25 11:07:24 -0400
nebbiolo1Linux (Ubuntu 22.04.2 LTS) / x86_64  OK    OK    WARNINGS  UNNEEDED, same version is already published
palomino3Windows Server 2022 Datacenter / x64  OK    OK    WARNINGS    OK  UNNEEDED, same version is already published
merida1macOS 12.6.4 Monterey / x86_64  OK    OK    WARNINGS    OK  UNNEEDED, same version is already published
kjohnson2macOS 12.6.1 Monterey / arm64see weekly results here
Package 18/2230HostnameOS / ArchINSTALLBUILDCHECKBUILD BIN
ADImpute 1.10.0  (landing page)
Ana Carolina Leote
git_last_commit: 5a376f1
git_last_commit_date: 2023-04-25 11:24:24 -0400
nebbiolo1Linux (Ubuntu 22.04.2 LTS) / x86_64  OK    OK    WARNINGS  UNNEEDED, same version is already published
palomino3Windows Server 2022 Datacenter / x64  OK    OK    WARNINGS    OK  UNNEEDED, same version is already published
merida1macOS 12.6.4 Monterey / x86_64  OK    OK    WARNINGS    OK  UNNEEDED, same version is already published
kjohnson2macOS 12.6.1 Monterey / arm64see weekly results here
Package 19/2230HostnameOS / ArchINSTALLBUILDCHECKBUILD BIN
adSplit 1.70.0  (landing page)
Claudio Lottaz
git_last_commit: a08a994
git_last_commit_date: 2023-04-25 09:43:13 -0400
nebbiolo1Linux (Ubuntu 22.04.2 LTS) / x86_64  OK    OK    OK  UNNEEDED, same version is already published
palomino3Windows Server 2022 Datacenter / x64  OK    OK    OK    OK  UNNEEDED, same version is already published
merida1macOS 12.6.4 Monterey / x86_64  OK    OK    OK    OK  UNNEEDED, same version is already published
kjohnson2macOS 12.6.1 Monterey / arm64see weekly results here
Package 20/2230HostnameOS / ArchINSTALLBUILDCHECKBUILD BIN
AffiXcan 1.18.0  (landing page)
Alessandro Lussana
git_last_commit: e3e6dfb
git_last_commit_date: 2023-04-25 11:04:58 -0400
nebbiolo1Linux (Ubuntu 22.04.2 LTS) / x86_64  OK    OK    OK  UNNEEDED, same version is already published
palomino3Windows Server 2022 Datacenter / x64  OK    OK    OK    OK  UNNEEDED, same version is already published
merida1macOS 12.6.4 Monterey / x86_64  OK    OK    OK    OK  UNNEEDED, same version is already published
kjohnson2macOS 12.6.1 Monterey / arm64see weekly results here
Package 21/2230HostnameOS / ArchINSTALLBUILDCHECKBUILD BIN
affxparser 1.72.0  (landing page)
Kasper Daniel Hansen
git_last_commit: 6e976af
git_last_commit_date: 2023-04-25 14:38:39 -0400
nebbiolo1Linux (Ubuntu 22.04.2 LTS) / x86_64  OK    OK    WARNINGS  UNNEEDED, same version is already published
palomino3Windows Server 2022 Datacenter / x64  OK    OK    WARNINGS    OK  UNNEEDED, same version is already published
merida1macOS 12.6.4 Monterey / x86_64  OK    OK    WARNINGS    OK  UNNEEDED, same version is already published
kjohnson2macOS 12.6.1 Monterey / arm64see weekly results here
Package 22/2230HostnameOS / ArchINSTALLBUILDCHECKBUILD BIN
affy 1.78.2  (landing page)
Robert D. Shear
git_last_commit: affc140
git_last_commit_date: 2023-07-15 14:50:19 -0400
nebbiolo1Linux (Ubuntu 22.04.2 LTS) / x86_64  OK    OK    WARNINGS  UNNEEDED, same version is already published
palomino3Windows Server 2022 Datacenter / x64  OK    OK    WARNINGS    OK  UNNEEDED, same version is already published
merida1macOS 12.6.4 Monterey / x86_64  OK    OK    WARNINGS    OK  UNNEEDED, same version is already published
kjohnson2macOS 12.6.1 Monterey / arm64see weekly results here
Package 23/2230HostnameOS / ArchINSTALLBUILDCHECKBUILD BIN
affycomp 1.76.1  (landing page)
Robert D. Shear
git_last_commit: 66e7f86
git_last_commit_date: 2023-07-12 11:20:01 -0400
nebbiolo1Linux (Ubuntu 22.04.2 LTS) / x86_64  OK    OK    OK  UNNEEDED, same version is already published
palomino3Windows Server 2022 Datacenter / x64  OK    OK    OK    OK  UNNEEDED, same version is already published
merida1macOS 12.6.4 Monterey / x86_64  OK    OK    OK    OK  UNNEEDED, same version is already published
kjohnson2macOS 12.6.1 Monterey / arm64see weekly results here
Package 24/2230HostnameOS / ArchINSTALLBUILDCHECKBUILD BIN
affyContam 1.58.0  (landing page)
V. Carey
git_last_commit: 5e91d79
git_last_commit_date: 2023-04-25 09:47:50 -0400
nebbiolo1Linux (Ubuntu 22.04.2 LTS) / x86_64  OK    OK    OK  UNNEEDED, same version is already published
palomino3Windows Server 2022 Datacenter / x64  OK    OK    OK    OK  UNNEEDED, same version is already published
merida1macOS 12.6.4 Monterey / x86_64  OK    OK    OK    OK  UNNEEDED, same version is already published
kjohnson2macOS 12.6.1 Monterey / arm64see weekly results here
Package 25/2230HostnameOS / ArchINSTALLBUILDCHECKBUILD BIN
affycoretools 1.72.0  (landing page)
James W. MacDonald
git_last_commit: 229ae09
git_last_commit_date: 2023-04-25 09:42:43 -0400
nebbiolo1Linux (Ubuntu 22.04.2 LTS) / x86_64  OK    OK    OK  UNNEEDED, same version is already published
palomino3Windows Server 2022 Datacenter / x64  OK    OK    OK    OK  UNNEEDED, same version is already published
merida1macOS 12.6.4 Monterey / x86_64  OK    OK    OK    OK  UNNEEDED, same version is already published
kjohnson2macOS 12.6.1 Monterey / arm64see weekly results here
Package 26/2230HostnameOS / ArchINSTALLBUILDCHECKBUILD BIN
affyILM 1.52.0  (landing page)
Myriam Kroll and Fabrice Berger
git_last_commit: 08ed8c6
git_last_commit_date: 2023-04-25 09:51:06 -0400
nebbiolo1Linux (Ubuntu 22.04.2 LTS) / x86_64  OK    OK    OK  UNNEEDED, same version is already published
palomino3Windows Server 2022 Datacenter / x64  OK    OK    OK    OK  UNNEEDED, same version is already published
merida1macOS 12.6.4 Monterey / x86_64  OK    OK    OK    OK  UNNEEDED, same version is already published
kjohnson2macOS 12.6.1 Monterey / arm64see weekly results here
Package 27/2230HostnameOS / ArchINSTALLBUILDCHECKBUILD BIN
affyio 1.70.0  (landing page)
Ben Bolstad
git_last_commit: 9556056
git_last_commit_date: 2023-04-25 09:38:37 -0400
nebbiolo1Linux (Ubuntu 22.04.2 LTS) / x86_64  OK    OK    WARNINGS  UNNEEDED, same version is already published
palomino3Windows Server 2022 Datacenter / x64  OK    OK    WARNINGS    OK  UNNEEDED, same version is already published
merida1macOS 12.6.4 Monterey / x86_64  OK    OK    WARNINGS    OK  UNNEEDED, same version is already published
kjohnson2macOS 12.6.1 Monterey / arm64see weekly results here
Package 28/2230HostnameOS / ArchINSTALLBUILDCHECKBUILD BIN
affylmGUI 1.74.0  (landing page)
Gordon Smyth
git_last_commit: 060770a
git_last_commit_date: 2023-04-25 09:40:14 -0400
nebbiolo1Linux (Ubuntu 22.04.2 LTS) / x86_64  OK    OK    OK  UNNEEDED, same version is already published
palomino3Windows Server 2022 Datacenter / x64  OK    OK    OK    OK  UNNEEDED, same version is already published
merida1macOS 12.6.4 Monterey / x86_64  OK    OK    OK    OK  UNNEEDED, same version is already published
kjohnson2macOS 12.6.1 Monterey / arm64see weekly results here
Package 29/2230HostnameOS / ArchINSTALLBUILDCHECKBUILD BIN
affyPLM 1.76.1  (landing page)
Ben Bolstad
git_last_commit: d20fa58
git_last_commit_date: 2023-05-01 20:07:56 -0400
nebbiolo1Linux (Ubuntu 22.04.2 LTS) / x86_64  OK    OK    ERROR  
palomino3Windows Server 2022 Datacenter / x64  OK    OK    WARNINGS    OK  UNNEEDED, same version is already published
merida1macOS 12.6.4 Monterey / x86_64  OK    OK    OK    OK  UNNEEDED, same version is already published
kjohnson2macOS 12.6.1 Monterey / arm64see weekly results here
Package 30/2230HostnameOS / ArchINSTALLBUILDCHECKBUILD BIN
AffyRNADegradation 1.46.0  (landing page)
Mario Fasold
git_last_commit: 431ae61
git_last_commit_date: 2023-04-25 10:21:56 -0400
nebbiolo1Linux (Ubuntu 22.04.2 LTS) / x86_64  OK    OK    ERROR  
palomino3Windows Server 2022 Datacenter / x64  OK    OK    OK    OK  UNNEEDED, same version is already published
merida1macOS 12.6.4 Monterey / x86_64  OK    OK    OK    OK  UNNEEDED, same version is already published
kjohnson2macOS 12.6.1 Monterey / arm64see weekly results here
Package 31/2230HostnameOS / ArchINSTALLBUILDCHECKBUILD BIN
AGDEX 1.48.0  (landing page)
Cuilan lani Gao
git_last_commit: 917920b
git_last_commit_date: 2023-04-25 10:21:04 -0400
nebbiolo1Linux (Ubuntu 22.04.2 LTS) / x86_64  OK    OK    OK  UNNEEDED, same version is already published
palomino3Windows Server 2022 Datacenter / x64  OK    OK    OK    OK  UNNEEDED, same version is already published
merida1macOS 12.6.4 Monterey / x86_64  OK    OK    OK    OK  UNNEEDED, same version is already published
kjohnson2macOS 12.6.1 Monterey / arm64see weekly results here
Package 32/2230HostnameOS / ArchINSTALLBUILDCHECKBUILD BIN
aggregateBioVar 1.10.0  (landing page)
Jason Ratcliff
git_last_commit: 1f3fcf6
git_last_commit_date: 2023-04-25 11:23:10 -0400
nebbiolo1Linux (Ubuntu 22.04.2 LTS) / x86_64  OK    OK    OK  UNNEEDED, same version is already published
palomino3Windows Server 2022 Datacenter / x64  OK    OK    OK    OK  UNNEEDED, same version is already published
merida1macOS 12.6.4 Monterey / x86_64  OK    OK    OK    OK  UNNEEDED, same version is already published
kjohnson2macOS 12.6.1 Monterey / arm64see weekly results here
Package 33/2230HostnameOS / ArchINSTALLBUILDCHECKBUILD BIN
agilp 3.32.0  (landing page)
Benny Chain
git_last_commit: 8291f7b
git_last_commit_date: 2023-04-25 10:24:18 -0400
nebbiolo1Linux (Ubuntu 22.04.2 LTS) / x86_64  OK    OK    OK  UNNEEDED, same version is already published
palomino3Windows Server 2022 Datacenter / x64  OK    OK    OK    OK  UNNEEDED, same version is already published
merida1macOS 12.6.4 Monterey / x86_64  OK    OK    OK    OK  UNNEEDED, same version is already published
kjohnson2macOS 12.6.1 Monterey / arm64see weekly results here
Package 34/2230HostnameOS / ArchINSTALLBUILDCHECKBUILD BIN
AgiMicroRna 2.50.0  (landing page)
Pedro Lopez-Romero
git_last_commit: a812b0f
git_last_commit_date: 2023-04-25 09:49:25 -0400
nebbiolo1Linux (Ubuntu 22.04.2 LTS) / x86_64  OK    OK    WARNINGS  UNNEEDED, same version is already published
palomino3Windows Server 2022 Datacenter / x64  OK    OK    WARNINGS    OK  UNNEEDED, same version is already published
merida1macOS 12.6.4 Monterey / x86_64  OK    OK    WARNINGS    OK  UNNEEDED, same version is already published
kjohnson2macOS 12.6.1 Monterey / arm64see weekly results here
Package 35/2230HostnameOS / ArchINSTALLBUILDCHECKBUILD BIN
AHMassBank 1.0.0  (landing page)
Johannes Rainer
git_last_commit: 6b6c996
git_last_commit_date: 2023-04-25 11:43:35 -0400
nebbiolo1Linux (Ubuntu 22.04.2 LTS) / x86_64  OK    OK    OK  UNNEEDED, same version is already published
palomino3Windows Server 2022 Datacenter / x64  OK    OK    OK    OK  UNNEEDED, same version is already published
merida1macOS 12.6.4 Monterey / x86_64  OK    OK    OK    OK  UNNEEDED, same version is already published
kjohnson2macOS 12.6.1 Monterey / arm64see weekly results here
Package 36/2230HostnameOS / ArchINSTALLBUILDCHECKBUILD BIN
AIMS 1.32.0  (landing page)
Eric R Paquet
git_last_commit: 019415a
git_last_commit_date: 2023-04-25 10:36:39 -0400
nebbiolo1Linux (Ubuntu 22.04.2 LTS) / x86_64  OK    OK    OK  UNNEEDED, same version is already published
palomino3Windows Server 2022 Datacenter / x64  OK    OK    OK    OK  UNNEEDED, same version is already published
merida1macOS 12.6.4 Monterey / x86_64  OK    OK    OK    OK  UNNEEDED, same version is already published
kjohnson2macOS 12.6.1 Monterey / arm64see weekly results here
Package 37/2230HostnameOS / ArchINSTALLBUILDCHECKBUILD BIN
airpart 1.8.0  (landing page)
Wancen Mu
git_last_commit: 992ee0a
git_last_commit_date: 2023-04-25 11:28:04 -0400
nebbiolo1Linux (Ubuntu 22.04.2 LTS) / x86_64  OK    OK    OK  UNNEEDED, same version is already published
palomino3Windows Server 2022 Datacenter / x64  OK    OK    OK    OK  UNNEEDED, same version is already published
merida1macOS 12.6.4 Monterey / x86_64  OK    OK    OK    OK  UNNEEDED, same version is already published
kjohnson2macOS 12.6.1 Monterey / arm64see weekly results here
Package 38/2230HostnameOS / ArchINSTALLBUILDCHECKBUILD BIN
alabaster 1.0.0  (landing page)
Aaron Lun
git_last_commit: b0490d4
git_last_commit_date: 2023-04-25 11:43:12 -0400
nebbiolo1Linux (Ubuntu 22.04.2 LTS) / x86_64  OK    OK    OK  UNNEEDED, same version is already published
palomino3Windows Server 2022 Datacenter / x64  OK    OK    OK    OK  UNNEEDED, same version is already published
merida1macOS 12.6.4 Monterey / x86_64  OK    OK    OK    OK  UNNEEDED, same version is already published
kjohnson2macOS 12.6.1 Monterey / arm64see weekly results here
Package 39/2230HostnameOS / ArchINSTALLBUILDCHECKBUILD BIN
alabaster.base 1.0.0  (landing page)
Aaron Lun
git_last_commit: 97c0956
git_last_commit_date: 2023-04-25 11:42:44 -0400
nebbiolo1Linux (Ubuntu 22.04.2 LTS) / x86_64  OK    OK    WARNINGS  UNNEEDED, same version is already published
palomino3Windows Server 2022 Datacenter / x64  OK    OK    OK    OK  UNNEEDED, same version is already published
merida1macOS 12.6.4 Monterey / x86_64  OK    OK    WARNINGS    OK  UNNEEDED, same version is already published
kjohnson2macOS 12.6.1 Monterey / arm64see weekly results here
Package 40/2230HostnameOS / ArchINSTALLBUILDCHECKBUILD BIN
alabaster.bumpy 1.0.0  (landing page)
Aaron Lun
git_last_commit: da9aa0c
git_last_commit_date: 2023-04-25 11:43:01 -0400
nebbiolo1Linux (Ubuntu 22.04.2 LTS) / x86_64  OK    OK    OK  UNNEEDED, same version is already published
palomino3Windows Server 2022 Datacenter / x64  OK    OK    OK    OK  UNNEEDED, same version is already published
merida1macOS 12.6.4 Monterey / x86_64  OK    OK    OK    OK  UNNEEDED, same version is already published
kjohnson2macOS 12.6.1 Monterey / arm64see weekly results here
Package 41/2230HostnameOS / ArchINSTALLBUILDCHECKBUILD BIN
alabaster.mae 1.0.0  (landing page)
Aaron Lun
git_last_commit: acbca50
git_last_commit_date: 2023-04-25 11:43:04 -0400
nebbiolo1Linux (Ubuntu 22.04.2 LTS) / x86_64  OK    OK    OK  UNNEEDED, same version is already published
palomino3Windows Server 2022 Datacenter / x64  OK    OK    OK    OK  UNNEEDED, same version is already published
merida1macOS 12.6.4 Monterey / x86_64  OK    OK    OK    OK  UNNEEDED, same version is already published
kjohnson2macOS 12.6.1 Monterey / arm64see weekly results here
Package 42/2230HostnameOS / ArchINSTALLBUILDCHECKBUILD BIN
alabaster.matrix 1.0.0  (landing page)
Aaron Lun
git_last_commit: 13bda14
git_last_commit_date: 2023-04-25 11:42:50 -0400
nebbiolo1Linux (Ubuntu 22.04.2 LTS) / x86_64  OK    OK    OK  UNNEEDED, same version is already published
palomino3Windows Server 2022 Datacenter / x64  OK    OK    OK    OK  UNNEEDED, same version is already published
merida1macOS 12.6.4 Monterey / x86_64  OK    OK    OK    OK  UNNEEDED, same version is already published
kjohnson2macOS 12.6.1 Monterey / arm64see weekly results here
Package 43/2230HostnameOS / ArchINSTALLBUILDCHECKBUILD BIN
alabaster.ranges 1.0.0  (landing page)
Aaron Lun
git_last_commit: 45e963a
git_last_commit_date: 2023-04-25 11:42:47 -0400
nebbiolo1Linux (Ubuntu 22.04.2 LTS) / x86_64  OK    OK    OK  UNNEEDED, same version is already published
palomino3Windows Server 2022 Datacenter / x64  OK    OK    OK    OK  UNNEEDED, same version is already published
merida1macOS 12.6.4 Monterey / x86_64  OK    OK    OK    OK  UNNEEDED, same version is already published
kjohnson2macOS 12.6.1 Monterey / arm64see weekly results here
Package 44/2230HostnameOS / ArchINSTALLBUILDCHECKBUILD BIN
alabaster.sce 1.0.0  (landing page)
Aaron Lun
git_last_commit: 863fa06
git_last_commit_date: 2023-04-25 11:42:56 -0400
nebbiolo1Linux (Ubuntu 22.04.2 LTS) / x86_64  OK    OK    OK  UNNEEDED, same version is already published
palomino3Windows Server 2022 Datacenter / x64  OK    OK    OK    OK  UNNEEDED, same version is already published
merida1macOS 12.6.4 Monterey / x86_64  OK    OK    OK    OK  UNNEEDED, same version is already published
kjohnson2macOS 12.6.1 Monterey / arm64see weekly results here
Package 45/2230HostnameOS / ArchINSTALLBUILDCHECKBUILD BIN
alabaster.schemas 1.0.2  (landing page)
Aaron Lun
git_last_commit: 50032c0
git_last_commit_date: 2023-05-19 11:03:16 -0400
nebbiolo1Linux (Ubuntu 22.04.2 LTS) / x86_64  OK    OK    OK  UNNEEDED, same version is already published
palomino3Windows Server 2022 Datacenter / x64  OK    OK    OK    OK  UNNEEDED, same version is already published
merida1macOS 12.6.4 Monterey / x86_64  OK    OK    OK    OK  UNNEEDED, same version is already published
kjohnson2macOS 12.6.1 Monterey / arm64see weekly results here
Package 46/2230HostnameOS / ArchINSTALLBUILDCHECKBUILD BIN
alabaster.se 1.0.0  (landing page)
Aaron Lun
git_last_commit: e7fc40c
git_last_commit_date: 2023-04-25 11:42:52 -0400
nebbiolo1Linux (Ubuntu 22.04.2 LTS) / x86_64  OK    OK    OK  UNNEEDED, same version is already published
palomino3Windows Server 2022 Datacenter / x64  OK    OK    OK    OK  UNNEEDED, same version is already published
merida1macOS 12.6.4 Monterey / x86_64  OK    OK    OK    OK  UNNEEDED, same version is already published
kjohnson2macOS 12.6.1 Monterey / arm64see weekly results here
Package 47/2230HostnameOS / ArchINSTALLBUILDCHECKBUILD BIN
alabaster.spatial 1.0.0  (landing page)
Aaron Lun
git_last_commit: 0a9683f
git_last_commit_date: 2023-04-25 11:42:58 -0400
nebbiolo1Linux (Ubuntu 22.04.2 LTS) / x86_64  OK    OK    OK  UNNEEDED, same version is already published
palomino3Windows Server 2022 Datacenter / x64  OK    OK    OK    OK  UNNEEDED, same version is already published
merida1macOS 12.6.4 Monterey / x86_64  OK    OK    OK    OK  UNNEEDED, same version is already published
kjohnson2macOS 12.6.1 Monterey / arm64see weekly results here
Package 48/2230HostnameOS / ArchINSTALLBUILDCHECKBUILD BIN
alabaster.string 1.0.1  (landing page)
Aaron Lun
git_last_commit: 7341cde
git_last_commit_date: 2023-05-01 12:54:48 -0400
nebbiolo1Linux (Ubuntu 22.04.2 LTS) / x86_64  OK    OK    OK  UNNEEDED, same version is already published
palomino3Windows Server 2022 Datacenter / x64  OK    OK    OK    OK  UNNEEDED, same version is already published
merida1macOS 12.6.4 Monterey / x86_64  OK    OK    OK    OK  UNNEEDED, same version is already published
kjohnson2macOS 12.6.1 Monterey / arm64see weekly results here
Package 49/2230HostnameOS / ArchINSTALLBUILDCHECKBUILD BIN
alabaster.vcf 1.0.0  (landing page)
Aaron Lun
git_last_commit: d4b06e5
git_last_commit_date: 2023-04-25 11:43:09 -0400
nebbiolo1Linux (Ubuntu 22.04.2 LTS) / x86_64  OK    OK    OK  UNNEEDED, same version is already published
palomino3Windows Server 2022 Datacenter / x64  OK    OK    OK    OK  UNNEEDED, same version is already published
merida1macOS 12.6.4 Monterey / x86_64  OK    OK    OK    OK  UNNEEDED, same version is already published
kjohnson2macOS 12.6.1 Monterey / arm64see weekly results here
Package 50/2230HostnameOS / ArchINSTALLBUILDCHECKBUILD BIN
ALDEx2 1.32.0  (landing page)
Greg Gloor
git_last_commit: ba32b9a
git_last_commit_date: 2023-04-25 10:34:57 -0400
nebbiolo1Linux (Ubuntu 22.04.2 LTS) / x86_64  OK    OK    WARNINGS  UNNEEDED, same version is already published
palomino3Windows Server 2022 Datacenter / x64  OK    OK    WARNINGS    OK  UNNEEDED, same version is already published
merida1macOS 12.6.4 Monterey / x86_64  OK    OK    WARNINGS    OK  UNNEEDED, same version is already published
kjohnson2macOS 12.6.1 Monterey / arm64see weekly results here
Package 51/2230HostnameOS / ArchINSTALLBUILDCHECKBUILD BIN
alevinQC 1.16.1  (landing page)
Charlotte Soneson
git_last_commit: a79f361
git_last_commit_date: 2023-07-08 03:32:34 -0400
nebbiolo1Linux (Ubuntu 22.04.2 LTS) / x86_64  OK    OK    OK  UNNEEDED, same version is already published
palomino3Windows Server 2022 Datacenter / x64  OK    OK    OK    OK  UNNEEDED, same version is already published
merida1macOS 12.6.4 Monterey / x86_64  OK    OK    OK    OK  UNNEEDED, same version is already published
kjohnson2macOS 12.6.1 Monterey / arm64see weekly results here
Package 52/2230HostnameOS / ArchINSTALLBUILDCHECKBUILD BIN
AllelicImbalance 1.38.0  (landing page)
Jesper R Gadin
git_last_commit: 75a3b0f
git_last_commit_date: 2023-04-25 10:28:56 -0400
nebbiolo1Linux (Ubuntu 22.04.2 LTS) / x86_64  OK    OK    OK  UNNEEDED, same version is already published
palomino3Windows Server 2022 Datacenter / x64  OK    OK    OK    OK  UNNEEDED, same version is already published
merida1macOS 12.6.4 Monterey / x86_64  OK    OK    OK    OK  UNNEEDED, same version is already published
kjohnson2macOS 12.6.1 Monterey / arm64see weekly results here
Package 53/2230HostnameOS / ArchINSTALLBUILDCHECKBUILD BIN
AlphaBeta 1.14.0  (landing page)
Yadollah Shahryary Dizaji
git_last_commit: 1e71032
git_last_commit_date: 2023-04-25 11:11:40 -0400
nebbiolo1Linux (Ubuntu 22.04.2 LTS) / x86_64  OK    OK    OK  UNNEEDED, same version is already published
palomino3Windows Server 2022 Datacenter / x64  OK    OK    OK    OK  UNNEEDED, same version is already published
merida1macOS 12.6.4 Monterey / x86_64  OK    OK    OK    OK  UNNEEDED, same version is already published
kjohnson2macOS 12.6.1 Monterey / arm64see weekly results here
Package 54/2230HostnameOS / ArchINSTALLBUILDCHECKBUILD BIN
alpine 1.26.0  (landing page)
Michael Love
git_last_commit: 1e317db
git_last_commit_date: 2023-04-25 10:49:05 -0400
nebbiolo1Linux (Ubuntu 22.04.2 LTS) / x86_64  OK    OK    WARNINGS  UNNEEDED, same version is already published
palomino3Windows Server 2022 Datacenter / x64  OK    OK    WARNINGS    OK  UNNEEDED, same version is already published
merida1macOS 12.6.4 Monterey / x86_64  OK    OK    WARNINGS    OK  UNNEEDED, same version is already published
kjohnson2macOS 12.6.1 Monterey / arm64see weekly results here
Package 55/2230HostnameOS / ArchINSTALLBUILDCHECKBUILD BIN
AlpsNMR 4.2.0  (landing page)
Sergio Oller Moreno
git_last_commit: 3a59cb7
git_last_commit_date: 2023-04-25 11:24:59 -0400
nebbiolo1Linux (Ubuntu 22.04.2 LTS) / x86_64  OK    OK    OK  UNNEEDED, same version is already published
palomino3Windows Server 2022 Datacenter / x64  OK    OK    OK    OK  UNNEEDED, same version is already published
merida1macOS 12.6.4 Monterey / x86_64  OK    OK    OK    OK  UNNEEDED, same version is already published
kjohnson2macOS 12.6.1 Monterey / arm64see weekly results here
Package 56/2230HostnameOS / ArchINSTALLBUILDCHECKBUILD BIN
altcdfenvs 2.62.0  (landing page)
Laurent Gautier
git_last_commit: aedf0e9
git_last_commit_date: 2023-04-25 09:40:05 -0400
nebbiolo1Linux (Ubuntu 22.04.2 LTS) / x86_64  OK    OK    OK  UNNEEDED, same version is already published
palomino3Windows Server 2022 Datacenter / x64  OK    OK    OK    OK  UNNEEDED, same version is already published
merida1macOS 12.6.4 Monterey / x86_64  OK    OK    OK    OK  UNNEEDED, same version is already published
kjohnson2macOS 12.6.1 Monterey / arm64see weekly results here
Package 57/2230HostnameOS / ArchINSTALLBUILDCHECKBUILD BIN
AMARETTO 1.16.0  (landing page)
Olivier Gevaert
git_last_commit: 3be8f0f
git_last_commit_date: 2023-04-25 11:08:40 -0400
nebbiolo1Linux (Ubuntu 22.04.2 LTS) / x86_64  OK    OK    WARNINGS  UNNEEDED, same version is already published
palomino3Windows Server 2022 Datacenter / x64  OK    OK    WARNINGS    OK  UNNEEDED, same version is already published
merida1macOS 12.6.4 Monterey / x86_64  OK    OK    WARNINGS    OK  UNNEEDED, same version is already published
kjohnson2macOS 12.6.1 Monterey / arm64see weekly results here
Package 58/2230HostnameOS / ArchINSTALLBUILDCHECKBUILD BIN
AMOUNTAIN 1.26.0  (landing page)
Dong Li
git_last_commit: e4b2be0
git_last_commit_date: 2023-04-25 10:48:07 -0400
nebbiolo1Linux (Ubuntu 22.04.2 LTS) / x86_64  OK    OK    OK  UNNEEDED, same version is already published
palomino3Windows Server 2022 Datacenter / x64  OK    OK    OK    OK  UNNEEDED, same version is already published
merida1macOS 12.6.4 Monterey / x86_64  OK    OK    OK    OK  UNNEEDED, same version is already published
kjohnson2macOS 12.6.1 Monterey / arm64see weekly results here
Package 59/2230HostnameOS / ArchINSTALLBUILDCHECKBUILD BIN
amplican 1.22.1  (landing page)
Eivind Valen
git_last_commit: 1813c32
git_last_commit_date: 2023-05-05 14:00:14 -0400
nebbiolo1Linux (Ubuntu 22.04.2 LTS) / x86_64  OK    OK    OK  UNNEEDED, same version is already published
palomino3Windows Server 2022 Datacenter / x64  OK    OK    OK    OK  UNNEEDED, same version is already published
merida1macOS 12.6.4 Monterey / x86_64  OK    OK    OK    OK  UNNEEDED, same version is already published
kjohnson2macOS 12.6.1 Monterey / arm64see weekly results here
Package 60/2230HostnameOS / ArchINSTALLBUILDCHECKBUILD BIN
Anaquin 2.24.0  (landing page)
Ted Wong
git_last_commit: 0eefabd
git_last_commit_date: 2023-04-25 10:49:08 -0400
nebbiolo1Linux (Ubuntu 22.04.2 LTS) / x86_64  OK    OK    OK  UNNEEDED, same version is already published
palomino3Windows Server 2022 Datacenter / x64  OK    OK    OK    OK  UNNEEDED, same version is already published
merida1macOS 12.6.4 Monterey / x86_64  OK    OK    OK    OK  UNNEEDED, same version is already published
kjohnson2macOS 12.6.1 Monterey / arm64see weekly results here
Package 61/2230HostnameOS / ArchINSTALLBUILDCHECKBUILD BIN
ANCOMBC 2.2.2  (landing page)
Huang Lin
git_last_commit: ad2d4e3
git_last_commit_date: 2023-09-19 10:34:01 -0400
nebbiolo1Linux (Ubuntu 22.04.2 LTS) / x86_64  OK    OK    OK  UNNEEDED, same version is already published
palomino3Windows Server 2022 Datacenter / x64  OK    OK    OK    OK  UNNEEDED, same version is already published
merida1macOS 12.6.4 Monterey / x86_64  OK    OK    OK    OK  UNNEEDED, same version is already published
kjohnson2macOS 12.6.1 Monterey / arm64see weekly results here
Package 62/2230HostnameOS / ArchINSTALLBUILDCHECKBUILD BIN
AneuFinder 1.28.0  (landing page)
Aaron Taudt
git_last_commit: e17d810
git_last_commit_date: 2023-04-25 10:45:33 -0400
nebbiolo1Linux (Ubuntu 22.04.2 LTS) / x86_64  OK    OK    OK  UNNEEDED, same version is already published
palomino3Windows Server 2022 Datacenter / x64  OK    OK    OK    OK  UNNEEDED, same version is already published
merida1macOS 12.6.4 Monterey / x86_64  OK    OK    OK    OK  UNNEEDED, same version is already published
kjohnson2macOS 12.6.1 Monterey / arm64see weekly results here
Package 63/2230HostnameOS / ArchINSTALLBUILDCHECKBUILD BIN
ANF 1.22.0  (landing page)
Tianle Ma
git_last_commit: 1c3093f
git_last_commit_date: 2023-04-25 10:57:08 -0400
nebbiolo1Linux (Ubuntu 22.04.2 LTS) / x86_64  OK    OK    ERROR  
palomino3Windows Server 2022 Datacenter / x64  OK    OK    OK    OK  UNNEEDED, same version is already published
merida1macOS 12.6.4 Monterey / x86_64  OK    OK    OK    OK  UNNEEDED, same version is already published
kjohnson2macOS 12.6.1 Monterey / arm64see weekly results here
Package 64/2230HostnameOS / ArchINSTALLBUILDCHECKBUILD BIN
animalcules 1.16.0  (landing page)
Yue Zhao
git_last_commit: e7416c0
git_last_commit_date: 2023-04-25 11:10:12 -0400
nebbiolo1Linux (Ubuntu 22.04.2 LTS) / x86_64  OK    OK    ERROR  
palomino3Windows Server 2022 Datacenter / x64  OK    OK    WARNINGS    OK  UNNEEDED, same version is already published
merida1macOS 12.6.4 Monterey / x86_64  OK    OK    ERROR    OK  
kjohnson2macOS 12.6.1 Monterey / arm64see weekly results here
Package 65/2230HostnameOS / ArchINSTALLBUILDCHECKBUILD BIN
annaffy 1.72.0  (landing page)
Colin A. Smith
git_last_commit: 7cb4397
git_last_commit_date: 2023-04-25 09:39:13 -0400
nebbiolo1Linux (Ubuntu 22.04.2 LTS) / x86_64  OK    OK    WARNINGS  UNNEEDED, same version is already published
palomino3Windows Server 2022 Datacenter / x64  OK    OK    WARNINGS    OK  UNNEEDED, same version is already published
merida1macOS 12.6.4 Monterey / x86_64  OK    OK    WARNINGS    OK  UNNEEDED, same version is already published
kjohnson2macOS 12.6.1 Monterey / arm64see weekly results here
Package 66/2230HostnameOS / ArchINSTALLBUILDCHECKBUILD BIN
annmap 1.42.0  (landing page)
Chris Wirth
git_last_commit: b4cafd1
git_last_commit_date: 2023-04-25 10:23:14 -0400
nebbiolo1Linux (Ubuntu 22.04.2 LTS) / x86_64  OK    OK    WARNINGS  UNNEEDED, same version is already published
palomino3Windows Server 2022 Datacenter / x64... NOT SUPPORTED ...
merida1macOS 12.6.4 Monterey / x86_64  OK    OK    WARNINGS    OK  UNNEEDED, same version is already published
kjohnson2macOS 12.6.1 Monterey / arm64see weekly results here
Package 67/2230HostnameOS / ArchINSTALLBUILDCHECKBUILD BIN
annotate 1.78.0  (landing page)
Bioconductor Package Maintainer
git_last_commit: ca6415a
git_last_commit_date: 2023-04-25 09:38:15 -0400
nebbiolo1Linux (Ubuntu 22.04.2 LTS) / x86_64  OK    OK    OK  UNNEEDED, same version is already published
palomino3Windows Server 2022 Datacenter / x64  OK    OK    ERROR    OK  
merida1macOS 12.6.4 Monterey / x86_64  OK    OK    ERROR    OK  
kjohnson2macOS 12.6.1 Monterey / arm64see weekly results here
Package 68/2230HostnameOS / ArchINSTALLBUILDCHECKBUILD BIN
AnnotationDbi 1.62.2  (landing page)
Bioconductor Package Maintainer
git_last_commit: baefc54
git_last_commit_date: 2023-06-30 16:17:11 -0400
nebbiolo1Linux (Ubuntu 22.04.2 LTS) / x86_64  OK    OK    WARNINGS  UNNEEDED, same version is already published
palomino3Windows Server 2022 Datacenter / x64  OK    OK    WARNINGS    OK  UNNEEDED, same version is already published
merida1macOS 12.6.4 Monterey / x86_64  OK    OK    WARNINGS    OK  UNNEEDED, same version is already published
kjohnson2macOS 12.6.1 Monterey / arm64see weekly results here
Package 69/2230HostnameOS / ArchINSTALLBUILDCHECKBUILD BIN
AnnotationFilter 1.24.0  (landing page)
Bioconductor Package Maintainer
git_last_commit: 172d9c1
git_last_commit_date: 2023-04-25 10:53:22 -0400
nebbiolo1Linux (Ubuntu 22.04.2 LTS) / x86_64  OK    OK    OK  UNNEEDED, same version is already published
palomino3Windows Server 2022 Datacenter / x64  OK    OK    OK    OK  UNNEEDED, same version is already published
merida1macOS 12.6.4 Monterey / x86_64  OK    OK    OK    OK  UNNEEDED, same version is already published
kjohnson2macOS 12.6.1 Monterey / arm64see weekly results here
Package 70/2230HostnameOS / ArchINSTALLBUILDCHECKBUILD BIN
AnnotationForge 1.42.2  (landing page)
Bioconductor Package Maintainer
git_last_commit: 80dd3eb
git_last_commit_date: 2023-06-22 10:52:35 -0400
nebbiolo1Linux (Ubuntu 22.04.2 LTS) / x86_64  OK    OK    OK  UNNEEDED, same version is already published
palomino3Windows Server 2022 Datacenter / x64  OK    OK    OK    OK  UNNEEDED, same version is already published
merida1macOS 12.6.4 Monterey / x86_64  OK    OK    OK    OK  UNNEEDED, same version is already published
kjohnson2macOS 12.6.1 Monterey / arm64see weekly results here
Package 71/2230HostnameOS / ArchINSTALLBUILDCHECKBUILD BIN
AnnotationHub 3.8.0  (landing page)
Bioconductor Package Maintainer
git_last_commit: 975022d
git_last_commit_date: 2023-04-25 10:26:37 -0400
nebbiolo1Linux (Ubuntu 22.04.2 LTS) / x86_64  OK    OK    WARNINGS  UNNEEDED, same version is already published
palomino3Windows Server 2022 Datacenter / x64  OK    OK    WARNINGS    OK  UNNEEDED, same version is already published
merida1macOS 12.6.4 Monterey / x86_64  OK    OK    WARNINGS    OK  UNNEEDED, same version is already published
kjohnson2macOS 12.6.1 Monterey / arm64see weekly results here
Package 72/2230HostnameOS / ArchINSTALLBUILDCHECKBUILD BIN
AnnotationHubData 1.30.0  (landing page)
Bioconductor Package Maintainer
git_last_commit: 3cf163f
git_last_commit_date: 2023-04-25 10:41:16 -0400
nebbiolo1Linux (Ubuntu 22.04.2 LTS) / x86_64  OK    OK    WARNINGS  UNNEEDED, same version is already published
palomino3Windows Server 2022 Datacenter / x64  OK    OK    WARNINGS    OK  UNNEEDED, same version is already published
merida1macOS 12.6.4 Monterey / x86_64  OK    OK    WARNINGS    OK  UNNEEDED, same version is already published
kjohnson2macOS 12.6.1 Monterey / arm64see weekly results here
Package 73/2230HostnameOS / ArchINSTALLBUILDCHECKBUILD BIN
annotationTools 1.74.0  (landing page)
Alexandre Kuhn
git_last_commit: 4115322
git_last_commit_date: 2023-04-25 09:44:59 -0400
nebbiolo1Linux (Ubuntu 22.04.2 LTS) / x86_64  OK    OK    OK  UNNEEDED, same version is already published
palomino3Windows Server 2022 Datacenter / x64  OK    OK    OK    OK  UNNEEDED, same version is already published
merida1macOS 12.6.4 Monterey / x86_64  OK    OK    OK    OK  UNNEEDED, same version is already published
kjohnson2macOS 12.6.1 Monterey / arm64see weekly results here
Package 74/2230HostnameOS / ArchINSTALLBUILDCHECKBUILD BIN
annotatr 1.26.0  (landing page)
Raymond G. Cavalcante
git_last_commit: 2a45d0a
git_last_commit_date: 2023-04-25 10:50:36 -0400
nebbiolo1Linux (Ubuntu 22.04.2 LTS) / x86_64  OK    OK    OK  UNNEEDED, same version is already published
palomino3Windows Server 2022 Datacenter / x64  OK    OK    OK    OK  UNNEEDED, same version is already published
merida1macOS 12.6.4 Monterey / x86_64  OK    OK    OK    OK  UNNEEDED, same version is already published
kjohnson2macOS 12.6.1 Monterey / arm64see weekly results here
Package 75/2230HostnameOS / ArchINSTALLBUILDCHECKBUILD BIN
anota 1.48.0  (landing page)
Ola Larsson
git_last_commit: 84c758b
git_last_commit_date: 2023-04-25 10:19:42 -0400
nebbiolo1Linux (Ubuntu 22.04.2 LTS) / x86_64  OK    OK    OK  UNNEEDED, same version is already published
palomino3Windows Server 2022 Datacenter / x64  OK    OK    OK    OK  UNNEEDED, same version is already published
merida1macOS 12.6.4 Monterey / x86_64  OK    OK    OK    OK  UNNEEDED, same version is already published
kjohnson2macOS 12.6.1 Monterey / arm64see weekly results here
Package 76/2230HostnameOS / ArchINSTALLBUILDCHECKBUILD BIN
anota2seq 1.22.0  (landing page)
Christian Oertlin , Julie Lorent
git_last_commit: 079c8ea
git_last_commit_date: 2023-04-25 10:57:11 -0400
nebbiolo1Linux (Ubuntu 22.04.2 LTS) / x86_64  OK    OK    WARNINGS  UNNEEDED, same version is already published
palomino3Windows Server 2022 Datacenter / x64  OK    OK    OK    OK  UNNEEDED, same version is already published
merida1macOS 12.6.4 Monterey / x86_64  OK    OK    OK    OK  UNNEEDED, same version is already published
kjohnson2macOS 12.6.1 Monterey / arm64see weekly results here
Package 77/2230HostnameOS / ArchINSTALLBUILDCHECKBUILD BIN
antiProfiles 1.40.0  (landing page)
Hector Corrada Bravo
git_last_commit: 01eb7b3
git_last_commit_date: 2023-04-25 10:26:49 -0400
nebbiolo1Linux (Ubuntu 22.04.2 LTS) / x86_64  OK    OK    OK  UNNEEDED, same version is already published
palomino3Windows Server 2022 Datacenter / x64  OK    OK    OK    OK  UNNEEDED, same version is already published
merida1macOS 12.6.4 Monterey / x86_64  OK    OK    OK    OK  UNNEEDED, same version is already published
kjohnson2macOS 12.6.1 Monterey / arm64see weekly results here
Package 78/2230HostnameOS / ArchINSTALLBUILDCHECKBUILD BIN
AnVIL 1.12.4  (landing page)
Martin Morgan
git_last_commit: 648ec2d
git_last_commit_date: 2023-08-16 14:44:09 -0400
nebbiolo1Linux (Ubuntu 22.04.2 LTS) / x86_64  OK    OK    OK  UNNEEDED, same version is already published
palomino3Windows Server 2022 Datacenter / x64  OK    OK    OK    OK  UNNEEDED, same version is already published
merida1macOS 12.6.4 Monterey / x86_64  OK    OK    OK    OK  UNNEEDED, same version is already published
kjohnson2macOS 12.6.1 Monterey / arm64see weekly results here
Package 79/2230HostnameOS / ArchINSTALLBUILDCHECKBUILD BIN
AnVILBilling 1.10.0  (landing page)
Vince Carey
git_last_commit: 486be4e
git_last_commit_date: 2023-04-25 11:24:19 -0400
nebbiolo1Linux (Ubuntu 22.04.2 LTS) / x86_64  OK    OK    OK  UNNEEDED, same version is already published
palomino3Windows Server 2022 Datacenter / x64  OK    OK    OK    OK  UNNEEDED, same version is already published
merida1macOS 12.6.4 Monterey / x86_64  OK    OK    OK    OK  UNNEEDED, same version is already published
kjohnson2macOS 12.6.1 Monterey / arm64see weekly results here
Package 80/2230HostnameOS / ArchINSTALLBUILDCHECKBUILD BIN
AnVILPublish 1.10.0  (landing page)
Martin Morgan
git_last_commit: 73da38d
git_last_commit_date: 2023-04-25 11:23:52 -0400
nebbiolo1Linux (Ubuntu 22.04.2 LTS) / x86_64  OK    OK    OK  UNNEEDED, same version is already published
palomino3Windows Server 2022 Datacenter / x64  OK    OK    OK    OK  UNNEEDED, same version is already published
merida1macOS 12.6.4 Monterey / x86_64  OK    OK    OK    OK  UNNEEDED, same version is already published
kjohnson2macOS 12.6.1 Monterey / arm64see weekly results here
Package 81/2230HostnameOS / ArchINSTALLBUILDCHECKBUILD BIN
AnVILWorkflow 1.0.1  (landing page)
Sehyun Oh
git_last_commit: a46deb6
git_last_commit_date: 2023-06-02 11:24:09 -0400
nebbiolo1Linux (Ubuntu 22.04.2 LTS) / x86_64  OK    OK    OK  UNNEEDED, same version is already published
palomino3Windows Server 2022 Datacenter / x64  OK    OK    OK    OK  UNNEEDED, same version is already published
merida1macOS 12.6.4 Monterey / x86_64  OK    OK    OK    OK  UNNEEDED, same version is already published
kjohnson2macOS 12.6.1 Monterey / arm64see weekly results here
Package 82/2230HostnameOS / ArchINSTALLBUILDCHECKBUILD BIN
APAlyzer 1.14.0  (landing page)
Ruijia Wang
git_last_commit: 40ddf31
git_last_commit_date: 2023-04-25 11:11:42 -0400
nebbiolo1Linux (Ubuntu 22.04.2 LTS) / x86_64  OK    OK    WARNINGS  UNNEEDED, same version is already published
palomino3Windows Server 2022 Datacenter / x64  OK    OK    WARNINGS    OK  UNNEEDED, same version is already published
merida1macOS 12.6.4 Monterey / x86_64  OK    OK    WARNINGS    OK  UNNEEDED, same version is already published
kjohnson2macOS 12.6.1 Monterey / arm64see weekly results here
Package 83/2230HostnameOS / ArchINSTALLBUILDCHECKBUILD BIN
apComplex 2.66.0  (landing page)
Denise Scholtens
git_last_commit: ada5ea5
git_last_commit_date: 2023-04-25 09:41:27 -0400
nebbiolo1Linux (Ubuntu 22.04.2 LTS) / x86_64  OK    OK    OK  UNNEEDED, same version is already published
palomino3Windows Server 2022 Datacenter / x64  OK    OK    OK    OK  UNNEEDED, same version is already published
merida1macOS 12.6.4 Monterey / x86_64  OK    OK    OK    OK  UNNEEDED, same version is already published
kjohnson2macOS 12.6.1 Monterey / arm64see weekly results here
Package 84/2230HostnameOS / ArchINSTALLBUILDCHECKBUILD BIN
apeglm 1.22.1  (landing page)
Anqi Zhu
git_last_commit: b4b9123
git_last_commit_date: 2023-05-12 15:44:49 -0400
nebbiolo1Linux (Ubuntu 22.04.2 LTS) / x86_64  OK    OK    OK  UNNEEDED, same version is already published
palomino3Windows Server 2022 Datacenter / x64  OK    OK    OK    OK  UNNEEDED, same version is already published
merida1macOS 12.6.4 Monterey / x86_64  OK    OK    OK    OK  UNNEEDED, same version is already published
kjohnson2macOS 12.6.1 Monterey / arm64see weekly results here
Package 85/2230HostnameOS / ArchINSTALLBUILDCHECKBUILD BIN
APL 1.4.0  (landing page)
Elzbieta Gralinska
git_last_commit: b65ceed
git_last_commit_date: 2023-04-25 11:38:17 -0400
nebbiolo1Linux (Ubuntu 22.04.2 LTS) / x86_64  OK    OK    OK  UNNEEDED, same version is already published
palomino3Windows Server 2022 Datacenter / x64  OK    OK    OK    OK  UNNEEDED, same version is already published
merida1macOS 12.6.4 Monterey / x86_64  OK    OK    OK    OK  UNNEEDED, same version is already published
kjohnson2macOS 12.6.1 Monterey / arm64see weekly results here
Package 86/2230HostnameOS / ArchINSTALLBUILDCHECKBUILD BIN
appreci8R 1.18.0  (landing page)
Sarah Sandmann
git_last_commit: 94c9d1b
git_last_commit_date: 2023-04-25 11:02:58 -0400
nebbiolo1Linux (Ubuntu 22.04.2 LTS) / x86_64  OK    OK    WARNINGS  UNNEEDED, same version is already published
palomino3Windows Server 2022 Datacenter / x64  OK    OK    WARNINGS    OK  UNNEEDED, same version is already published
merida1macOS 12.6.4 Monterey / x86_64  OK    OK    WARNINGS    OK  UNNEEDED, same version is already published
kjohnson2macOS 12.6.1 Monterey / arm64see weekly results here
Package 87/2230HostnameOS / ArchINSTALLBUILDCHECKBUILD BIN
aroma.light 3.30.0  (landing page)
Henrik Bengtsson
git_last_commit: a1882c2
git_last_commit_date: 2023-04-26 15:59:56 -0400
nebbiolo1Linux (Ubuntu 22.04.2 LTS) / x86_64  OK    OK    OK  UNNEEDED, same version is already published
palomino3Windows Server 2022 Datacenter / x64  OK    OK    OK    OK  UNNEEDED, same version is already published
merida1macOS 12.6.4 Monterey / x86_64  OK    OK    OK    OK  UNNEEDED, same version is already published
kjohnson2macOS 12.6.1 Monterey / arm64see weekly results here
Package 88/2230HostnameOS / ArchINSTALLBUILDCHECKBUILD BIN
ArrayExpress 1.60.0  (landing page)
Jose Marugan
git_last_commit: e1d39c3
git_last_commit_date: 2023-04-25 09:47:37 -0400
nebbiolo1Linux (Ubuntu 22.04.2 LTS) / x86_64  OK    ERROR  skipped
palomino3Windows Server 2022 Datacenter / x64  OK    ERROR  skippedskipped
merida1macOS 12.6.4 Monterey / x86_64  OK    ERROR  skippedskipped
kjohnson2macOS 12.6.1 Monterey / arm64see weekly results here
Package 89/2230HostnameOS / ArchINSTALLBUILDCHECKBUILD BIN
ArrayExpressHTS 1.50.0  (landing page)
Angela Goncalves , Andrew Tikhonov
git_last_commit: 7b79d4b
git_last_commit_date: 2023-04-25 10:19:47 -0400
nebbiolo1Linux (Ubuntu 22.04.2 LTS) / x86_64  ERROR    ERROR  skipped
palomino3Windows Server 2022 Datacenter / x64... NOT SUPPORTED ...
merida1macOS 12.6.4 Monterey / x86_64  ERROR    ERROR  skippedskipped
kjohnson2macOS 12.6.1 Monterey / arm64see weekly results here
Package 90/2230HostnameOS / ArchINSTALLBUILDCHECKBUILD BIN
arrayMvout 1.58.0  (landing page)
V. Carey
git_last_commit: 605c03a
git_last_commit_date: 2023-04-25 09:47:53 -0400
nebbiolo1Linux (Ubuntu 22.04.2 LTS) / x86_64  OK    OK    OK  UNNEEDED, same version is already published
palomino3Windows Server 2022 Datacenter / x64  OK    OK    OK    OK  UNNEEDED, same version is already published
merida1macOS 12.6.4 Monterey / x86_64  OK    OK    OK    OK  UNNEEDED, same version is already published
kjohnson2macOS 12.6.1 Monterey / arm64see weekly results here
Package 91/2230HostnameOS / ArchINSTALLBUILDCHECKBUILD BIN
arrayQuality 1.78.0  (landing page)
Agnes Paquet
git_last_commit: 1c38372
git_last_commit_date: 2023-04-25 09:40:08 -0400
nebbiolo1Linux (Ubuntu 22.04.2 LTS) / x86_64  OK    OK    WARNINGS  UNNEEDED, same version is already published
palomino3Windows Server 2022 Datacenter / x64  OK    OK    WARNINGS    OK  UNNEEDED, same version is already published
merida1macOS 12.6.4 Monterey / x86_64  OK    OK    WARNINGS    OK  UNNEEDED, same version is already published
kjohnson2macOS 12.6.1 Monterey / arm64see weekly results here
Package 92/2230HostnameOS / ArchINSTALLBUILDCHECKBUILD BIN
arrayQualityMetrics 3.56.0  (landing page)
Mike Smith
git_last_commit: 26deab2
git_last_commit_date: 2023-04-25 09:45:46 -0400
nebbiolo1Linux (Ubuntu 22.04.2 LTS) / x86_64  OK    OK    OK  UNNEEDED, same version is already published
palomino3Windows Server 2022 Datacenter / x64  OK    OK    OK    OK  UNNEEDED, same version is already published
merida1macOS 12.6.4 Monterey / x86_64  OK    OK    OK    OK  UNNEEDED, same version is already published
kjohnson2macOS 12.6.1 Monterey / arm64see weekly results here
Package 93/2230HostnameOS / ArchINSTALLBUILDCHECKBUILD BIN
ARRmNormalization 1.40.0  (landing page)
Jean-Philippe Fortin
git_last_commit: 79d5193
git_last_commit_date: 2023-04-25 10:26:00 -0400
nebbiolo1Linux (Ubuntu 22.04.2 LTS) / x86_64  OK    OK    OK  UNNEEDED, same version is already published
palomino3Windows Server 2022 Datacenter / x64  OK    OK    OK    OK  UNNEEDED, same version is already published
merida1macOS 12.6.4 Monterey / x86_64  OK    OK    OK    OK  UNNEEDED, same version is already published
kjohnson2macOS 12.6.1 Monterey / arm64see weekly results here
Package 94/2230HostnameOS / ArchINSTALLBUILDCHECKBUILD BIN
artMS 1.18.0  (landing page)
David Jimenez-Morales
git_last_commit: 06049bc
git_last_commit_date: 2023-04-25 11:06:01 -0400
nebbiolo1Linux (Ubuntu 22.04.2 LTS) / x86_64  OK    OK    OK  UNNEEDED, same version is already published
palomino3Windows Server 2022 Datacenter / x64  OK    OK    OK    OK  UNNEEDED, same version is already published
merida1macOS 12.6.4 Monterey / x86_64  OK    OK    OK    OK  UNNEEDED, same version is already published
kjohnson2macOS 12.6.1 Monterey / arm64see weekly results here
Package 95/2230HostnameOS / ArchINSTALLBUILDCHECKBUILD BIN
ASAFE 1.26.0  (landing page)
Qian Zhang
git_last_commit: ec8d1ea
git_last_commit_date: 2023-04-25 10:48:22 -0400
nebbiolo1Linux (Ubuntu 22.04.2 LTS) / x86_64  OK    OK    OK  UNNEEDED, same version is already published
palomino3Windows Server 2022 Datacenter / x64  OK    OK    OK    OK  UNNEEDED, same version is already published
merida1macOS 12.6.4 Monterey / x86_64  OK    OK    OK    OK  UNNEEDED, same version is already published
kjohnson2macOS 12.6.1 Monterey / arm64see weekly results here
Package 96/2230HostnameOS / ArchINSTALLBUILDCHECKBUILD BIN
ASEB 1.44.0  (landing page)
Likun Wang
git_last_commit: 450e1d8
git_last_commit_date: 2023-04-25 10:21:54 -0400
nebbiolo1Linux (Ubuntu 22.04.2 LTS) / x86_64  OK    OK    WARNINGS  UNNEEDED, same version is already published
palomino3Windows Server 2022 Datacenter / x64  OK    OK    OK    OK  UNNEEDED, same version is already published
merida1macOS 12.6.4 Monterey / x86_64  ERROR    ERROR  skippedskipped
kjohnson2macOS 12.6.1 Monterey / arm64see weekly results here
Package 97/2230HostnameOS / ArchINSTALLBUILDCHECKBUILD BIN
ASGSCA 1.34.0  (landing page)
Hela Romdhani
git_last_commit: 094e576
git_last_commit_date: 2023-04-25 10:35:21 -0400
nebbiolo1Linux (Ubuntu 22.04.2 LTS) / x86_64  OK    OK    OK  UNNEEDED, same version is already published
palomino3Windows Server 2022 Datacenter / x64  OK    OK    OK    OK  UNNEEDED, same version is already published
merida1macOS 12.6.4 Monterey / x86_64  OK    OK    OK    OK  UNNEEDED, same version is already published
kjohnson2macOS 12.6.1 Monterey / arm64see weekly results here
Package 98/2230HostnameOS / ArchINSTALLBUILDCHECKBUILD BIN
ASICS 2.16.0  (landing page)
Gaëlle Lefort
git_last_commit: 66758ed
git_last_commit_date: 2023-04-25 11:00:30 -0400
nebbiolo1Linux (Ubuntu 22.04.2 LTS) / x86_64  OK    OK    OK  UNNEEDED, same version is already published
palomino3Windows Server 2022 Datacenter / x64  OK    OK    OK    OK  UNNEEDED, same version is already published
merida1macOS 12.6.4 Monterey / x86_64  OK    OK    OK    OK  UNNEEDED, same version is already published
kjohnson2macOS 12.6.1 Monterey / arm64see weekly results here
Package 99/2230HostnameOS / ArchINSTALLBUILDCHECKBUILD BIN
ASpediaFI 1.14.0  (landing page)
Doyeong Yu
git_last_commit: 00e9ece
git_last_commit_date: 2023-04-25 11:13:24 -0400
nebbiolo1Linux (Ubuntu 22.04.2 LTS) / x86_64  ERROR    ERROR  skipped
palomino3Windows Server 2022 Datacenter / x64  ERROR    ERROR  skippedskipped
merida1macOS 12.6.4 Monterey / x86_64  ERROR    ERROR  skippedskipped
kjohnson2macOS 12.6.1 Monterey / arm64see weekly results here
Package 100/2230HostnameOS / ArchINSTALLBUILDCHECKBUILD BIN
ASpli 2.10.0  (landing page)
Estefania Mancini
git_last_commit: 2686a85
git_last_commit_date: 2023-04-25 10:48:38 -0400
nebbiolo1Linux (Ubuntu 22.04.2 LTS) / x86_64  OK    OK    ERROR  
palomino3Windows Server 2022 Datacenter / x64  OK    OK    WARNINGS    OK  UNNEEDED, same version is already published
merida1macOS 12.6.4 Monterey / x86_64  OK    OK    WARNINGS    OK  UNNEEDED, same version is already published
kjohnson2macOS 12.6.1 Monterey / arm64see weekly results here
Package 101/2230HostnameOS / ArchINSTALLBUILDCHECKBUILD BIN
AssessORF 1.18.0  (landing page)
Deepank Korandla
git_last_commit: 062f02c
git_last_commit_date: 2023-04-25 11:05:58 -0400
nebbiolo1Linux (Ubuntu 22.04.2 LTS) / x86_64  OK    OK    OK  UNNEEDED, same version is already published
palomino3Windows Server 2022 Datacenter / x64  OK    OK    OK    OK  UNNEEDED, same version is already published
merida1macOS 12.6.4 Monterey / x86_64  OK    OK    OK    OK  UNNEEDED, same version is already published
kjohnson2macOS 12.6.1 Monterey / arm64see weekly results here
Package 102/2230HostnameOS / ArchINSTALLBUILDCHECKBUILD BIN
ASSET 2.18.0  (landing page)
Samsiddhi Bhattacharjee
git_last_commit: a6c6cfa
git_last_commit_date: 2023-04-25 10:28:22 -0400
nebbiolo1Linux (Ubuntu 22.04.2 LTS) / x86_64  OK    OK    OK  UNNEEDED, same version is already published
palomino3Windows Server 2022 Datacenter / x64  OK    OK    OK    OK  UNNEEDED, same version is already published
merida1macOS 12.6.4 Monterey / x86_64  OK    OK    OK    OK  UNNEEDED, same version is already published
kjohnson2macOS 12.6.1 Monterey / arm64see weekly results here
Package 103/2230HostnameOS / ArchINSTALLBUILDCHECKBUILD BIN
ASSIGN 1.36.0  (landing page)
Ying Shen , W. Evan Johnson
git_last_commit: 5e923d6
git_last_commit_date: 2023-04-25 10:31:13 -0400
nebbiolo1Linux (Ubuntu 22.04.2 LTS) / x86_64  OK    OK    OK  UNNEEDED, same version is already published
palomino3Windows Server 2022 Datacenter / x64  OK    OK    OK    OK  UNNEEDED, same version is already published
merida1macOS 12.6.4 Monterey / x86_64  OK    OK    OK    OK  UNNEEDED, same version is already published
kjohnson2macOS 12.6.1 Monterey / arm64see weekly results here
Package 104/2230HostnameOS / ArchINSTALLBUILDCHECKBUILD BIN
ASURAT 1.4.0  (landing page)
Keita Iida
git_last_commit: 425489b
git_last_commit_date: 2023-04-25 11:36:55 -0400
nebbiolo1Linux (Ubuntu 22.04.2 LTS) / x86_64  OK    OK    OK  UNNEEDED, same version is already published
palomino3Windows Server 2022 Datacenter / x64  OK    OK    OK    OK  UNNEEDED, same version is already published
merida1macOS 12.6.4 Monterey / x86_64  OK    OK    OK    OK  UNNEEDED, same version is already published
kjohnson2macOS 12.6.1 Monterey / arm64see weekly results here
Package 105/2230HostnameOS / ArchINSTALLBUILDCHECKBUILD BIN
ATACCoGAPS 1.2.0  (landing page)
Rossin Erbe
git_last_commit: 508affb
git_last_commit_date: 2023-04-25 11:39:02 -0400
nebbiolo1Linux (Ubuntu 22.04.2 LTS) / x86_64  OK    OK    OK  UNNEEDED, same version is already published
palomino3Windows Server 2022 Datacenter / x64  OK    OK    OK    OK  UNNEEDED, same version is already published
merida1macOS 12.6.4 Monterey / x86_64  OK    OK    OK    OK  UNNEEDED, same version is already published
kjohnson2macOS 12.6.1 Monterey / arm64see weekly results here
Package 106/2230HostnameOS / ArchINSTALLBUILDCHECKBUILD BIN
ATACseqQC 1.24.0  (landing page)
Jianhong Ou
git_last_commit: 06d4227
git_last_commit_date: 2023-04-25 10:54:12 -0400
nebbiolo1Linux (Ubuntu 22.04.2 LTS) / x86_64  OK    OK    OK  UNNEEDED, same version is already published
palomino3Windows Server 2022 Datacenter / x64  OK    OK    OK    OK  UNNEEDED, same version is already published
merida1macOS 12.6.4 Monterey / x86_64  OK    OK    OK    OK  UNNEEDED, same version is already published
kjohnson2macOS 12.6.1 Monterey / arm64see weekly results here
Package 107/2230HostnameOS / ArchINSTALLBUILDCHECKBUILD BIN
ATACseqTFEA 1.2.0  (landing page)
Jianhong Ou
git_last_commit: 7c0aef8
git_last_commit_date: 2023-04-25 11:39:37 -0400
nebbiolo1Linux (Ubuntu 22.04.2 LTS) / x86_64  OK    OK    OK  UNNEEDED, same version is already published
palomino3Windows Server 2022 Datacenter / x64  OK    OK    OK    OK  UNNEEDED, same version is already published
merida1macOS 12.6.4 Monterey / x86_64  OK    OK    OK    OK  UNNEEDED, same version is already published
kjohnson2macOS 12.6.1 Monterey / arm64see weekly results here
Package 108/2230HostnameOS / ArchINSTALLBUILDCHECKBUILD BIN
atena 1.6.0  (landing page)
Beatriz Calvo-Serra
git_last_commit: 4053ecb
git_last_commit_date: 2023-04-25 11:32:49 -0400
nebbiolo1Linux (Ubuntu 22.04.2 LTS) / x86_64  OK    OK    OK  UNNEEDED, same version is already published
palomino3Windows Server 2022 Datacenter / x64  OK    OK    OK    OK  UNNEEDED, same version is already published
merida1macOS 12.6.4 Monterey / x86_64  OK    OK    OK    OK  UNNEEDED, same version is already published
kjohnson2macOS 12.6.1 Monterey / arm64see weekly results here
Package 109/2230HostnameOS / ArchINSTALLBUILDCHECKBUILD BIN
atSNP 1.16.0  (landing page)
Sunyoung Shin
git_last_commit: 40fcedf
git_last_commit_date: 2023-04-25 11:07:58 -0400
nebbiolo1Linux (Ubuntu 22.04.2 LTS) / x86_64  OK    OK    OK  UNNEEDED, same version is already published
palomino3Windows Server 2022 Datacenter / x64  OK    OK    OK    OK  UNNEEDED, same version is already published
merida1macOS 12.6.4 Monterey / x86_64  OK    OK    OK    OK  UNNEEDED, same version is already published
kjohnson2macOS 12.6.1 Monterey / arm64see weekly results here
Package 110/2230HostnameOS / ArchINSTALLBUILDCHECKBUILD BIN
attract 1.52.0  (landing page)
Samuel Zimmerman
git_last_commit: 5ceff70
git_last_commit_date: 2023-04-25 09:51:08 -0400
nebbiolo1Linux (Ubuntu 22.04.2 LTS) / x86_64  OK    OK    OK  UNNEEDED, same version is already published
palomino3Windows Server 2022 Datacenter / x64  OK    OK    OK    OK  UNNEEDED, same version is already published
merida1macOS 12.6.4 Monterey / x86_64  OK    OK    OK    OK  UNNEEDED, same version is already published
kjohnson2macOS 12.6.1 Monterey / arm64see weekly results here
Package 111/2230HostnameOS / ArchINSTALLBUILDCHECKBUILD BIN
AUCell 1.22.0  (landing page)
Sara Aibar
git_last_commit: f51828f
git_last_commit_date: 2023-04-25 10:56:34 -0400
nebbiolo1Linux (Ubuntu 22.04.2 LTS) / x86_64  OK    OK    OK  UNNEEDED, same version is already published
palomino3Windows Server 2022 Datacenter / x64  OK    OK    OK    OK  UNNEEDED, same version is already published
merida1macOS 12.6.4 Monterey / x86_64  OK    OK    OK    OK  UNNEEDED, same version is already published
kjohnson2macOS 12.6.1 Monterey / arm64see weekly results here
Package 112/2230HostnameOS / ArchINSTALLBUILDCHECKBUILD BIN
autonomics 1.8.0  (landing page)
Aditya Bhagwat
git_last_commit: d84d5f1
git_last_commit_date: 2023-04-25 11:27:21 -0400
nebbiolo1Linux (Ubuntu 22.04.2 LTS) / x86_64  OK    OK    WARNINGS  UNNEEDED, same version is already published
palomino3Windows Server 2022 Datacenter / x64  OK    OK    WARNINGS    OK  UNNEEDED, same version is already published
merida1macOS 12.6.4 Monterey / x86_64  OK    OK    WARNINGS    OK  UNNEEDED, same version is already published
kjohnson2macOS 12.6.1 Monterey / arm64see weekly results here
Package 113/2230HostnameOS / ArchINSTALLBUILDCHECKBUILD BIN
AWFisher 1.14.0  (landing page)
Zhiguang Huo
git_last_commit: b479dbc
git_last_commit_date: 2023-04-25 11:11:11 -0400
nebbiolo1Linux (Ubuntu 22.04.2 LTS) / x86_64  OK    OK    OK  UNNEEDED, same version is already published
palomino3Windows Server 2022 Datacenter / x64  OK    OK    OK    OK  UNNEEDED, same version is already published
merida1macOS 12.6.4 Monterey / x86_64  OK    OK    OK    OK  UNNEEDED, same version is already published
kjohnson2macOS 12.6.1 Monterey / arm64see weekly results here
Package 114/2230HostnameOS / ArchINSTALLBUILDCHECKBUILD BIN
awst 1.8.0  (landing page)
Davide Risso
git_last_commit: 86e40de
git_last_commit_date: 2023-04-25 11:29:11 -0400
nebbiolo1Linux (Ubuntu 22.04.2 LTS) / x86_64  OK    OK    OK  UNNEEDED, same version is already published
palomino3Windows Server 2022 Datacenter / x64  OK    OK    OK    OK  UNNEEDED, same version is already published
merida1macOS 12.6.4 Monterey / x86_64  OK    OK    OK    OK  UNNEEDED, same version is already published
kjohnson2macOS 12.6.1 Monterey / arm64see weekly results here
B
ABCDEFGHIJKLMNOPQRSTUVWXYZ
Package 115/2230HostnameOS / ArchINSTALLBUILDCHECKBUILD BIN
BaalChIP 1.26.0  (landing page)
Ines de Santiago
git_last_commit: 6129049
git_last_commit_date: 2023-04-25 10:49:34 -0400
nebbiolo1Linux (Ubuntu 22.04.2 LTS) / x86_64  OK    OK    WARNINGS  UNNEEDED, same version is already published
palomino3Windows Server 2022 Datacenter / x64  OK    OK    WARNINGS    OK  UNNEEDED, same version is already published
merida1macOS 12.6.4 Monterey / x86_64  OK    OK    WARNINGS    OK  UNNEEDED, same version is already published
kjohnson2macOS 12.6.1 Monterey / arm64see weekly results here
Package 116/2230HostnameOS / ArchINSTALLBUILDCHECKBUILD BIN
bacon 1.28.0  (landing page)
Maarten van Iterson
git_last_commit: 77e9451
git_last_commit_date: 2023-04-25 10:45:08 -0400
nebbiolo1Linux (Ubuntu 22.04.2 LTS) / x86_64  OK    OK    OK  UNNEEDED, same version is already published
palomino3Windows Server 2022 Datacenter / x64  OK    OK    OK    OK  UNNEEDED, same version is already published
merida1macOS 12.6.4 Monterey / x86_64  OK    OK    OK    OK  UNNEEDED, same version is already published
kjohnson2macOS 12.6.1 Monterey / arm64see weekly results here
Package 117/2230HostnameOS / ArchINSTALLBUILDCHECKBUILD BIN
BADER 1.38.0  (landing page)
Andreas Neudecker
git_last_commit: 822034e
git_last_commit_date: 2023-04-25 10:28:37 -0400
nebbiolo1Linux (Ubuntu 22.04.2 LTS) / x86_64  OK    OK    OK  UNNEEDED, same version is already published
palomino3Windows Server 2022 Datacenter / x64  OK    OK    OK    OK  UNNEEDED, same version is already published
merida1macOS 12.6.4 Monterey / x86_64  OK    OK    OK    OK  UNNEEDED, same version is already published
kjohnson2macOS 12.6.1 Monterey / arm64see weekly results here
Package 118/2230HostnameOS / ArchINSTALLBUILDCHECKBUILD BIN
BadRegionFinder 1.28.0  (landing page)
Sarah Sandmann
git_last_commit: 95a67a9
git_last_commit_date: 2023-04-25 10:45:57 -0400
nebbiolo1Linux (Ubuntu 22.04.2 LTS) / x86_64  OK    OK    OK  UNNEEDED, same version is already published
palomino3Windows Server 2022 Datacenter / x64  OK    OK    OK    OK  UNNEEDED, same version is already published
merida1macOS 12.6.4 Monterey / x86_64  OK    OK    OK    OK  UNNEEDED, same version is already published
kjohnson2macOS 12.6.1 Monterey / arm64see weekly results here
Package 119/2230HostnameOS / ArchINSTALLBUILDCHECKBUILD BIN
BAGS 2.40.0  (landing page)
Alejandro Quiroz-Zarate
git_last_commit: 2d51cfc
git_last_commit_date: 2023-04-25 10:22:09 -0400
nebbiolo1Linux (Ubuntu 22.04.2 LTS) / x86_64  OK    OK    OK  UNNEEDED, same version is already published
palomino3Windows Server 2022 Datacenter / x64  OK    OK    OK    OK  UNNEEDED, same version is already published
merida1macOS 12.6.4 Monterey / x86_64  OK    OK    OK    OK  UNNEEDED, same version is already published
kjohnson2macOS 12.6.1 Monterey / arm64see weekly results here
Package 120/2230HostnameOS / ArchINSTALLBUILDCHECKBUILD BIN
ballgown 2.32.0  (landing page)
Jack Fu
git_last_commit: c0fc299
git_last_commit_date: 2023-04-25 10:33:25 -0400
nebbiolo1Linux (Ubuntu 22.04.2 LTS) / x86_64  OK    OK    OK  UNNEEDED, same version is already published
palomino3Windows Server 2022 Datacenter / x64  OK    OK    OK    OK  UNNEEDED, same version is already published
merida1macOS 12.6.4 Monterey / x86_64  OK    OK    OK    OK  UNNEEDED, same version is already published
kjohnson2macOS 12.6.1 Monterey / arm64see weekly results here
Package 121/2230HostnameOS / ArchINSTALLBUILDCHECKBUILD BIN
bambu 3.2.6  (landing page)
Ying Chen
git_last_commit: 2fb8864
git_last_commit_date: 2023-08-23 04:55:16 -0400
nebbiolo1Linux (Ubuntu 22.04.2 LTS) / x86_64  OK    OK    OK  UNNEEDED, same version is already published
palomino3Windows Server 2022 Datacenter / x64  OK    OK    OK    OK  UNNEEDED, same version is already published
merida1macOS 12.6.4 Monterey / x86_64  OK    OK    OK    OK  UNNEEDED, same version is already published
kjohnson2macOS 12.6.1 Monterey / arm64see weekly results here
Package 122/2230HostnameOS / ArchINSTALLBUILDCHECKBUILD BIN
bamsignals 1.32.0  (landing page)
Johannes Helmuth
git_last_commit: 34bfc4e
git_last_commit_date: 2023-04-25 10:38:18 -0400
nebbiolo1Linux (Ubuntu 22.04.2 LTS) / x86_64  OK    OK    WARNINGS  UNNEEDED, same version is already published
palomino3Windows Server 2022 Datacenter / x64  OK    OK    OK    OK  UNNEEDED, same version is already published
merida1macOS 12.6.4 Monterey / x86_64  OK    OK    WARNINGS    OK  UNNEEDED, same version is already published
kjohnson2macOS 12.6.1 Monterey / arm64see weekly results here
Package 123/2230HostnameOS / ArchINSTALLBUILDCHECKBUILD BIN
BANDITS 1.16.1  (landing page)
Simone Tiberi
git_last_commit: 113cf92
git_last_commit_date: 2023-05-01 20:02:44 -0400
nebbiolo1Linux (Ubuntu 22.04.2 LTS) / x86_64  OK    OK    OK  UNNEEDED, same version is already published
palomino3Windows Server 2022 Datacenter / x64  OK    OK    OK    OK  UNNEEDED, same version is already published
merida1macOS 12.6.4 Monterey / x86_64  OK    OK    OK    OK  UNNEEDED, same version is already published
kjohnson2macOS 12.6.1 Monterey / arm64see weekly results here
Package 124/2230HostnameOS / ArchINSTALLBUILDCHECKBUILD BIN
bandle 1.4.1  (landing page)
Oliver M. Crook
git_last_commit: 8df33a5
git_last_commit_date: 2023-05-01 20:09:04 -0400
nebbiolo1Linux (Ubuntu 22.04.2 LTS) / x86_64  OK    OK    OK  UNNEEDED, same version is already published
palomino3Windows Server 2022 Datacenter / x64  OK    OK    OK    OK  UNNEEDED, same version is already published
merida1macOS 12.6.4 Monterey / x86_64  OK    OK    OK    OK  UNNEEDED, same version is already published
kjohnson2macOS 12.6.1 Monterey / arm64see weekly results here
Package 125/2230HostnameOS / ArchINSTALLBUILDCHECKBUILD BIN
banocc 1.24.0  (landing page)
George Weingart
git_last_commit: 2bed502
git_last_commit_date: 2023-04-25 10:53:33 -0400
nebbiolo1Linux (Ubuntu 22.04.2 LTS) / x86_64  OK    OK    OK  UNNEEDED, same version is already published
palomino3Windows Server 2022 Datacenter / x64  OK    OK    OK    OK  UNNEEDED, same version is already published
merida1macOS 12.6.4 Monterey / x86_64  OK    OK    OK    OK  UNNEEDED, same version is already published
kjohnson2macOS 12.6.1 Monterey / arm64see weekly results here
Package 126/2230HostnameOS / ArchINSTALLBUILDCHECKBUILD BIN
barcodetrackR 1.8.0  (landing page)
Diego Alexander Espinoza
git_last_commit: 5db9a97
git_last_commit_date: 2023-04-25 11:28:09 -0400
nebbiolo1Linux (Ubuntu 22.04.2 LTS) / x86_64  OK    OK    OK  UNNEEDED, same version is already published
palomino3Windows Server 2022 Datacenter / x64  OK    OK    OK    OK  UNNEEDED, same version is already published
merida1macOS 12.6.4 Monterey / x86_64  OK    OK    OK    OK  UNNEEDED, same version is already published
kjohnson2macOS 12.6.1 Monterey / arm64see weekly results here
Package 127/2230HostnameOS / ArchINSTALLBUILDCHECKBUILD BIN
basecallQC 1.24.0  (landing page)
Thomas Carroll
git_last_commit: 7598a88
git_last_commit_date: 2023-04-25 10:53:38 -0400
nebbiolo1Linux (Ubuntu 22.04.2 LTS) / x86_64  OK    OK    OK  UNNEEDED, same version is already published
palomino3Windows Server 2022 Datacenter / x64  OK    OK    OK    OK  UNNEEDED, same version is already published
merida1macOS 12.6.4 Monterey / x86_64  OK    OK    OK    OK  UNNEEDED, same version is already published
kjohnson2macOS 12.6.1 Monterey / arm64see weekly results here
Package 128/2230HostnameOS / ArchINSTALLBUILDCHECKBUILD BIN
BaseSpaceR 1.44.0  (landing page)
Jared O'Connell
git_last_commit: bea641c
git_last_commit_date: 2023-04-25 10:26:18 -0400
nebbiolo1Linux (Ubuntu 22.04.2 LTS) / x86_64  OK    OK    WARNINGS  UNNEEDED, same version is already published
palomino3Windows Server 2022 Datacenter / x64  OK    OK    WARNINGS    OK  UNNEEDED, same version is already published
merida1macOS 12.6.4 Monterey / x86_64  OK    OK    WARNINGS    OK  UNNEEDED, same version is already published
kjohnson2macOS 12.6.1 Monterey / arm64see weekly results here
Package 129/2230HostnameOS / ArchINSTALLBUILDCHECKBUILD BIN
Basic4Cseq 1.36.0  (landing page)
Carolin Walter
git_last_commit: 0f53930
git_last_commit_date: 2023-04-25 10:30:42 -0400
nebbiolo1Linux (Ubuntu 22.04.2 LTS) / x86_64  OK    OK    OK  UNNEEDED, same version is already published
palomino3Windows Server 2022 Datacenter / x64  OK    OK    OK    OK  UNNEEDED, same version is already published
merida1macOS 12.6.4 Monterey / x86_64  OK    OK    OK    OK  UNNEEDED, same version is already published
kjohnson2macOS 12.6.1 Monterey / arm64see weekly results here
Package 130/2230HostnameOS / ArchINSTALLBUILDCHECKBUILD BIN
BASiCS 2.12.3  (landing page)
Catalina Vallejos
git_last_commit: 6e6339b
git_last_commit_date: 2023-06-19 07:17:39 -0400
nebbiolo1Linux (Ubuntu 22.04.2 LTS) / x86_64  OK    OK    OK  UNNEEDED, same version is already published
palomino3Windows Server 2022 Datacenter / x64  OK    OK    OK    OK  UNNEEDED, same version is already published
merida1macOS 12.6.4 Monterey / x86_64  OK    OK    OK    OK  UNNEEDED, same version is already published
kjohnson2macOS 12.6.1 Monterey / arm64see weekly results here
Package 131/2230HostnameOS / ArchINSTALLBUILDCHECKBUILD BIN
BASiCStan 1.2.0  (landing page)
Alan O'Callaghan
git_last_commit: e67f954
git_last_commit_date: 2023-04-25 11:39:42 -0400
nebbiolo1Linux (Ubuntu 22.04.2 LTS) / x86_64  OK    OK    OK  UNNEEDED, same version is already published
palomino3Windows Server 2022 Datacenter / x64  OK    OK    OK    OK  UNNEEDED, same version is already published
merida1macOS 12.6.4 Monterey / x86_64  OK    OK    OK    OK  UNNEEDED, same version is already published
kjohnson2macOS 12.6.1 Monterey / arm64see weekly results here
Package 132/2230HostnameOS / ArchINSTALLBUILDCHECKBUILD BIN
BasicSTARRseq 1.28.0  (landing page)
Annika Buerger
git_last_commit: 75bd2b1
git_last_commit_date: 2023-04-25 10:44:02 -0400
nebbiolo1Linux (Ubuntu 22.04.2 LTS) / x86_64  OK    OK    OK  UNNEEDED, same version is already published
palomino3Windows Server 2022 Datacenter / x64  OK    OK    OK    OK  UNNEEDED, same version is already published
merida1macOS 12.6.4 Monterey / x86_64  OK    OK    OK    OK  UNNEEDED, same version is already published
kjohnson2macOS 12.6.1 Monterey / arm64see weekly results here
Package 133/2230HostnameOS / ArchINSTALLBUILDCHECKBUILD BIN
basilisk 1.12.1  (landing page)
Aaron Lun
git_last_commit: 374eda1
git_last_commit_date: 2023-06-07 02:59:19 -0400
nebbiolo1Linux (Ubuntu 22.04.2 LTS) / x86_64  OK    OK    WARNINGS  UNNEEDED, same version is already published
palomino3Windows Server 2022 Datacenter / x64  OK    OK    TIMEOUT    OK  
merida1macOS 12.6.4 Monterey / x86_64  OK    OK    TIMEOUT    OK  
kjohnson2macOS 12.6.1 Monterey / arm64see weekly results here
Package 134/2230HostnameOS / ArchINSTALLBUILDCHECKBUILD BIN
basilisk.utils 1.12.1  (landing page)
Aaron Lun
git_last_commit: c93f615
git_last_commit_date: 2023-05-19 12:03:53 -0400
nebbiolo1Linux (Ubuntu 22.04.2 LTS) / x86_64  OK    OK    OK  UNNEEDED, same version is already published
palomino3Windows Server 2022 Datacenter / x64  OK    OK    OK    OK  UNNEEDED, same version is already published
merida1macOS 12.6.4 Monterey / x86_64  OK    OK    OK    OK  UNNEEDED, same version is already published
kjohnson2macOS 12.6.1 Monterey / arm64see weekly results here
Package 135/2230HostnameOS / ArchINSTALLBUILDCHECKBUILD BIN
batchelor 1.16.0  (landing page)
Aaron Lun
git_last_commit: 8ecc91e
git_last_commit_date: 2023-04-25 11:09:01 -0400
nebbiolo1Linux (Ubuntu 22.04.2 LTS) / x86_64  OK    OK    OK  UNNEEDED, same version is already published
palomino3Windows Server 2022 Datacenter / x64  OK    OK    OK    OK  UNNEEDED, same version is already published
merida1macOS 12.6.4 Monterey / x86_64  OK    OK    OK    OK  UNNEEDED, same version is already published
kjohnson2macOS 12.6.1 Monterey / arm64see weekly results here
Package 136/2230HostnameOS / ArchINSTALLBUILDCHECKBUILD BIN
BatchQC 1.28.0  (landing page)
Solaiappan Manimaran
git_last_commit: d0af9be
git_last_commit_date: 2023-04-25 10:46:13 -0400
nebbiolo1Linux (Ubuntu 22.04.2 LTS) / x86_64  OK    OK    OK  UNNEEDED, same version is already published
palomino3Windows Server 2022 Datacenter / x64  OK    OK    OK    OK  UNNEEDED, same version is already published
merida1macOS 12.6.4 Monterey / x86_64  OK    OK    OK    OK  UNNEEDED, same version is already published
kjohnson2macOS 12.6.1 Monterey / arm64see weekly results here
Package 137/2230HostnameOS / ArchINSTALLBUILDCHECKBUILD BIN
BayesKnockdown 1.26.0  (landing page)
William Chad Young
git_last_commit: f90992e
git_last_commit_date: 2023-04-25 10:48:43 -0400
nebbiolo1Linux (Ubuntu 22.04.2 LTS) / x86_64  OK    OK    OK  UNNEEDED, same version is already published
palomino3Windows Server 2022 Datacenter / x64  OK    OK    OK    OK  UNNEEDED, same version is already published
merida1macOS 12.6.4 Monterey / x86_64  OK    OK    OK    OK  UNNEEDED, same version is already published
kjohnson2macOS 12.6.1 Monterey / arm64see weekly results here
Package 138/2230HostnameOS / ArchINSTALLBUILDCHECKBUILD BIN
BayesSpace 1.10.1  (landing page)
Matt Stone
git_last_commit: 8af698b
git_last_commit_date: 2023-05-01 20:03:51 -0400
nebbiolo1Linux (Ubuntu 22.04.2 LTS) / x86_64  OK    OK    OK  UNNEEDED, same version is already published
palomino3Windows Server 2022 Datacenter / x64  OK    OK    OK    OK  UNNEEDED, same version is already published
merida1macOS 12.6.4 Monterey / x86_64  OK    OK    OK    OK  UNNEEDED, same version is already published
kjohnson2macOS 12.6.1 Monterey / arm64see weekly results here
Package 139/2230HostnameOS / ArchINSTALLBUILDCHECKBUILD BIN
bayNorm 1.18.1  (landing page)
Wenhao Tang
git_last_commit: 4921d64
git_last_commit_date: 2023-05-01 20:09:05 -0400
nebbiolo1Linux (Ubuntu 22.04.2 LTS) / x86_64  OK    OK    OK  UNNEEDED, same version is already published
palomino3Windows Server 2022 Datacenter / x64  OK    OK    OK    OK  UNNEEDED, same version is already published
merida1macOS 12.6.4 Monterey / x86_64  OK    OK    OK    OK  UNNEEDED, same version is already published
kjohnson2macOS 12.6.1 Monterey / arm64see weekly results here
Package 140/2230HostnameOS / ArchINSTALLBUILDCHECKBUILD BIN
baySeq 2.34.0  (landing page)
Thomas J. Hardcastle
git_last_commit: f4619cd
git_last_commit_date: 2023-04-25 09:49:38 -0400
nebbiolo1Linux (Ubuntu 22.04.2 LTS) / x86_64  OK    ERROR  skipped
palomino3Windows Server 2022 Datacenter / x64  OK    ERROR  skippedskipped
merida1macOS 12.6.4 Monterey / x86_64  OK    ERROR  skippedskipped
kjohnson2macOS 12.6.1 Monterey / arm64see weekly results here
Package 141/2230HostnameOS / ArchINSTALLBUILDCHECKBUILD BIN
BBCAnalyzer 1.30.0  (landing page)
Sarah Sandmann
git_last_commit: 1d27ee5
git_last_commit_date: 2023-04-25 10:41:00 -0400
nebbiolo1Linux (Ubuntu 22.04.2 LTS) / x86_64  OK    OK    OK  UNNEEDED, same version is already published
palomino3Windows Server 2022 Datacenter / x64  OK    OK    WARNINGS    OK  UNNEEDED, same version is already published
merida1macOS 12.6.4 Monterey / x86_64  OK    OK    OK    OK  UNNEEDED, same version is already published
kjohnson2macOS 12.6.1 Monterey / arm64see weekly results here
Package 142/2230HostnameOS / ArchINSTALLBUILDCHECKBUILD BIN
BCRANK 1.62.0  (landing page)
Adam Ameur
git_last_commit: 377e513
git_last_commit_date: 2023-04-25 09:46:24 -0400
nebbiolo1Linux (Ubuntu 22.04.2 LTS) / x86_64  OK    OK    OK  UNNEEDED, same version is already published
palomino3Windows Server 2022 Datacenter / x64  OK    OK    OK    OK  UNNEEDED, same version is already published
merida1macOS 12.6.4 Monterey / x86_64  OK    OK    OK    OK  UNNEEDED, same version is already published
kjohnson2macOS 12.6.1 Monterey / arm64see weekly results here
Package 143/2230HostnameOS / ArchINSTALLBUILDCHECKBUILD BIN
bcSeq 1.22.0  (landing page)
Jiaxing Lin
git_last_commit: e9dc5cc
git_last_commit_date: 2023-04-25 10:58:15 -0400
nebbiolo1Linux (Ubuntu 22.04.2 LTS) / x86_64  OK    OK    WARNINGS  UNNEEDED, same version is already published
palomino3Windows Server 2022 Datacenter / x64  OK    OK    WARNINGS    OK  UNNEEDED, same version is already published
merida1macOS 12.6.4 Monterey / x86_64  OK    OK    OK    OK  UNNEEDED, same version is already published
kjohnson2macOS 12.6.1 Monterey / arm64see weekly results here
Package 144/2230HostnameOS / ArchINSTALLBUILDCHECKBUILD BIN
BDMMAcorrect 1.18.1  (landing page)
ZHENWEI DAI
git_last_commit: f0865cd
git_last_commit_date: 2023-05-01 20:02:59 -0400
nebbiolo1Linux (Ubuntu 22.04.2 LTS) / x86_64  OK    OK    ERROR  
palomino3Windows Server 2022 Datacenter / x64  OK    OK    OK    OK  UNNEEDED, same version is already published
merida1macOS 12.6.4 Monterey / x86_64  OK    OK    OK    OK  UNNEEDED, same version is already published
kjohnson2macOS 12.6.1 Monterey / arm64see weekly results here
Package 145/2230HostnameOS / ArchINSTALLBUILDCHECKBUILD BIN
beachmat 2.16.0  (landing page)
Aaron Lun
git_last_commit: 4cc8e50
git_last_commit_date: 2023-04-25 10:55:12 -0400
nebbiolo1Linux (Ubuntu 22.04.2 LTS) / x86_64  OK    OK    OK  UNNEEDED, same version is already published
palomino3Windows Server 2022 Datacenter / x64  OK    OK    OK    OK  UNNEEDED, same version is already published
merida1macOS 12.6.4 Monterey / x86_64  OK    OK    OK    OK  UNNEEDED, same version is already published
kjohnson2macOS 12.6.1 Monterey / arm64see weekly results here
Package 146/2230HostnameOS / ArchINSTALLBUILDCHECKBUILD BIN
beadarray 2.50.0  (landing page)
Mark Dunning
git_last_commit: 715d372
git_last_commit_date: 2023-04-25 09:43:07 -0400
nebbiolo1Linux (Ubuntu 22.04.2 LTS) / x86_64  OK    OK    OK  UNNEEDED, same version is already published
palomino3Windows Server 2022 Datacenter / x64  OK    OK    OK    OK  UNNEEDED, same version is already published
merida1macOS 12.6.4 Monterey / x86_64  OK    OK    OK    OK  UNNEEDED, same version is already published
kjohnson2macOS 12.6.1 Monterey / arm64see weekly results here
Package 147/2230HostnameOS / ArchINSTALLBUILDCHECKBUILD BIN
beadarraySNP 1.66.0  (landing page)
Jan Oosting
git_last_commit: 27b9827
git_last_commit_date: 2023-04-25 09:44:17 -0400
nebbiolo1Linux (Ubuntu 22.04.2 LTS) / x86_64  OK    OK    OK  UNNEEDED, same version is already published
palomino3Windows Server 2022 Datacenter / x64  OK    OK    OK    OK  UNNEEDED, same version is already published
merida1macOS 12.6.4 Monterey / x86_64  OK    OK    OK    OK  UNNEEDED, same version is already published
kjohnson2macOS 12.6.1 Monterey / arm64see weekly results here
Package 148/2230HostnameOS / ArchINSTALLBUILDCHECKBUILD BIN
BeadDataPackR 1.52.0  (landing page)
Mike Smith
git_last_commit: 5c0362c
git_last_commit_date: 2023-04-25 09:50:31 -0400
nebbiolo1Linux (Ubuntu 22.04.2 LTS) / x86_64  OK    OK    OK  UNNEEDED, same version is already published
palomino3Windows Server 2022 Datacenter / x64  OK    OK    OK    OK  UNNEEDED, same version is already published
merida1macOS 12.6.4 Monterey / x86_64  OK    OK    OK    OK  UNNEEDED, same version is already published
kjohnson2macOS 12.6.1 Monterey / arm64see weekly results here
Package 149/2230HostnameOS / ArchINSTALLBUILDCHECKBUILD BIN
BEARscc 1.20.0  (landing page)
Benjamin Schuster-Boeckler
git_last_commit: 9a08e00
git_last_commit_date: 2023-04-25 10:59:12 -0400
nebbiolo1Linux (Ubuntu 22.04.2 LTS) / x86_64  OK    OK    OK  UNNEEDED, same version is already published
palomino3Windows Server 2022 Datacenter / x64  OK    OK    OK    OK  UNNEEDED, same version is already published
merida1macOS 12.6.4 Monterey / x86_64  OK    OK    OK    OK  UNNEEDED, same version is already published
kjohnson2macOS 12.6.1 Monterey / arm64see weekly results here
Package 150/2230HostnameOS / ArchINSTALLBUILDCHECKBUILD BIN
BEAT 1.38.0  (landing page)
Kemal Akman
git_last_commit: c346273
git_last_commit_date: 2023-04-25 10:30:03 -0400
nebbiolo1Linux (Ubuntu 22.04.2 LTS) / x86_64  OK    OK    OK  UNNEEDED, same version is already published
palomino3Windows Server 2022 Datacenter / x64  OK    OK    OK    OK  UNNEEDED, same version is already published
merida1macOS 12.6.4 Monterey / x86_64  OK    OK    OK    OK  UNNEEDED, same version is already published
kjohnson2macOS 12.6.1 Monterey / arm64see weekly results here
Package 151/2230HostnameOS / ArchINSTALLBUILDCHECKBUILD BIN
BEclear 2.16.0  (landing page)
Livia Rasp
git_last_commit: 7aa38c5
git_last_commit_date: 2023-04-25 10:39:46 -0400
nebbiolo1Linux (Ubuntu 22.04.2 LTS) / x86_64  OK    OK    OK  UNNEEDED, same version is already published
palomino3Windows Server 2022 Datacenter / x64  OK    OK    OK    OK  UNNEEDED, same version is already published
merida1macOS 12.6.4 Monterey / x86_64  OK    OK    OK    OK  UNNEEDED, same version is already published
kjohnson2macOS 12.6.1 Monterey / arm64see weekly results here
Package 152/2230HostnameOS / ArchINSTALLBUILDCHECKBUILD BIN
beer 1.4.0  (landing page)
Athena Chen
git_last_commit: e27fbaa
git_last_commit_date: 2023-04-25 11:35:55 -0400
nebbiolo1Linux (Ubuntu 22.04.2 LTS) / x86_64  OK    OK    OK  UNNEEDED, same version is already published
palomino3Windows Server 2022 Datacenter / x64  OK    OK    OK    OK  UNNEEDED, same version is already published
merida1macOS 12.6.4 Monterey / x86_64  OK    OK    OK    OK  UNNEEDED, same version is already published
kjohnson2macOS 12.6.1 Monterey / arm64see weekly results here
Package 153/2230HostnameOS / ArchINSTALLBUILDCHECKBUILD BIN
benchdamic 1.6.4  (landing page)
Matteo Calgaro
git_last_commit: c9eb539
git_last_commit_date: 2023-07-22 05:17:46 -0400
nebbiolo1Linux (Ubuntu 22.04.2 LTS) / x86_64  OK    OK    OK  UNNEEDED, same version is already published
palomino3Windows Server 2022 Datacenter / x64  OK    OK    OK    OK  UNNEEDED, same version is already published
merida1macOS 12.6.4 Monterey / x86_64  OK    TIMEOUT  skippedskipped
kjohnson2macOS 12.6.1 Monterey / arm64see weekly results here
Package 154/2230HostnameOS / ArchINSTALLBUILDCHECKBUILD BIN
BG2 1.0.0  (landing page)
Jacob Williams
git_last_commit: 55216f3
git_last_commit_date: 2023-04-25 11:42:05 -0400
nebbiolo1Linux (Ubuntu 22.04.2 LTS) / x86_64  OK    OK    OK  UNNEEDED, same version is already published
palomino3Windows Server 2022 Datacenter / x64  OK    OK    OK    OK  UNNEEDED, same version is already published
merida1macOS 12.6.4 Monterey / x86_64  OK    OK    OK    OK  UNNEEDED, same version is already published
kjohnson2macOS 12.6.1 Monterey / arm64see weekly results here
Package 155/2230HostnameOS / ArchINSTALLBUILDCHECKBUILD BIN
BgeeCall 1.16.0  (landing page)
Julien Wollbrett
git_last_commit: 74944b5
git_last_commit_date: 2023-04-25 11:14:49 -0400
nebbiolo1Linux (Ubuntu 22.04.2 LTS) / x86_64  OK    ERROR  skipped
palomino3Windows Server 2022 Datacenter / x64  OK    ERROR  skippedskipped
merida1macOS 12.6.4 Monterey / x86_64  OK    ERROR  skippedskipped
kjohnson2macOS 12.6.1 Monterey / arm64see weekly results here
Package 156/2230HostnameOS / ArchINSTALLBUILDCHECKBUILD BIN
BgeeDB 2.26.0  (landing page)
Julien Wollbrett , Julien Roux , Andrea Komljenovic , Frederic Bastian
git_last_commit: 3b9b935
git_last_commit_date: 2023-04-25 10:46:24 -0400
nebbiolo1Linux (Ubuntu 22.04.2 LTS) / x86_64  OK    OK    OK  UNNEEDED, same version is already published
palomino3Windows Server 2022 Datacenter / x64  OK    OK    OK    OK  UNNEEDED, same version is already published
merida1macOS 12.6.4 Monterey / x86_64  OK    TIMEOUT  skippedskipped
kjohnson2macOS 12.6.1 Monterey / arm64see weekly results here
Package 157/2230HostnameOS / ArchINSTALLBUILDCHECKBUILD BIN
BGmix 1.60.0  (landing page)
Alex Lewin
git_last_commit: c7efbdf
git_last_commit_date: 2023-04-25 09:46:10 -0400
nebbiolo1Linux (Ubuntu 22.04.2 LTS) / x86_64  ERROR    ERROR  skipped
palomino3Windows Server 2022 Datacenter / x64... NOT SUPPORTED ...
merida1macOS 12.6.4 Monterey / x86_64  ERROR    ERROR  skippedskipped
kjohnson2macOS 12.6.1 Monterey / arm64see weekly results here
Package 158/2230HostnameOS / ArchINSTALLBUILDCHECKBUILD BIN
bgx 1.66.0  (landing page)
Ernest Turro
git_last_commit: 21cf621
git_last_commit_date: 2023-04-25 09:45:24 -0400
nebbiolo1Linux (Ubuntu 22.04.2 LTS) / x86_64  OK    OK    OK  UNNEEDED, same version is already published
palomino3Windows Server 2022 Datacenter / x64  OK    OK    OK    OK  UNNEEDED, same version is already published
merida1macOS 12.6.4 Monterey / x86_64  ERROR    ERROR  skippedskipped
kjohnson2macOS 12.6.1 Monterey / arm64see weekly results here
Package 159/2230HostnameOS / ArchINSTALLBUILDCHECKBUILD BIN
BHC 1.52.0  (landing page)
Rich Savage
git_last_commit: 485500a
git_last_commit_date: 2023-04-25 09:51:14 -0400
nebbiolo1Linux (Ubuntu 22.04.2 LTS) / x86_64  OK    OK    OK  UNNEEDED, same version is already published
palomino3Windows Server 2022 Datacenter / x64  OK    OK    OK    OK  UNNEEDED, same version is already published
merida1macOS 12.6.4 Monterey / x86_64  ERROR    ERROR  skippedskipped
kjohnson2macOS 12.6.1 Monterey / arm64see weekly results here
Package 160/2230HostnameOS / ArchINSTALLBUILDCHECKBUILD BIN
BicARE 1.58.0  (landing page)
Pierre Gestraud
git_last_commit: 2a8ab3f
git_last_commit_date: 2023-04-25 09:47:55 -0400
nebbiolo1Linux (Ubuntu 22.04.2 LTS) / x86_64  OK    OK    OK  UNNEEDED, same version is already published
palomino3Windows Server 2022 Datacenter / x64  OK    OK    OK    OK  UNNEEDED, same version is already published
merida1macOS 12.6.4 Monterey / x86_64  OK    OK    OK    OK  UNNEEDED, same version is already published
kjohnson2macOS 12.6.1 Monterey / arm64see weekly results here
Package 161/2230HostnameOS / ArchINSTALLBUILDCHECKBUILD BIN
BiFET 1.20.0  (landing page)
Ahrim Youn
git_last_commit: f367d7b
git_last_commit_date: 2023-04-25 10:58:52 -0400
nebbiolo1Linux (Ubuntu 22.04.2 LTS) / x86_64  OK    OK    OK  UNNEEDED, same version is already published
palomino3Windows Server 2022 Datacenter / x64  OK    OK    OK    OK  UNNEEDED, same version is already published
merida1macOS 12.6.4 Monterey / x86_64  OK    OK    OK    OK  UNNEEDED, same version is already published
kjohnson2macOS 12.6.1 Monterey / arm64see weekly results here
Package 162/2230HostnameOS / ArchINSTALLBUILDCHECKBUILD BIN
BiGGR 1.36.0  (landing page)
Anand K. Gavai
git_last_commit: b43bbd0
git_last_commit_date: 2023-04-25 10:28:32 -0400
nebbiolo1Linux (Ubuntu 22.04.2 LTS) / x86_64  OK    OK    OK  UNNEEDED, same version is already published
palomino3Windows Server 2022 Datacenter / x64  OK    OK    OK    OK  UNNEEDED, same version is already published
merida1macOS 12.6.4 Monterey / x86_64... NOT SUPPORTED ...
kjohnson2macOS 12.6.1 Monterey / arm64see weekly results here
Package 163/2230HostnameOS / ArchINSTALLBUILDCHECKBUILD BIN
bigmelon 1.26.0  (landing page)
Tyler J. Gorrie-Stone
git_last_commit: e32bf15
git_last_commit_date: 2023-04-25 10:49:39 -0400
nebbiolo1Linux (Ubuntu 22.04.2 LTS) / x86_64  OK    OK    OK  UNNEEDED, same version is already published
palomino3Windows Server 2022 Datacenter / x64  OK    OK    OK    OK  UNNEEDED, same version is already published
merida1macOS 12.6.4 Monterey / x86_64  OK    OK    OK    OK  UNNEEDED, same version is already published
kjohnson2macOS 12.6.1 Monterey / arm64see weekly results here
Package 164/2230HostnameOS / ArchINSTALLBUILDCHECKBUILD BIN
bigPint 1.16.0  (landing page)
Lindsay Rutter
git_last_commit: 759e5bf
git_last_commit_date: 2023-04-25 11:07:21 -0400
nebbiolo1Linux (Ubuntu 22.04.2 LTS) / x86_64  OK    OK    ERROR  
palomino3Windows Server 2022 Datacenter / x64  OK    OK    ERROR    OK  
merida1macOS 12.6.4 Monterey / x86_64  OK    OK    ERROR    OK  
kjohnson2macOS 12.6.1 Monterey / arm64see weekly results here
Package 165/2230HostnameOS / ArchINSTALLBUILDCHECKBUILD BIN
BindingSiteFinder 1.6.0  (landing page)
Mirko Brüggemann
git_last_commit: 90784d9
git_last_commit_date: 2023-04-25 11:31:28 -0400
nebbiolo1Linux (Ubuntu 22.04.2 LTS) / x86_64  OK    OK    OK  UNNEEDED, same version is already published
palomino3Windows Server 2022 Datacenter / x64  OK    OK    OK    OK  UNNEEDED, same version is already published
merida1macOS 12.6.4 Monterey / x86_64  OK    OK    OK    OK  UNNEEDED, same version is already published
kjohnson2macOS 12.6.1 Monterey / arm64see weekly results here
Package 166/2230HostnameOS / ArchINSTALLBUILDCHECKBUILD BIN
bioassayR 1.38.0  (landing page)
Daniela Cassol
git_last_commit: 2cc9554
git_last_commit_date: 2023-04-25 10:28:59 -0400
nebbiolo1Linux (Ubuntu 22.04.2 LTS) / x86_64  OK    OK    OK  UNNEEDED, same version is already published
palomino3Windows Server 2022 Datacenter / x64  OK    OK    OK    OK  UNNEEDED, same version is already published
merida1macOS 12.6.4 Monterey / x86_64  OK    OK    OK    OK  UNNEEDED, same version is already published
kjohnson2macOS 12.6.1 Monterey / arm64see weekly results here
Package 167/2230HostnameOS / ArchINSTALLBUILDCHECKBUILD BIN
Biobase 2.60.0  (landing page)
Bioconductor Package Maintainer
git_last_commit: 8dc10d2
git_last_commit_date: 2023-04-25 09:38:08 -0400
nebbiolo1Linux (Ubuntu 22.04.2 LTS) / x86_64  OK    OK    WARNINGS  UNNEEDED, same version is already published
palomino3Windows Server 2022 Datacenter / x64  OK    OK    OK    OK  UNNEEDED, same version is already published
merida1macOS 12.6.4 Monterey / x86_64  OK    OK    OK    OK  UNNEEDED, same version is already published
kjohnson2macOS 12.6.1 Monterey / arm64see weekly results here
Package 168/2230HostnameOS / ArchINSTALLBUILDCHECKBUILD BIN
biobroom 1.32.0  (landing page)
John D. Storey and Andrew J. Bass
git_last_commit: 6e79c96
git_last_commit_date: 2023-04-25 10:42:30 -0400
nebbiolo1Linux (Ubuntu 22.04.2 LTS) / x86_64  OK    OK    WARNINGS  UNNEEDED, same version is already published
palomino3Windows Server 2022 Datacenter / x64  OK    OK    WARNINGS    OK  UNNEEDED, same version is already published
merida1macOS 12.6.4 Monterey / x86_64  OK    OK    WARNINGS    OK  UNNEEDED, same version is already published
kjohnson2macOS 12.6.1 Monterey / arm64see weekly results here
Package 169/2230HostnameOS / ArchINSTALLBUILDCHECKBUILD BIN
biobtreeR 1.12.0  (landing page)
Tamer Gur
git_last_commit: 3446898
git_last_commit_date: 2023-05-02 17:03:35 -0400
nebbiolo1Linux (Ubuntu 22.04.2 LTS) / x86_64  OK    OK    OK  UNNEEDED, same version is already published
palomino3Windows Server 2022 Datacenter / x64  OK    OK    OK    OK  UNNEEDED, same version is already published
merida1macOS 12.6.4 Monterey / x86_64  OK    OK    OK    OK  UNNEEDED, same version is already published
kjohnson2macOS 12.6.1 Monterey / arm64see weekly results here
Package 170/2230HostnameOS / ArchINSTALLBUILDCHECKBUILD BIN
bioCancer 1.28.0  (landing page)
Karim Mezhoud
git_last_commit: 86b4e44
git_last_commit_date: 2023-04-25 10:47:14 -0400
nebbiolo1Linux (Ubuntu 22.04.2 LTS) / x86_64  OK    OK    OK  UNNEEDED, same version is already published
palomino3Windows Server 2022 Datacenter / x64  OK    OK    OK    OK  UNNEEDED, same version is already published
merida1macOS 12.6.4 Monterey / x86_64  OK    OK    OK    OK  UNNEEDED, same version is already published
kjohnson2macOS 12.6.1 Monterey / arm64see weekly results here
Package 171/2230HostnameOS / ArchINSTALLBUILDCHECKBUILD BIN
BiocBaseUtils 1.2.0  (landing page)
Marcel Ramos
git_last_commit: c324430
git_last_commit_date: 2023-04-25 11:38:22 -0400
nebbiolo1Linux (Ubuntu 22.04.2 LTS) / x86_64  OK    OK    OK  UNNEEDED, same version is already published
palomino3Windows Server 2022 Datacenter / x64  OK    OK    OK    OK  UNNEEDED, same version is already published
merida1macOS 12.6.4 Monterey / x86_64  OK    OK    OK    OK  UNNEEDED, same version is already published
kjohnson2macOS 12.6.1 Monterey / arm64see weekly results here
Package 172/2230HostnameOS / ArchINSTALLBUILDCHECKBUILD BIN
BiocCheck 1.36.1  (landing page)
Marcel Ramos
git_last_commit: 642cea8
git_last_commit_date: 2023-06-16 11:53:41 -0400
nebbiolo1Linux (Ubuntu 22.04.2 LTS) / x86_64  OK    OK    OK  UNNEEDED, same version is already published
palomino3Windows Server 2022 Datacenter / x64  OK    OK    OK    OK  UNNEEDED, same version is already published
merida1macOS 12.6.4 Monterey / x86_64  OK    OK    OK    OK  UNNEEDED, same version is already published
kjohnson2macOS 12.6.1 Monterey / arm64see weekly results here
Package 173/2230HostnameOS / ArchINSTALLBUILDCHECKBUILD BIN
BiocDockerManager 1.12.0  (landing page)
Bioconductor Package Maintainer
git_last_commit: f953256
git_last_commit_date: 2023-04-25 11:16:43 -0400
nebbiolo1Linux (Ubuntu 22.04.2 LTS) / x86_64  OK    OK    ERROR  
palomino3Windows Server 2022 Datacenter / x64  OK    OK    ERROR    OK  
merida1macOS 12.6.4 Monterey / x86_64  OK    OK    ERROR    OK  
kjohnson2macOS 12.6.1 Monterey / arm64see weekly results here
Package 174/2230HostnameOS / ArchINSTALLBUILDCHECKBUILD BIN
BiocFHIR 1.2.0  (landing page)
Vincent Carey
git_last_commit: eae34c1
git_last_commit_date: 2023-04-25 11:41:10 -0400
nebbiolo1Linux (Ubuntu 22.04.2 LTS) / x86_64  OK    OK    OK  UNNEEDED, same version is already published
palomino3Windows Server 2022 Datacenter / x64  OK    OK    OK    OK  UNNEEDED, same version is already published
merida1macOS 12.6.4 Monterey / x86_64  OK    OK    OK    OK  UNNEEDED, same version is already published
kjohnson2macOS 12.6.1 Monterey / arm64see weekly results here
Package 175/2230HostnameOS / ArchINSTALLBUILDCHECKBUILD BIN
BiocFileCache 2.8.0  (landing page)
Lori Shepherd
git_last_commit: d088b32
git_last_commit_date: 2023-04-25 10:53:05 -0400
nebbiolo1Linux (Ubuntu 22.04.2 LTS) / x86_64  OK    OK    OK  UNNEEDED, same version is already published
palomino3Windows Server 2022 Datacenter / x64  OK    OK    OK    OK  UNNEEDED, same version is already published
merida1macOS 12.6.4 Monterey / x86_64  OK    OK    OK    OK  UNNEEDED, same version is already published
kjohnson2macOS 12.6.1 Monterey / arm64see weekly results here
Package 176/2230HostnameOS / ArchINSTALLBUILDCHECKBUILD BIN
BiocGenerics 0.46.0  (landing page)
Hervé Pagès
git_last_commit: a90f0c5
git_last_commit_date: 2023-04-25 10:21:52 -0400
nebbiolo1Linux (Ubuntu 22.04.2 LTS) / x86_64  OK    OK    WARNINGS  UNNEEDED, same version is already published
palomino3Windows Server 2022 Datacenter / x64  OK    OK    WARNINGS    OK  UNNEEDED, same version is already published
merida1macOS 12.6.4 Monterey / x86_64  OK    OK    WARNINGS    OK  UNNEEDED, same version is already published
kjohnson2macOS 12.6.1 Monterey / arm64see weekly results here
Package 177/2230HostnameOS / ArchINSTALLBUILDCHECKBUILD BIN
biocGraph 1.62.0  (landing page)
Florian Hahne
git_last_commit: 4d39343
git_last_commit_date: 2023-04-25 09:45:35 -0400
nebbiolo1Linux (Ubuntu 22.04.2 LTS) / x86_64  OK    OK    OK  UNNEEDED, same version is already published
palomino3Windows Server 2022 Datacenter / x64  OK    OK    OK    OK  UNNEEDED, same version is already published
merida1macOS 12.6.4 Monterey / x86_64  OK    OK    OK    OK  UNNEEDED, same version is already published
kjohnson2macOS 12.6.1 Monterey / arm64see weekly results here
Package 178/2230HostnameOS / ArchINSTALLBUILDCHECKBUILD BIN
BiocHail 1.0.1  (landing page)
Vincent Carey
git_last_commit: f0ee4b7
git_last_commit_date: 2023-08-22 00:36:52 -0400
nebbiolo1Linux (Ubuntu 22.04.2 LTS) / x86_64  OK    OK    OK  UNNEEDED, same version is already published
palomino3Windows Server 2022 Datacenter / x64... NOT SUPPORTED ...
merida1macOS 12.6.4 Monterey / x86_64... NOT SUPPORTED ...
kjohnson2macOS 12.6.1 Monterey / arm64see weekly results here
Package 179/2230HostnameOS / ArchINSTALLBUILDCHECKBUILD BIN
BiocHubsShiny 1.0.0  (landing page)
Marcel Ramos
git_last_commit: 762fd05
git_last_commit_date: 2023-04-25 11:42:30 -0400
nebbiolo1Linux (Ubuntu 22.04.2 LTS) / x86_64  OK    OK    OK  UNNEEDED, same version is already published
palomino3Windows Server 2022 Datacenter / x64  OK    OK    OK    OK  UNNEEDED, same version is already published
merida1macOS 12.6.4 Monterey / x86_64  OK    OK    OK    OK  UNNEEDED, same version is already published
kjohnson2macOS 12.6.1 Monterey / arm64see weekly results here
Package 180/2230HostnameOS / ArchINSTALLBUILDCHECKBUILD BIN
BiocIO 1.10.0  (landing page)
Marcel Ramos
git_last_commit: 1368ff1
git_last_commit_date: 2023-04-25 11:21:59 -0400
nebbiolo1Linux (Ubuntu 22.04.2 LTS) / x86_64  OK    OK    OK  UNNEEDED, same version is already published
palomino3Windows Server 2022 Datacenter / x64  OK    OK    OK    OK  UNNEEDED, same version is already published
merida1macOS 12.6.4 Monterey / x86_64  OK    OK    OK    OK  UNNEEDED, same version is already published
kjohnson2macOS 12.6.1 Monterey / arm64see weekly results here
Package 181/2230HostnameOS / ArchINSTALLBUILDCHECKBUILD BIN
BiocNeighbors 1.18.0  (landing page)
Aaron Lun
git_last_commit: 4b19ef2
git_last_commit_date: 2023-04-25 11:02:50 -0400
nebbiolo1Linux (Ubuntu 22.04.2 LTS) / x86_64  OK    OK    WARNINGS  UNNEEDED, same version is already published
palomino3Windows Server 2022 Datacenter / x64  OK    OK    WARNINGS    OK  UNNEEDED, same version is already published
merida1macOS 12.6.4 Monterey / x86_64  OK    OK    WARNINGS    OK  UNNEEDED, same version is already published
kjohnson2macOS 12.6.1 Monterey / arm64see weekly results here
Package 182/2230HostnameOS / ArchINSTALLBUILDCHECKBUILD BIN
BiocOncoTK 1.20.0  (landing page)
VJ Carey
git_last_commit: ceb097d
git_last_commit_date: 2023-04-25 11:01:44 -0400
nebbiolo1Linux (Ubuntu 22.04.2 LTS) / x86_64  OK    OK    OK  UNNEEDED, same version is already published
palomino3Windows Server 2022 Datacenter / x64  OK    OK    OK    OK  UNNEEDED, same version is already published
merida1macOS 12.6.4 Monterey / x86_64  OK    OK    OK    OK  UNNEEDED, same version is already published
kjohnson2macOS 12.6.1 Monterey / arm64see weekly results here
Package 183/2230HostnameOS / ArchINSTALLBUILDCHECKBUILD BIN
BioCor 1.24.0  (landing page)
Lluís Revilla Sancho
git_last_commit: 51f2d9f
git_last_commit_date: 2023-04-25 10:53:03 -0400
nebbiolo1Linux (Ubuntu 22.04.2 LTS) / x86_64  OK    OK    OK  UNNEEDED, same version is already published
palomino3Windows Server 2022 Datacenter / x64  OK    OK    OK    OK  UNNEEDED, same version is already published
merida1macOS 12.6.4 Monterey / x86_64  OK    OK    OK    OK  UNNEEDED, same version is already published
kjohnson2macOS 12.6.1 Monterey / arm64see weekly results here
Package 184/2230HostnameOS / ArchINSTALLBUILDCHECKBUILD BIN
BiocParallel 1.34.2  (landing page)
Martin Morgan
git_last_commit: 77491b2
git_last_commit_date: 2023-05-22 11:36:52 -0400
nebbiolo1Linux (Ubuntu 22.04.2 LTS) / x86_64  OK    OK    OK  UNNEEDED, same version is already published
palomino3Windows Server 2022 Datacenter / x64  OK    OK    OK    OK  UNNEEDED, same version is already published
merida1macOS 12.6.4 Monterey / x86_64  OK    OK    OK    OK  UNNEEDED, same version is already published
kjohnson2macOS 12.6.1 Monterey / arm64see weekly results here
Package 185/2230HostnameOS / ArchINSTALLBUILDCHECKBUILD BIN
BiocPkgTools 1.18.1  (landing page)
Sean Davis
git_last_commit: d162796
git_last_commit_date: 2023-07-14 17:49:04 -0400
nebbiolo1Linux (Ubuntu 22.04.2 LTS) / x86_64  OK    OK    WARNINGS  UNNEEDED, same version is already published
palomino3Windows Server 2022 Datacenter / x64  OK    OK    WARNINGS    OK  UNNEEDED, same version is already published
merida1macOS 12.6.4 Monterey / x86_64  OK    OK    WARNINGS    OK  UNNEEDED, same version is already published
kjohnson2macOS 12.6.1 Monterey / arm64see weekly results here
Package 186/2230HostnameOS / ArchINSTALLBUILDCHECKBUILD BIN
BiocSet 1.14.0  (landing page)
Kayla Morrell
git_last_commit: 6254b15
git_last_commit_date: 2023-04-25 11:14:15 -0400
nebbiolo1Linux (Ubuntu 22.04.2 LTS) / x86_64  OK    OK    OK  UNNEEDED, same version is already published
palomino3Windows Server 2022 Datacenter / x64  OK    OK    OK    OK  UNNEEDED, same version is already published
merida1macOS 12.6.4 Monterey / x86_64  OK    OK    OK    OK  UNNEEDED, same version is already published
kjohnson2macOS 12.6.1 Monterey / arm64see weekly results here
Package 187/2230HostnameOS / ArchINSTALLBUILDCHECKBUILD BIN
BiocSingular 1.16.0  (landing page)
Aaron Lun
git_last_commit: 0db9a69
git_last_commit_date: 2023-04-25 11:08:01 -0400
nebbiolo1Linux (Ubuntu 22.04.2 LTS) / x86_64  OK    OK    WARNINGS  UNNEEDED, same version is already published
palomino3Windows Server 2022 Datacenter / x64  OK    OK    WARNINGS    OK  UNNEEDED, same version is already published
merida1macOS 12.6.4 Monterey / x86_64  OK    OK    WARNINGS    OK  UNNEEDED, same version is already published
kjohnson2macOS 12.6.1 Monterey / arm64see weekly results here
Package 188/2230HostnameOS / ArchINSTALLBUILDCHECKBUILD BIN
BiocSklearn 1.22.0  (landing page)
Vince Carey
git_last_commit: 1d00672
git_last_commit_date: 2023-04-25 10:55:36 -0400
nebbiolo1Linux (Ubuntu 22.04.2 LTS) / x86_64  OK    OK    OK  UNNEEDED, same version is already published
palomino3Windows Server 2022 Datacenter / x64  OK    OK    OK    OK  UNNEEDED, same version is already published
merida1macOS 12.6.4 Monterey / x86_64  OK    OK    OK    OK  UNNEEDED, same version is already published
kjohnson2macOS 12.6.1 Monterey / arm64see weekly results here
Package 189/2230HostnameOS / ArchINSTALLBUILDCHECKBUILD BIN
BiocStyle 2.28.1  (landing page)
Bioconductor Package
git_last_commit: 8fbdf7a
git_last_commit_date: 2023-09-14 10:37:31 -0400
nebbiolo1Linux (Ubuntu 22.04.2 LTS) / x86_64  OK    OK    OK  UNNEEDED, same version is already published
palomino3Windows Server 2022 Datacenter / x64  OK    OK    OK    OK  UNNEEDED, same version is already published
merida1macOS 12.6.4 Monterey / x86_64  OK    OK    OK    OK  UNNEEDED, same version is already published
kjohnson2macOS 12.6.1 Monterey / arm64see weekly results here
Package 190/2230HostnameOS / ArchINSTALLBUILDCHECKBUILD BIN
biocthis 1.10.3  (landing page)
Leonardo Collado-Torres
git_last_commit: 90d99d7
git_last_commit_date: 2023-06-07 12:04:01 -0400
nebbiolo1Linux (Ubuntu 22.04.2 LTS) / x86_64  OK    OK    OK  UNNEEDED, same version is already published
palomino3Windows Server 2022 Datacenter / x64  OK    OK    OK    OK  UNNEEDED, same version is already published
merida1macOS 12.6.4 Monterey / x86_64  OK    OK    OK    OK  UNNEEDED, same version is already published
kjohnson2macOS 12.6.1 Monterey / arm64see weekly results here
Package 191/2230HostnameOS / ArchINSTALLBUILDCHECKBUILD BIN
BiocVersion 3.17.1  (landing page)
Bioconductor Package Maintainer
git_last_commit: a2d0c4c
git_last_commit_date: 2022-11-02 14:23:17 -0400
nebbiolo1Linux (Ubuntu 22.04.2 LTS) / x86_64  OK    OK    OK  UNNEEDED, same version is already published
palomino3Windows Server 2022 Datacenter / x64  OK    OK    OK    OK  UNNEEDED, same version is already published
merida1macOS 12.6.4 Monterey / x86_64  OK    OK    OK    OK  UNNEEDED, same version is already published
kjohnson2macOS 12.6.1 Monterey / arm64see weekly results here
Package 192/2230HostnameOS / ArchINSTALLBUILDCHECKBUILD BIN
biocViews 1.68.2  (landing page)
Bioconductor Package Maintainer
git_last_commit: e9bb5c2
git_last_commit_date: 2023-08-24 15:28:07 -0400
nebbiolo1Linux (Ubuntu 22.04.2 LTS) / x86_64