Back to Multiple platform build/check report for BioC 3.17:   simplified   long
A[B]CDEFGHIJKLMNOPQRSTUVWXYZ

This page was generated on 2023-05-27 11:05:39 -0400 (Sat, 27 May 2023).

HostnameOSArch (*)R versionInstalled pkgs
nebbiolo1Linux (Ubuntu 22.04.2 LTS)x86_644.3.0 RC (2023-04-13 r84269) -- "Already Tomorrow" 4617
palomino3Windows Server 2022 Datacenterx644.3.0 RC (2023-04-13 r84269 ucrt) -- "Already Tomorrow" 4368
merida1macOS 12.6.4 Montereyx86_644.3.0 RC (2023-04-13 r84257) -- "Already Tomorrow" 4326
Click on any hostname to see more info about the system (e.g. compilers)      (*) as reported by 'uname -p', except on Windows and Mac OS X

INSTALL results for bsseq on palomino3


To the developers/maintainers of the bsseq package:
- Allow up to 24 hours (and sometimes 48 hours) for your latest push to git@git.bioconductor.org:packages/bsseq.git to reflect on this report. See Troubleshooting Build Report for more information.

- Use the following Renviron settings to reproduce errors and warnings.

Note: If "R CMD check" recently failed on the Linux builder over a missing dependency, add the missing dependency to "Suggests" in your DESCRIPTION file. See the Renviron.bioc for details.

raw results

Package 243/2229HostnameOS / ArchINSTALLBUILDCHECKBUILD BIN
bsseq 1.36.0  (landing page)
Kasper Daniel Hansen
Snapshot Date: 2023-05-26 14:00:16 -0400 (Fri, 26 May 2023)
git_url: https://git.bioconductor.org/packages/bsseq
git_branch: RELEASE_3_17
git_last_commit: 5dd72c5
git_last_commit_date: 2023-04-25 10:23:31 -0400 (Tue, 25 Apr 2023)
nebbiolo1Linux (Ubuntu 22.04.2 LTS) / x86_64  OK    OK    OK  UNNEEDED, same version is already published
palomino3Windows Server 2022 Datacenter / x64  OK    OK    OK    OK  UNNEEDED, same version is already published
merida1macOS 12.6.4 Monterey / x86_64  OK    OK    OK    OK  UNNEEDED, same version is already published

Summary

Package: bsseq
Version: 1.36.0
Command: F:\biocbuild\bbs-3.17-bioc\R\bin\R.exe CMD INSTALL bsseq
StartedAt: 2023-05-26 16:03:55 -0400 (Fri, 26 May 2023)
EndedAt: 2023-05-26 16:05:35 -0400 (Fri, 26 May 2023)
EllapsedTime: 100.3 seconds
RetCode: 0
Status:   OK  

Command output

##############################################################################
##############################################################################
###
### Running command:
###
###   F:\biocbuild\bbs-3.17-bioc\R\bin\R.exe CMD INSTALL bsseq
###
##############################################################################
##############################################################################


* installing to library 'F:/biocbuild/bbs-3.17-bioc/R/library'
* installing *source* package 'bsseq' ...
** using staged installation
** libs
using C++ compiler: 'G__~1.EXE (GCC) 12.2.0'
g++ -std=gnu++17  -I"F:/biocbuild/bbs-3.17-bioc/R/include" -DNDEBUG  -I'F:/biocbuild/bbs-3.17-bioc/R/library/Rcpp/include' -I'F:/biocbuild/bbs-3.17-bioc/R/library/beachmat/include'   -I"C:/rtools43/x86_64-w64-mingw32.static.posix/include"     -O2 -Wall  -mfpmath=sse -msse2 -mstackrealign  -c check_M_and_Cov.cpp -o check_M_and_Cov.o
g++ -std=gnu++17  -I"F:/biocbuild/bbs-3.17-bioc/R/include" -DNDEBUG  -I'F:/biocbuild/bbs-3.17-bioc/R/library/Rcpp/include' -I'F:/biocbuild/bbs-3.17-bioc/R/library/beachmat/include'   -I"C:/rtools43/x86_64-w64-mingw32.static.posix/include"     -O2 -Wall  -mfpmath=sse -msse2 -mstackrealign  -c init.cpp -o init.o
g++ -std=gnu++17  -I"F:/biocbuild/bbs-3.17-bioc/R/include" -DNDEBUG  -I'F:/biocbuild/bbs-3.17-bioc/R/library/Rcpp/include' -I'F:/biocbuild/bbs-3.17-bioc/R/library/beachmat/include'   -I"C:/rtools43/x86_64-w64-mingw32.static.posix/include"     -O2 -Wall  -mfpmath=sse -msse2 -mstackrealign  -c utils.cpp -o utils.o
g++ -std=gnu++17 -shared -s -static-libgcc -o bsseq.dll tmp.def check_M_and_Cov.o init.o utils.o -LC:/rtools43/x86_64-w64-mingw32.static.posix/lib/x64 -LC:/rtools43/x86_64-w64-mingw32.static.posix/lib -LF:/biocbuild/bbs-3.17-bioc/R/bin/x64 -lR
installing to F:/biocbuild/bbs-3.17-bioc/R/library/00LOCK-bsseq/00new/bsseq/libs/x64
** R
** data
** inst
** byte-compile and prepare package for lazy loading
** help
*** installing help indices
** building package indices
** installing vignettes
** testing if installed package can be loaded from temporary location
** testing if installed package can be loaded from final location
** testing if installed package keeps a record of temporary installation path
* DONE (bsseq)