Back to Multiple platform build/check report for BioC 3.17:   simplified   long
ABC[D]EFGHIJKLMNOPQRSTUVWXYZ

This page was generated on 2023-09-23 11:36:35 -0400 (Sat, 23 Sep 2023).

HostnameOSArch (*)R versionInstalled pkgs
nebbiolo1Linux (Ubuntu 22.04.2 LTS)x86_644.3.1 (2023-06-16) -- "Beagle Scouts" 4625
palomino3Windows Server 2022 Datacenterx644.3.1 (2023-06-16 ucrt) -- "Beagle Scouts" 4378
merida1macOS 12.6.4 Montereyx86_644.3.1 (2023-06-16) -- "Beagle Scouts" 4394
Click on any hostname to see more info about the system (e.g. compilers)      (*) as reported by 'uname -p', except on Windows and Mac OS X

Package 572/2230HostnameOS / ArchINSTALLBUILDCHECKBUILD BIN
DMRcaller 1.32.0  (landing page)
Nicolae Radu Zabet
Snapshot Date: 2023-09-22 14:00:14 -0400 (Fri, 22 Sep 2023)
git_url: https://git.bioconductor.org/packages/DMRcaller
git_branch: RELEASE_3_17
git_last_commit: 5bfd754
git_last_commit_date: 2023-04-25 10:38:50 -0400 (Tue, 25 Apr 2023)
nebbiolo1Linux (Ubuntu 22.04.2 LTS) / x86_64  OK    OK    OK  UNNEEDED, same version is already published
palomino3Windows Server 2022 Datacenter / x64  OK    OK    OK    OK  UNNEEDED, same version is already published
merida1macOS 12.6.4 Monterey / x86_64  OK    OK    OK    OK  UNNEEDED, same version is already published

CHECK results for DMRcaller on merida1


To the developers/maintainers of the DMRcaller package:
- Allow up to 24 hours (and sometimes 48 hours) for your latest push to git@git.bioconductor.org:packages/DMRcaller.git to reflect on this report. See Troubleshooting Build Report for more information.
- Use the following Renviron settings to reproduce errors and warnings.
- If 'R CMD check' started to fail recently on the Linux builder(s) over a missing dependency, add the missing dependency to 'Suggests:' in your DESCRIPTION file. See Renviron.bioc for more information.

raw results


Summary

Package: DMRcaller
Version: 1.32.0
Command: /Library/Frameworks/R.framework/Resources/bin/R CMD check --install=check:DMRcaller.install-out.txt --library=/Library/Frameworks/R.framework/Resources/library --no-vignettes --timings DMRcaller_1.32.0.tar.gz
StartedAt: 2023-09-23 01:50:02 -0400 (Sat, 23 Sep 2023)
EndedAt: 2023-09-23 02:02:42 -0400 (Sat, 23 Sep 2023)
EllapsedTime: 759.6 seconds
RetCode: 0
Status:   OK  
CheckDir: DMRcaller.Rcheck
Warnings: 0

Command output

##############################################################################
##############################################################################
###
### Running command:
###
###   /Library/Frameworks/R.framework/Resources/bin/R CMD check --install=check:DMRcaller.install-out.txt --library=/Library/Frameworks/R.framework/Resources/library --no-vignettes --timings DMRcaller_1.32.0.tar.gz
###
##############################################################################
##############################################################################


* using log directory ‘/Users/biocbuild/bbs-3.17-bioc/meat/DMRcaller.Rcheck’
* using R version 4.3.1 (2023-06-16)
* using platform: x86_64-apple-darwin20 (64-bit)
* R was compiled by
    Apple clang version 14.0.3 (clang-1403.0.22.14.1)
    GNU Fortran (GCC) 12.2.0
* running under: macOS Monterey 12.6.4
* using session charset: UTF-8
* using option ‘--no-vignettes’
* checking for file ‘DMRcaller/DESCRIPTION’ ... OK
* checking extension type ... Package
* this is package ‘DMRcaller’ version ‘1.32.0’
* checking package namespace information ... OK
* checking package dependencies ... OK
* checking if this is a source package ... OK
* checking if there is a namespace ... OK
* checking for hidden files and directories ... OK
* checking for portable file names ... OK
* checking for sufficient/correct file permissions ... OK
* checking whether package ‘DMRcaller’ can be installed ... OK
* checking installed package size ... OK
* checking package directory ... OK
* checking ‘build’ directory ... OK
* checking DESCRIPTION meta-information ... OK
* checking top-level files ... OK
* checking for left-over files ... OK
* checking index information ... OK
* checking package subdirectories ... OK
* checking R files for non-ASCII characters ... OK
* checking R files for syntax errors ... OK
* checking whether the package can be loaded ... OK
* checking whether the package can be loaded with stated dependencies ... OK
* checking whether the package can be unloaded cleanly ... OK
* checking whether the namespace can be loaded with stated dependencies ... OK
* checking whether the namespace can be unloaded cleanly ... OK
* checking dependencies in R code ... OK
* checking S3 generic/method consistency ... OK
* checking replacement functions ... OK
* checking foreign function calls ... OK
* checking R code for possible problems ... NOTE
extractGC: no visible global function definition for ‘getSeq’
extractGC: no visible global function definition for ‘seqlevels’
Undefined global functions or variables:
  getSeq seqlevels
* checking Rd files ... OK
* checking Rd metadata ... OK
* checking Rd cross-references ... OK
* checking for missing documentation entries ... OK
* checking for code/documentation mismatches ... OK
* checking Rd \usage sections ... OK
* checking Rd contents ... OK
* checking for unstated dependencies in examples ... OK
* checking contents of ‘data’ directory ... OK
* checking data for non-ASCII characters ... OK
* checking data for ASCII and uncompressed saves ... OK
* checking sizes of PDF files under ‘inst/doc’ ... OK
* checking files in ‘vignettes’ ... OK
* checking examples ... OK
Examples with CPU (user + system) or elapsed time > 5s
                        user system elapsed
mergeDMRsIteratively  22.074  0.140  35.255
computeDMRs           21.070  0.201  28.675
readBismarkPool        8.396  0.418  12.235
filterDMRs             3.795  0.084   6.055
readBismark            3.693  0.155   5.273
plotOverlapProfile     3.761  0.049   5.045
computeOverlapProfile  3.488  0.054   7.154
* checking for unstated dependencies in ‘tests’ ... OK
* checking tests ...
  Running ‘runTests.R’
 OK
* checking for unstated dependencies in vignettes ... OK
* checking package vignettes in ‘inst/doc’ ... OK
* checking running R code from vignettes ... SKIPPED
* checking re-building of vignette outputs ... SKIPPED
* checking PDF version of manual ... OK
* DONE

Status: 1 NOTE
See
  ‘/Users/biocbuild/bbs-3.17-bioc/meat/DMRcaller.Rcheck/00check.log’
for details.



Installation output

DMRcaller.Rcheck/00install.out

##############################################################################
##############################################################################
###
### Running command:
###
###   /Library/Frameworks/R.framework/Resources/bin/R CMD INSTALL DMRcaller
###
##############################################################################
##############################################################################


* installing to library ‘/Library/Frameworks/R.framework/Versions/4.3-x86_64/Resources/library’
* installing *source* package ‘DMRcaller’ ...
** using staged installation
** R
** data
** inst
** byte-compile and prepare package for lazy loading
** help
*** installing help indices
** building package indices
** installing vignettes
** testing if installed package can be loaded from temporary location
** testing if installed package can be loaded from final location
** testing if installed package keeps a record of temporary installation path
* DONE (DMRcaller)

Tests output

DMRcaller.Rcheck/tests/runTests.Rout


R version 4.3.1 (2023-06-16) -- "Beagle Scouts"
Copyright (C) 2023 The R Foundation for Statistical Computing
Platform: x86_64-apple-darwin20 (64-bit)

R is free software and comes with ABSOLUTELY NO WARRANTY.
You are welcome to redistribute it under certain conditions.
Type 'license()' or 'licence()' for distribution details.

R is a collaborative project with many contributors.
Type 'contributors()' for more information and
'citation()' on how to cite R or R packages in publications.

Type 'demo()' for some demos, 'help()' for on-line help, or
'help.start()' for an HTML browser interface to help.
Type 'q()' to quit R.

> BiocGenerics:::testPackage("DMRcaller")

Attaching package: 'BiocGenerics'

The following objects are masked from 'package:stats':

    IQR, mad, sd, var, xtabs

The following objects are masked from 'package:base':

    Filter, Find, Map, Position, Reduce, anyDuplicated, aperm, append,
    as.data.frame, basename, cbind, colnames, dirname, do.call,
    duplicated, eval, evalq, get, grep, grepl, intersect, is.unsorted,
    lapply, mapply, match, mget, order, paste, pmax, pmax.int, pmin,
    pmin.int, rank, rbind, rownames, sapply, setdiff, sort, table,
    tapply, union, unique, unsplit, which.max, which.min


Attaching package: 'S4Vectors'

The following object is masked from 'package:utils':

    findMatches

The following objects are masked from 'package:base':

    I, expand.grid, unname

Parameters checking ...
Extract methylation in the corresponding context 
Computing DMRs 
Merge adjacent DMRs
Merge DMRs iteratively
Filter DMRs 
Parameters checking ...
Extract methylation in the corresponding context 
Computing DMRs at  Chr1:1..4976 
Calculating interpolations...
Identifying DMRs...
Analysed reads inside DMRs
Merge DMRs iteratively
Filter DMRs 
Parameters checking ...
Extract methylation in the corresponding context 
Computing DMRs at  Chr1:1..4976 
Selecting data...
Identifying DMRs...
Validating objects 
Finding overlaps 
Joining objects 
Parameters checking ...
Extract methylation in the corresponding context 
Computing DMRs at  Chr1:1..4976 
Count inside each bin...
Filter the bins...
Identifying DMRs...
Merge adjacent DMRs
Merge DMRs iteratively
Filter DMRs 
Parameters checking ...
Merge DMRs iteratively ...


RUNIT TEST PROTOCOL -- Sat Sep 23 02:02:21 2023 
*********************************************** 
Number of test functions: 6 
Number of errors: 0 
Number of failures: 0 

 
1 Test Suite : 
DMRcaller RUnit Tests - 6 test functions, 0 errors, 0 failures
Number of test functions: 6 
Number of errors: 0 
Number of failures: 0 
Warning message:
In fisher.test(matrix(unlist(x), nrow = 2, byrow = TRUE), alternative = alternative) :
  'x' has been rounded to integer: Mean relative difference: 0.002857143
> 
> proc.time()
   user  system elapsed 
265.681   1.795 375.750 

Example timings

DMRcaller.Rcheck/DMRcaller-Ex.timings

nameusersystemelapsed
DMRcaller0.0010.0050.007
analyseReadsInsideRegionsForCondition1.3370.0761.863
computeDMRs21.070 0.20128.675
computeDMRsReplicates0.0010.0010.003
computeMethylationDataCoverage1.0790.0411.462
computeMethylationDataSpatialCorrelation0.8290.0371.137
computeMethylationProfile2.1710.0592.944
computeOverlapProfile3.4880.0547.154
extractGC0.0010.0010.001
filterDMRs3.7950.0846.055
getWholeChromosomes0.3290.0120.445
joinReplicates0.0000.0010.001
mergeDMRsIteratively22.074 0.14035.255
plotLocalMethylationProfile2.0680.0933.197
plotMethylationDataCoverage1.4050.0691.913
plotMethylationDataSpatialCorrelation0.0010.0010.001
plotMethylationProfile2.0850.0602.725
plotMethylationProfileFromData3.6980.0574.831
plotOverlapProfile3.7610.0495.045
poolMethylationDatasets1.2500.0561.675
poolTwoMethylationDatasets1.2640.0741.750
readBismark3.6930.1555.273
readBismarkPool 8.396 0.41812.235
saveBismark2.6040.1023.763