Back to Multiple platform build/check report for BioC 3.17:   simplified   long
ABCDEFG[H]IJKLMNOPQRSTUVWXYZ

This page was generated on 2023-03-24 11:05:18 -0400 (Fri, 24 Mar 2023).

HostnameOSArch (*)R versionInstalled pkgs
nebbiolo1Linux (Ubuntu 22.04.1 LTS)x86_64R Under development (unstable) (2023-03-16 r83996) -- "Unsuffered Consequences" 4546
palomino3Windows Server 2022 Datacenterx64R Under development (unstable) (2023-03-15 r83984 ucrt) -- "Unsuffered Consequences" 4307
merida1macOS 10.14.6 Mojavex86_64R Under development (unstable) (2023-03-16 r83985) -- "Unsuffered Consequences" 4299
Click on any hostname to see more info about the system (e.g. compilers)      (*) as reported by 'uname -p', except on Windows and Mac OS X

CHECK results for HiCBricks on nebbiolo1


To the developers/maintainers of the HiCBricks package:
- Please allow up to 24 hours (and sometimes 48 hours) for your latest push to git@git.bioconductor.org:packages/HiCBricks.git to
reflect on this report. See How and When does the builder pull? When will my changes propagate? for more information.
- Make sure to use the following settings in order to reproduce any error or warning you see on this page.

raw results

Package 911/2195HostnameOS / ArchINSTALLBUILDCHECKBUILD BIN
HiCBricks 1.17.0  (landing page)
Koustav Pal
Snapshot Date: 2023-03-23 14:00:15 -0400 (Thu, 23 Mar 2023)
git_url: https://git.bioconductor.org/packages/HiCBricks
git_branch: devel
git_last_commit: d85dbc7
git_last_commit_date: 2022-11-01 11:18:41 -0400 (Tue, 01 Nov 2022)
nebbiolo1Linux (Ubuntu 22.04.1 LTS) / x86_64  OK    OK    OK  UNNEEDED, same version is already published
palomino3Windows Server 2022 Datacenter / x64  OK    OK    OK    OK  UNNEEDED, same version is already published
merida1macOS 10.14.6 Mojave / x86_64  OK    OK    OK    OK  UNNEEDED, same version is already published

Summary

Package: HiCBricks
Version: 1.17.0
Command: /home/biocbuild/bbs-3.17-bioc/R/bin/R CMD check --install=check:HiCBricks.install-out.txt --library=/home/biocbuild/bbs-3.17-bioc/R/site-library --timings HiCBricks_1.17.0.tar.gz
StartedAt: 2023-03-23 21:05:08 -0400 (Thu, 23 Mar 2023)
EndedAt: 2023-03-23 21:08:27 -0400 (Thu, 23 Mar 2023)
EllapsedTime: 199.6 seconds
RetCode: 0
Status:   OK  
CheckDir: HiCBricks.Rcheck
Warnings: 0

Command output

##############################################################################
##############################################################################
###
### Running command:
###
###   /home/biocbuild/bbs-3.17-bioc/R/bin/R CMD check --install=check:HiCBricks.install-out.txt --library=/home/biocbuild/bbs-3.17-bioc/R/site-library --timings HiCBricks_1.17.0.tar.gz
###
##############################################################################
##############################################################################


* using log directory ‘/home/biocbuild/bbs-3.17-bioc/meat/HiCBricks.Rcheck’
* using R Under development (unstable) (2023-03-16 r83996)
* using platform: x86_64-pc-linux-gnu (64-bit)
* R was compiled by
    gcc (Ubuntu 11.3.0-1ubuntu1~22.04) 11.3.0
    GNU Fortran (Ubuntu 11.3.0-1ubuntu1~22.04) 11.3.0
* running under: Ubuntu 22.04.2 LTS
* using session charset: UTF-8
* checking for file ‘HiCBricks/DESCRIPTION’ ... OK
* checking extension type ... Package
* this is package ‘HiCBricks’ version ‘1.17.0’
* package encoding: UTF-8
* checking package namespace information ... OK
* checking package dependencies ... OK
* checking if this is a source package ... OK
* checking if there is a namespace ... OK
* checking for hidden files and directories ... OK
* checking for portable file names ... OK
* checking for sufficient/correct file permissions ... OK
* checking whether package ‘HiCBricks’ can be installed ... OK
* checking installed package size ... OK
* checking package directory ... OK
* checking ‘build’ directory ... OK
* checking DESCRIPTION meta-information ... OK
* checking top-level files ... OK
* checking for left-over files ... OK
* checking index information ... OK
* checking package subdirectories ... OK
* checking R files for non-ASCII characters ... OK
* checking R files for syntax errors ... OK
* checking whether the package can be loaded ... OK
* checking whether the package can be loaded with stated dependencies ... OK
* checking whether the package can be unloaded cleanly ... OK
* checking whether the namespace can be loaded with stated dependencies ... OK
* checking whether the namespace can be unloaded cleanly ... OK
* checking loading without being on the library search path ... OK
* checking dependencies in R code ... OK
* checking S3 generic/method consistency ... OK
* checking replacement functions ... OK
* checking foreign function calls ... OK
* checking R code for possible problems ... OK
* checking Rd files ... OK
* checking Rd metadata ... OK
* checking Rd cross-references ... OK
* checking for missing documentation entries ... OK
* checking for code/documentation mismatches ... OK
* checking Rd \usage sections ... OK
* checking Rd contents ... OK
* checking for unstated dependencies in examples ... OK
* checking files in ‘vignettes’ ... OK
* checking examples ... OK
* checking for unstated dependencies in vignettes ... OK
* checking package vignettes in ‘inst/doc’ ... OK
* checking running R code from vignettes ...
  ‘IntroductionToHiCBricks.rmd’ using ‘UTF-8’... OK
 NONE
* checking re-building of vignette outputs ... OK
* checking PDF version of manual ... OK
* DONE

Status: OK


Installation output

HiCBricks.Rcheck/00install.out

##############################################################################
##############################################################################
###
### Running command:
###
###   /home/biocbuild/bbs-3.17-bioc/R/bin/R CMD INSTALL HiCBricks
###
##############################################################################
##############################################################################


* installing to library ‘/home/biocbuild/bbs-3.17-bioc/R/site-library’
* installing *source* package ‘HiCBricks’ ...
** using staged installation
** R
** inst
** byte-compile and prepare package for lazy loading
** help
*** installing help indices
** building package indices
** installing vignettes
** testing if installed package can be loaded from temporary location
** testing if installed package can be loaded from final location
** testing if installed package keeps a record of temporary installation path
* DONE (HiCBricks)

Tests output


Example timings

HiCBricks.Rcheck/HiCBricks-Ex.timings

nameusersystemelapsed
BrickContainer_change_experiment_name1.2210.0681.308
BrickContainer_change_output_directory0.9750.0561.031
BrickContainer_get_path_to_file0.7730.0080.781
BrickContainer_list_chromosomes0.7710.0080.778
BrickContainer_list_experiment_name0.7880.0360.824
BrickContainer_list_files0.8710.0680.938
BrickContainer_list_output_directory0.8280.0320.859
BrickContainer_list_resolutions0.7870.0080.794
BrickContainer_unlink_resolution1.8230.0561.878
Brick_add_ranges1.8510.0801.931
Brick_call_compartments1.2390.0361.276
Brick_export_to_sparse2.2580.1362.393
Brick_fetch_range_index0.9070.0120.919
Brick_fetch_row_vector1.3900.0521.442
Brick_get_bintable1.1080.0241.133
Brick_get_chrominfo0.7200.0280.749
Brick_get_entire_matrix1.0600.0361.096
Brick_get_matrix1.0530.0241.078
Brick_get_matrix_mcols1.0350.0241.059
Brick_get_matrix_within_coords1.4660.0281.494
Brick_get_ranges0.7740.0240.798
Brick_get_values_by_distance1.1860.0321.217
Brick_get_vector_values1.1080.0401.148
Brick_list_matrices0.7460.0080.754
Brick_list_matrix_mcols0.7460.0080.754
Brick_list_mcool_normalisations0.0010.0000.001
Brick_list_mcool_resolutions0.0010.0000.001
Brick_list_rangekeys0.7180.0160.734
Brick_list_ranges_mcols0.7500.0240.775
Brick_load_cis_matrix_till_distance0.9440.0240.969
Brick_load_data_from_mcool000
Brick_load_data_from_sparse000
Brick_load_matrix1.010.041.05
Brick_local_score_differentiator1.6090.0481.658
Brick_make_ranges0.0080.0000.008
Brick_matrix_dimensions1.0130.0921.106
Brick_matrix_exists1.0060.0281.034
Brick_matrix_filename1.0190.0281.046
Brick_matrix_isdone1.2070.0241.232
Brick_matrix_issparse1.1320.0321.164
Brick_matrix_maxdist1.0970.0281.124
Brick_matrix_minmax1.0210.0121.032
Brick_mcool_normalisation_exists0.0010.0000.000
Brick_rangekey_exists0.7620.0160.778
Brick_return_region_position0.8530.0160.869
Brick_vizart_plot_heatmap1.8360.1001.935
Create_many_Bricks0.7810.0000.784
Create_many_Bricks_from_mcool0.0010.0000.001
load_BrickContainer0.8610.0080.869