Back to Multiple platform build/check report for BioC 3.17:   simplified   long
[A]BCDEFGHIJKLMNOPQRSTUVWXYZ

This page was generated on 2023-03-22 11:05:37 -0400 (Wed, 22 Mar 2023).

HostnameOSArch (*)R versionInstalled pkgs
nebbiolo1Linux (Ubuntu 22.04.1 LTS)x86_64R Under development (unstable) (2023-03-16 r83996) -- "Unsuffered Consequences" 4508
palomino3Windows Server 2022 Datacenterx64R Under development (unstable) (2023-03-15 r83984 ucrt) -- "Unsuffered Consequences" 4293
merida1macOS 10.14.6 Mojavex86_64R Under development (unstable) (2023-03-16 r83985) -- "Unsuffered Consequences" 4290
Click on any hostname to see more info about the system (e.g. compilers)      (*) as reported by 'uname -p', except on Windows and Mac OS X

BUILD results for AneuFinder on palomino3


To the developers/maintainers of the AneuFinder package:
- Please allow up to 24 hours (and sometimes 48 hours) for your latest push to git@git.bioconductor.org:packages/AneuFinder.git to
reflect on this report. See How and When does the builder pull? When will my changes propagate? for more information.
- Make sure to use the following settings in order to reproduce any error or warning you see on this page.

raw results

Package 61/2189HostnameOS / ArchINSTALLBUILDCHECKBUILD BIN
AneuFinder 1.27.0  (landing page)
Aaron Taudt
Snapshot Date: 2023-03-21 14:00:22 -0400 (Tue, 21 Mar 2023)
git_url: https://git.bioconductor.org/packages/AneuFinder
git_branch: master
git_last_commit: 340387c
git_last_commit_date: 2022-11-01 11:13:19 -0400 (Tue, 01 Nov 2022)
nebbiolo1Linux (Ubuntu 22.04.1 LTS) / x86_64  ERROR    ERROR  skipped
palomino3Windows Server 2022 Datacenter / x64  ERROR    ERROR  skippedskipped
merida1macOS 10.14.6 Mojave / x86_64  ERROR    ERROR  skippedskipped

Summary

Package: AneuFinder
Version: 1.27.0
Command: chmod a+r AneuFinder -R && F:\biocbuild\bbs-3.17-bioc\R\bin\R.exe CMD build --keep-empty-dirs --no-resave-data AneuFinder
StartedAt: 2023-03-21 17:03:33 -0400 (Tue, 21 Mar 2023)
EndedAt: 2023-03-21 17:03:36 -0400 (Tue, 21 Mar 2023)
EllapsedTime: 3.0 seconds
RetCode: 1
Status:   ERROR  
PackageFile: None
PackageFileSize: NA

Command output

##############################################################################
##############################################################################
###
### Running command:
###
###   chmod a+r AneuFinder -R && F:\biocbuild\bbs-3.17-bioc\R\bin\R.exe CMD build --keep-empty-dirs --no-resave-data AneuFinder
###
##############################################################################
##############################################################################


* checking for file 'AneuFinder/DESCRIPTION' ... OK
* preparing 'AneuFinder':
* checking DESCRIPTION meta-information ... OK
* cleaning src
* installing the package to build vignettes
      -----------------------------------
ERROR: dependency 'ReorderCluster' is not available for package 'AneuFinder'
* removing 'F:/biocbuild/bbs-3.17-bioc/tmpdir/RtmpIjlhPn/Rinstd7427153227/AneuFinder'
      -----------------------------------
ERROR: package installation failed