Back to Multiple platform build/check report for BioC 3.17:   simplified   long
ABCDEFGHIJKLMNOPQ[R]STUVWXYZ

This page was generated on 2023-06-02 11:06:24 -0400 (Fri, 02 Jun 2023).

HostnameOSArch (*)R versionInstalled pkgs
nebbiolo1Linux (Ubuntu 22.04.2 LTS)x86_644.3.0 RC (2023-04-13 r84269) -- "Already Tomorrow" 4618
palomino3Windows Server 2022 Datacenterx644.3.0 RC (2023-04-13 r84269 ucrt) -- "Already Tomorrow" 4369
merida1macOS 12.6.4 Montereyx86_644.3.0 RC (2023-04-13 r84257) -- "Already Tomorrow" 4327
Click on any hostname to see more info about the system (e.g. compilers)      (*) as reported by 'uname -p', except on Windows and Mac OS X

BUILD results for REDseq on palomino3


To the developers/maintainers of the REDseq package:
- Allow up to 24 hours (and sometimes 48 hours) for your latest push to git@git.bioconductor.org:packages/REDseq.git to reflect on this report. See Troubleshooting Build Report for more information.

- Use the following Renviron settings to reproduce errors and warnings.

Note: If "R CMD check" recently failed on the Linux builder over a missing dependency, add the missing dependency to "Suggests" in your DESCRIPTION file. See the Renviron.bioc for details.

raw results

Package 1675/2229HostnameOS / ArchINSTALLBUILDCHECKBUILD BIN
REDseq 1.46.0  (landing page)
Lihua Julie Zhu
Snapshot Date: 2023-06-01 14:00:08 -0400 (Thu, 01 Jun 2023)
git_url: https://git.bioconductor.org/packages/REDseq
git_branch: RELEASE_3_17
git_last_commit: 4a4b132
git_last_commit_date: 2023-04-25 10:19:52 -0400 (Tue, 25 Apr 2023)
nebbiolo1Linux (Ubuntu 22.04.2 LTS) / x86_64  OK    OK    OK  UNNEEDED, same version is already published
palomino3Windows Server 2022 Datacenter / x64  OK    OK    OK    OK  UNNEEDED, same version is already published
merida1macOS 12.6.4 Monterey / x86_64  OK    OK    OK    OK  UNNEEDED, same version is already published

Summary

Package: REDseq
Version: 1.46.0
Command: chmod a+r REDseq -R && F:\biocbuild\bbs-3.17-bioc\R\bin\R.exe CMD build --keep-empty-dirs --no-resave-data REDseq
StartedAt: 2023-06-01 21:37:12 -0400 (Thu, 01 Jun 2023)
EndedAt: 2023-06-01 21:38:26 -0400 (Thu, 01 Jun 2023)
EllapsedTime: 73.5 seconds
RetCode: 0
Status:   OK  
PackageFile: REDseq_1.46.0.tar.gz
PackageFileSize: 156.4 KiB

Command output

##############################################################################
##############################################################################
###
### Running command:
###
###   chmod a+r REDseq -R && F:\biocbuild\bbs-3.17-bioc\R\bin\R.exe CMD build --keep-empty-dirs --no-resave-data REDseq
###
##############################################################################
##############################################################################


* checking for file 'REDseq/DESCRIPTION' ... OK
* preparing 'REDseq':
* checking DESCRIPTION meta-information ... OK
* installing the package to build vignettes
* creating vignettes ... OK
* checking for LF line-endings in source and make files and shell scripts
* checking for empty or unneeded directories
* looking to see if a 'data/datalist' file should be added
* building 'REDseq_1.46.0.tar.gz'