Back to Multiple platform build/check report for BioC 3.17: simplified long |
|
This page was generated on 2023-06-08 11:06:24 -0400 (Thu, 08 Jun 2023).
Hostname | OS | Arch (*) | R version | Installed pkgs |
---|---|---|---|---|
nebbiolo1 | Linux (Ubuntu 22.04.2 LTS) | x86_64 | 4.3.0 RC (2023-04-13 r84269) -- "Already Tomorrow" | 4628 |
palomino3 | Windows Server 2022 Datacenter | x64 | 4.3.0 RC (2023-04-13 r84269 ucrt) -- "Already Tomorrow" | 4379 |
merida1 | macOS 12.6.4 Monterey | x86_64 | 4.3.0 RC (2023-04-13 r84257) -- "Already Tomorrow" | 4385 |
Click on any hostname to see more info about the system (e.g. compilers) (*) as reported by 'uname -p', except on Windows and Mac OS X |
To the developers/maintainers of the MOFA2 package: - Allow up to 24 hours (and sometimes 48 hours) for your latest push to git@git.bioconductor.org:packages/MOFA2.git to reflect on this report. See Troubleshooting Build Report for more information. - Use the following Renviron settings to reproduce errors and warnings. - If 'R CMD check' started to fail recently on the Linux builder(s) over a missing dependency, add the missing dependency to 'Suggests:' in your DESCRIPTION file. See Renviron.bioc for more information. |
Package 1269/2229 | Hostname | OS / Arch | INSTALL | BUILD | CHECK | BUILD BIN | ||||||||
MOFA2 1.10.0 (landing page) Ricard Argelaguet
| nebbiolo1 | Linux (Ubuntu 22.04.2 LTS) / x86_64 | OK | OK | OK | ![]() | ||||||||
palomino3 | Windows Server 2022 Datacenter / x64 | OK | OK | OK | OK | ![]() | ||||||||
merida1 | macOS 12.6.4 Monterey / x86_64 | OK | OK | OK | OK | ![]() | ||||||||
Package: MOFA2 |
Version: 1.10.0 |
Command: rm -rf MOFA2.buildbin-libdir && mkdir MOFA2.buildbin-libdir && F:\biocbuild\bbs-3.17-bioc\R\bin\R.exe CMD INSTALL --build --library=MOFA2.buildbin-libdir MOFA2_1.10.0.tar.gz |
StartedAt: 2023-06-08 09:27:35 -0400 (Thu, 08 Jun 2023) |
EndedAt: 2023-06-08 09:28:20 -0400 (Thu, 08 Jun 2023) |
EllapsedTime: 45.6 seconds |
RetCode: 0 |
Status: OK |
PackageFile: MOFA2_1.10.0.zip |
PackageFileSize: 3.733 MiB |
############################################################################## ############################################################################## ### ### Running command: ### ### rm -rf MOFA2.buildbin-libdir && mkdir MOFA2.buildbin-libdir && F:\biocbuild\bbs-3.17-bioc\R\bin\R.exe CMD INSTALL --build --library=MOFA2.buildbin-libdir MOFA2_1.10.0.tar.gz ### ############################################################################## ############################################################################## * installing *source* package 'MOFA2' ... ** using non-staged installation via StagedInstall field ** R ** inst ** byte-compile and prepare package for lazy loading Creating a generic function for 'rownames' from package 'base' in package 'MOFA2' Creating a generic function for 'colnames' from package 'base' in package 'MOFA2' Creating a generic function for 'nrow' from package 'base' in package 'MOFA2' Creating a generic function for 'ncol' from package 'base' in package 'MOFA2' Creating a generic function for 'rownames<-' from package 'base' in package 'MOFA2' Creating a generic function for 'colnames<-' from package 'base' in package 'MOFA2' ** help *** installing help indices ** building package indices ** installing vignettes ** testing if installed package can be loaded * MD5 sums packaged installation of 'MOFA2' as MOFA2_1.10.0.zip * DONE (MOFA2)