Back to Multiple platform build/check report for BioC 3.17: simplified long |
|
This page was generated on 2023-10-04 11:35:46 -0400 (Wed, 04 Oct 2023).
Hostname | OS | Arch (*) | R version | Installed pkgs |
---|---|---|---|---|
nebbiolo1 | Linux (Ubuntu 22.04.2 LTS) | x86_64 | 4.3.1 (2023-06-16) -- "Beagle Scouts" | 4626 |
palomino3 | Windows Server 2022 Datacenter | x64 | 4.3.1 (2023-06-16 ucrt) -- "Beagle Scouts" | 4379 |
merida1 | macOS 12.6.4 Monterey | x86_64 | 4.3.1 (2023-06-16) -- "Beagle Scouts" | 4395 |
Click on any hostname to see more info about the system (e.g. compilers) (*) as reported by 'uname -p', except on Windows and Mac OS X |
Package 1089/2230 | Hostname | OS / Arch | INSTALL | BUILD | CHECK | BUILD BIN | ||||||||
LymphoSeq 1.28.0 (landing page) David Coffey
| nebbiolo1 | Linux (Ubuntu 22.04.2 LTS) / x86_64 | OK | OK | OK | ![]() | ||||||||
palomino3 | Windows Server 2022 Datacenter / x64 | OK | OK | OK | OK | ![]() | ||||||||
merida1 | macOS 12.6.4 Monterey / x86_64 | OK | OK | OK | OK | ![]() | ||||||||
To the developers/maintainers of the LymphoSeq package: - Allow up to 24 hours (and sometimes 48 hours) for your latest push to git@git.bioconductor.org:packages/LymphoSeq.git to reflect on this report. See Troubleshooting Build Report for more information. - Use the following Renviron settings to reproduce errors and warnings. - If 'R CMD check' started to fail recently on the Linux builder(s) over a missing dependency, add the missing dependency to 'Suggests:' in your DESCRIPTION file. See Renviron.bioc for more information. |
Package: LymphoSeq |
Version: 1.28.0 |
Command: /home/biocbuild/bbs-3.17-bioc/R/bin/R CMD check --install=check:LymphoSeq.install-out.txt --library=/home/biocbuild/bbs-3.17-bioc/R/site-library --timings LymphoSeq_1.28.0.tar.gz |
StartedAt: 2023-10-03 22:26:33 -0400 (Tue, 03 Oct 2023) |
EndedAt: 2023-10-03 22:30:32 -0400 (Tue, 03 Oct 2023) |
EllapsedTime: 238.4 seconds |
RetCode: 0 |
Status: OK |
CheckDir: LymphoSeq.Rcheck |
Warnings: 0 |
############################################################################## ############################################################################## ### ### Running command: ### ### /home/biocbuild/bbs-3.17-bioc/R/bin/R CMD check --install=check:LymphoSeq.install-out.txt --library=/home/biocbuild/bbs-3.17-bioc/R/site-library --timings LymphoSeq_1.28.0.tar.gz ### ############################################################################## ############################################################################## * using log directory ‘/home/biocbuild/bbs-3.17-bioc/meat/LymphoSeq.Rcheck’ * using R version 4.3.1 (2023-06-16) * using platform: x86_64-pc-linux-gnu (64-bit) * R was compiled by gcc (Ubuntu 11.3.0-1ubuntu1~22.04.1) 11.3.0 GNU Fortran (Ubuntu 11.3.0-1ubuntu1~22.04.1) 11.3.0 * running under: Ubuntu 22.04.3 LTS * using session charset: UTF-8 * checking for file ‘LymphoSeq/DESCRIPTION’ ... OK * this is package ‘LymphoSeq’ version ‘1.28.0’ * checking package namespace information ... OK * checking package dependencies ... OK * checking if this is a source package ... OK * checking if there is a namespace ... OK * checking for hidden files and directories ... OK * checking for portable file names ... OK * checking for sufficient/correct file permissions ... OK * checking whether package ‘LymphoSeq’ can be installed ... OK * checking installed package size ... OK * checking package directory ... OK * checking ‘build’ directory ... OK * checking DESCRIPTION meta-information ... OK * checking top-level files ... OK * checking for left-over files ... OK * checking index information ... OK * checking package subdirectories ... OK * checking R files for non-ASCII characters ... OK * checking R files for syntax errors ... OK * checking whether the package can be loaded ... OK * checking whether the package can be loaded with stated dependencies ... OK * checking whether the package can be unloaded cleanly ... OK * checking whether the namespace can be loaded with stated dependencies ... OK * checking whether the namespace can be unloaded cleanly ... OK * checking loading without being on the library search path ... OK * checking dependencies in R code ... OK * checking S3 generic/method consistency ... OK * checking replacement functions ... OK * checking foreign function calls ... OK * checking R code for possible problems ... OK * checking Rd files ... OK * checking Rd metadata ... OK * checking Rd cross-references ... OK * checking for missing documentation entries ... OK * checking for code/documentation mismatches ... OK * checking Rd \usage sections ... OK * checking Rd contents ... OK * checking for unstated dependencies in examples ... OK * checking files in ‘vignettes’ ... OK * checking examples ... OK Examples with CPU (user + system) or elapsed time > 5s user system elapsed cloneTrack 24.784 2.036 26.823 productiveSeq 18.381 1.572 19.954 phyloTree 5.080 0.063 5.144 * checking for unstated dependencies in vignettes ... OK * checking package vignettes in ‘inst/doc’ ... OK * checking running R code from vignettes ... ‘LymphoSeq.Rmd’ using ‘UTF-8’... OK NONE * checking re-building of vignette outputs ... OK * checking PDF version of manual ... OK * DONE Status: OK
LymphoSeq.Rcheck/00install.out
############################################################################## ############################################################################## ### ### Running command: ### ### /home/biocbuild/bbs-3.17-bioc/R/bin/R CMD INSTALL LymphoSeq ### ############################################################################## ############################################################################## * installing to library ‘/home/biocbuild/bbs-3.17-bioc/R/site-library’ * installing *source* package ‘LymphoSeq’ ... ** using staged installation ** R ** inst ** byte-compile and prepare package for lazy loading ** help *** installing help indices ** building package indices ** installing vignettes ** testing if installed package can be loaded from temporary location ** testing if installed package can be loaded from final location ** testing if installed package keeps a record of temporary installation path * DONE (LymphoSeq)
LymphoSeq.Rcheck/LymphoSeq-Ex.timings
name | user | system | elapsed | |
alignSeq | 0.723 | 0.057 | 0.786 | |
bhattacharyyaCoefficient | 0.188 | 0.075 | 0.277 | |
bhattacharyyaMatrix | 0.275 | 0.024 | 0.300 | |
chordDiagramVDJ | 1.248 | 0.324 | 1.572 | |
clonalRelatedness | 0.722 | 0.000 | 0.383 | |
clonality | 0.051 | 0.004 | 0.055 | |
cloneTrack | 24.784 | 2.036 | 26.823 | |
commonSeqs | 0.146 | 0.020 | 0.167 | |
commonSeqsBar | 0.801 | 0.152 | 0.953 | |
commonSeqsPlot | 0.345 | 0.075 | 0.421 | |
commonSeqsVenn | 0.694 | 0.132 | 0.814 | |
differentialAbundance | 2.541 | 0.119 | 2.662 | |
exportFasta | 0.213 | 0.020 | 0.232 | |
geneFreq | 1.432 | 0.024 | 1.456 | |
lorenzCurve | 2.006 | 0.137 | 2.143 | |
mergeFiles | 0.078 | 0.007 | 0.086 | |
pairwisePlot | 0.712 | 0.016 | 0.728 | |
phyloTree | 5.080 | 0.063 | 5.144 | |
productive | 0.059 | 0.000 | 0.059 | |
productiveSeq | 18.381 | 1.572 | 19.954 | |
readImmunoSeq | 0.039 | 0.004 | 0.043 | |
removeSeq | 0.052 | 0.000 | 0.052 | |
searchPublished | 0.145 | 0.016 | 0.161 | |
searchSeq | 0.736 | 0.004 | 0.740 | |
seqMatrix | 1.860 | 0.164 | 2.024 | |
similarityMatrix | 0.156 | 0.004 | 0.160 | |
similarityScore | 0.145 | 0.004 | 0.149 | |
topFreq | 1.985 | 0.152 | 2.137 | |
topSeqs | 0.15 | 0.00 | 0.15 | |
topSeqsPlot | 0.393 | 0.007 | 0.401 | |
uniqueSeqs | 0.178 | 0.008 | 0.186 | |