Back to Multiple platform build/check report for BioC 3.17:   simplified   long
ABCDEFGHIJKLM[N]OPQRSTUVWXYZ

This page was generated on 2023-03-24 11:06:10 -0400 (Fri, 24 Mar 2023).

HostnameOSArch (*)R versionInstalled pkgs
nebbiolo1Linux (Ubuntu 22.04.1 LTS)x86_64R Under development (unstable) (2023-03-16 r83996) -- "Unsuffered Consequences" 4546
palomino3Windows Server 2022 Datacenterx64R Under development (unstable) (2023-03-15 r83984 ucrt) -- "Unsuffered Consequences" 4307
merida1macOS 10.14.6 Mojavex86_64R Under development (unstable) (2023-03-16 r83985) -- "Unsuffered Consequences" 4299
Click on any hostname to see more info about the system (e.g. compilers)      (*) as reported by 'uname -p', except on Windows and Mac OS X

BUILD BIN results for ncdfFlow on palomino3


To the developers/maintainers of the ncdfFlow package:
- Please allow up to 24 hours (and sometimes 48 hours) for your latest push to git@git.bioconductor.org:packages/ncdfFlow.git to
reflect on this report. See How and When does the builder pull? When will my changes propagate? for more information.
- Make sure to use the following settings in order to reproduce any error or warning you see on this page.

raw results

Package 1343/2195HostnameOS / ArchINSTALLBUILDCHECKBUILD BIN
ncdfFlow 2.45.0  (landing page)
Mike Jiang
Snapshot Date: 2023-03-23 14:00:15 -0400 (Thu, 23 Mar 2023)
git_url: https://git.bioconductor.org/packages/ncdfFlow
git_branch: devel
git_last_commit: a5efa33
git_last_commit_date: 2022-11-01 11:06:30 -0400 (Tue, 01 Nov 2022)
nebbiolo1Linux (Ubuntu 22.04.1 LTS) / x86_64  OK    OK    WARNINGS  UNNEEDED, same version is already published
palomino3Windows Server 2022 Datacenter / x64  OK    OK    WARNINGS    OK  UNNEEDED, same version is already published
merida1macOS 10.14.6 Mojave / x86_64  OK    OK    WARNINGS    OK  UNNEEDED, same version is already published

Summary

Package: ncdfFlow
Version: 2.45.0
Command: rm -rf ncdfFlow.buildbin-libdir && mkdir ncdfFlow.buildbin-libdir && F:\biocbuild\bbs-3.17-bioc\R\bin\R.exe CMD INSTALL --build --library=ncdfFlow.buildbin-libdir ncdfFlow_2.45.0.tar.gz
StartedAt: 2023-03-24 09:06:31 -0400 (Fri, 24 Mar 2023)
EndedAt: 2023-03-24 09:07:02 -0400 (Fri, 24 Mar 2023)
EllapsedTime: 31.5 seconds
RetCode: 0
Status:   OK  
PackageFile: ncdfFlow_2.45.0.zip
PackageFileSize: 1.888 MiB

Command output

##############################################################################
##############################################################################
###
### Running command:
###
###   rm -rf ncdfFlow.buildbin-libdir && mkdir ncdfFlow.buildbin-libdir && F:\biocbuild\bbs-3.17-bioc\R\bin\R.exe CMD INSTALL --build --library=ncdfFlow.buildbin-libdir ncdfFlow_2.45.0.tar.gz
###
##############################################################################
##############################################################################


* installing *source* package 'ncdfFlow' ...
** using staged installation
** libs
using C++ compiler: 'G__~1.EXE (GCC) 12.2.0'
using C++11
g++  -std=gnu++11 -I"F:/biocbuild/bbs-3.17-bioc/R/include" -DNDEBUG  -I'F:/biocbuild/bbs-3.17-bioc/R/library/cpp11/include' -I'F:/biocbuild/bbs-3.17-bioc/R/library/BH/include' -I'F:/biocbuild/bbs-3.17-bioc/R/library/Rhdf5lib/include'   -I"C:/rtools43/x86_64-w64-mingw32.static.posix/include"     -O2 -Wall  -mfpmath=sse -msse2 -mstackrealign  -c cpp11.cpp -o cpp11.o
g++  -std=gnu++11 -I"F:/biocbuild/bbs-3.17-bioc/R/include" -DNDEBUG  -I'F:/biocbuild/bbs-3.17-bioc/R/library/cpp11/include' -I'F:/biocbuild/bbs-3.17-bioc/R/library/BH/include' -I'F:/biocbuild/bbs-3.17-bioc/R/library/Rhdf5lib/include'   -I"C:/rtools43/x86_64-w64-mingw32.static.posix/include"     -O2 -Wall  -mfpmath=sse -msse2 -mstackrealign  -c hdfFlow.cpp -o hdfFlow.o
In file included from F:/biocbuild/bbs-3.17-bioc/R/library/BH/include/boost/mpl/aux_/na_assert.hpp:23,
                 from F:/biocbuild/bbs-3.17-bioc/R/library/BH/include/boost/mpl/arg.hpp:25,
                 from F:/biocbuild/bbs-3.17-bioc/R/library/BH/include/boost/mpl/placeholders.hpp:24,
                 from F:/biocbuild/bbs-3.17-bioc/R/library/BH/include/boost/iterator/iterator_categories.hpp:16,
                 from F:/biocbuild/bbs-3.17-bioc/R/library/BH/include/boost/iterator/iterator_facade.hpp:13,
                 from F:/biocbuild/bbs-3.17-bioc/R/library/BH/include/boost/range/iterator_range_core.hpp:27,
                 from F:/biocbuild/bbs-3.17-bioc/R/library/BH/include/boost/lexical_cast.hpp:30,
                 from hdfFlow.cpp:13:
F:/biocbuild/bbs-3.17-bioc/R/library/BH/include/boost/mpl/assert.hpp:194:21: warning: unnecessary parentheses in declaration of 'assert_arg' [-Wparentheses]
  194 | failed ************ (Pred::************
      |                     ^~~~~~~~~~~~~~~~~~~
  195 |       assert_arg( void (*)(Pred), typename assert_arg_pred<Pred>::type )
      |       ~~~~~~~~~~~~~~~~~~~~~~~~~~~~~~~~~~~~~~~~~~~~~~~~~~~~~~~~~~~~~~~~~~
  196 |     );
      |     ~                
F:/biocbuild/bbs-3.17-bioc/R/library/BH/include/boost/mpl/assert.hpp:194:21: note: remove parentheses
  194 | failed ************ (Pred::************
      |                     ^~~~~~~~~~~~~~~~~~~
      |                     -
  195 |       assert_arg( void (*)(Pred), typename assert_arg_pred<Pred>::type )
      |       ~~~~~~~~~~~~~~~~~~~~~~~~~~~~~~~~~~~~~~~~~~~~~~~~~~~~~~~~~~~~~~~~~~
  196 |     );
      |     ~                
      |     -
F:/biocbuild/bbs-3.17-bioc/R/library/BH/include/boost/mpl/assert.hpp:199:21: warning: unnecessary parentheses in declaration of 'assert_not_arg' [-Wparentheses]
  199 | failed ************ (boost::mpl::not_<Pred>::************
      |                     ^~~~~~~~~~~~~~~~~~~~~~~~~~~~~~~~~~~~~
  200 |       assert_not_arg( void (*)(Pred), typename assert_arg_pred_not<Pred>::type )
      |       ~~~~~~~~~~~~~~~~~~~~~~~~~~~~~~~~~~~~~~~~~~~~~~~~~~~~~~~~~~~~~~~~~~~~~~~~~~
  201 |     );
      |     ~                
F:/biocbuild/bbs-3.17-bioc/R/library/BH/include/boost/mpl/assert.hpp:199:21: note: remove parentheses
  199 | failed ************ (boost::mpl::not_<Pred>::************
      |                     ^~~~~~~~~~~~~~~~~~~~~~~~~~~~~~~~~~~~~
      |                     -
  200 |       assert_not_arg( void (*)(Pred), typename assert_arg_pred_not<Pred>::type )
      |       ~~~~~~~~~~~~~~~~~~~~~~~~~~~~~~~~~~~~~~~~~~~~~~~~~~~~~~~~~~~~~~~~~~~~~~~~~~
  201 |     );
      |     ~                
      |     -
hdfFlow.cpp: In function 'void readSlice_cpp(hid_t, hid_t, hid_t, std::vector<int>, int, int, double*, bool)':
hdfFlow.cpp:508:31: warning: comparison of integer expressions of different signedness: 'int' and 'unsigned int' [-Wsign-compare]
  508 |                 if(sampleIndx >= nSample)
      |                    ~~~~~~~~~~~^~~~~~~~~~
hdfFlow.cpp:493:21: warning: variable 'status' set but not used [-Wunused-but-set-variable]
  493 |         herr_t      status;
      |                     ^~~~~~
mkdir -p "F:/biocbuild/bbs-3.17-bioc/meat/ncdfFlow.buildbin-libdir/00LOCK-ncdfFlow/00new/ncdfFlow/lib/x64"
ar rs "F:/biocbuild/bbs-3.17-bioc/meat/ncdfFlow.buildbin-libdir/00LOCK-ncdfFlow/00new/ncdfFlow/lib/x64/libncdfFlow.a" cpp11.o hdfFlow.o
C:\rtools43\x86_64-w64-mingw32.static.posix\bin\ar.exe: creating F:/biocbuild/bbs-3.17-bioc/meat/ncdfFlow.buildbin-libdir/00LOCK-ncdfFlow/00new/ncdfFlow/lib/x64/libncdfFlow.a
g++ -shared -s -static-libgcc -o ncdfFlow.dll tmp.def cpp11.o hdfFlow.o -LF:/biocbuild/bbs-3.17-bioc/R/library/Rhdf5lib/lib/x64-ucrt -lhdf5_cpp -lhdf5 -lcurl -lssh2 -lssl -lcrypto -lwldap32 -lws2_32 -lcrypt32 -lsz -laec -lz -lpsapi -LC:/rtools43/x86_64-w64-mingw32.static.posix/lib/x64 -LC:/rtools43/x86_64-w64-mingw32.static.posix/lib -LF:/biocbuild/bbs-3.17-bioc/R/bin/x64 -lR
installing to F:/biocbuild/bbs-3.17-bioc/meat/ncdfFlow.buildbin-libdir/00LOCK-ncdfFlow/00new/ncdfFlow/libs/x64
** R
** inst
** byte-compile and prepare package for lazy loading
** help
*** installing help indices
** building package indices
** installing vignettes
** testing if installed package can be loaded from temporary location
** testing if installed package can be loaded from final location
** testing if installed package keeps a record of temporary installation path
* MD5 sums
packaged installation of 'ncdfFlow' as ncdfFlow_2.45.0.zip
* DONE (ncdfFlow)