Back to Multiple platform build/check report for BioC 3.17:   simplified   long
ABCDEFGHIJKLMNO[P]QRSTUVWXYZ

This page was generated on 2023-05-27 11:06:06 -0400 (Sat, 27 May 2023).

HostnameOSArch (*)R versionInstalled pkgs
nebbiolo1Linux (Ubuntu 22.04.2 LTS)x86_644.3.0 RC (2023-04-13 r84269) -- "Already Tomorrow" 4617
palomino3Windows Server 2022 Datacenterx644.3.0 RC (2023-04-13 r84269 ucrt) -- "Already Tomorrow" 4368
merida1macOS 12.6.4 Montereyx86_644.3.0 RC (2023-04-13 r84257) -- "Already Tomorrow" 4326
Click on any hostname to see more info about the system (e.g. compilers)      (*) as reported by 'uname -p', except on Windows and Mac OS X

BUILD results for plyranges on palomino3


To the developers/maintainers of the plyranges package:
- Allow up to 24 hours (and sometimes 48 hours) for your latest push to git@git.bioconductor.org:packages/plyranges.git to reflect on this report. See Troubleshooting Build Report for more information.

- Use the following Renviron settings to reproduce errors and warnings.

Note: If "R CMD check" recently failed on the Linux builder over a missing dependency, add the missing dependency to "Suggests" in your DESCRIPTION file. See the Renviron.bioc for details.

raw results

Package 1534/2229HostnameOS / ArchINSTALLBUILDCHECKBUILD BIN
plyranges 1.20.0  (landing page)
Stuart Lee
Snapshot Date: 2023-05-26 14:00:16 -0400 (Fri, 26 May 2023)
git_url: https://git.bioconductor.org/packages/plyranges
git_branch: RELEASE_3_17
git_last_commit: dd4c068
git_last_commit_date: 2023-04-25 11:00:35 -0400 (Tue, 25 Apr 2023)
nebbiolo1Linux (Ubuntu 22.04.2 LTS) / x86_64  OK    OK    WARNINGS  UNNEEDED, same version is already published
palomino3Windows Server 2022 Datacenter / x64  OK    OK    WARNINGS    OK  UNNEEDED, same version is already published
merida1macOS 12.6.4 Monterey / x86_64  OK    OK    WARNINGS    OK  UNNEEDED, same version is already published

Summary

Package: plyranges
Version: 1.20.0
Command: chmod a+r plyranges -R && F:\biocbuild\bbs-3.17-bioc\R\bin\R.exe CMD build --keep-empty-dirs --no-resave-data plyranges
StartedAt: 2023-05-26 21:13:50 -0400 (Fri, 26 May 2023)
EndedAt: 2023-05-26 21:15:04 -0400 (Fri, 26 May 2023)
EllapsedTime: 73.4 seconds
RetCode: 0
Status:   OK  
PackageFile: plyranges_1.20.0.tar.gz
PackageFileSize: 1.21 MiB

Command output

##############################################################################
##############################################################################
###
### Running command:
###
###   chmod a+r plyranges -R && F:\biocbuild\bbs-3.17-bioc\R\bin\R.exe CMD build --keep-empty-dirs --no-resave-data plyranges
###
##############################################################################
##############################################################################


* checking for file 'plyranges/DESCRIPTION' ... OK
* preparing 'plyranges':
* checking DESCRIPTION meta-information ... OK
* installing the package to build vignettes
* creating vignettes ... OK
* checking for LF line-endings in source and make files and shell scripts
* checking for empty or unneeded directories
WARNING: directory 'plyranges/pkgdown' is empty
* building 'plyranges_1.20.0.tar.gz'