Back to Multiple platform build/check report for BioC 3.17:   simplified   long
ABCDEFGHIJKLMNOPQRSTUVW[X]YZ

This page was generated on 2023-06-03 14:36:59 -0400 (Sat, 03 Jun 2023).

HostnameOSArch (*)R versionInstalled pkgs
nebbiolo1Linux (Ubuntu 22.04.2 LTS)x86_644.3.0 RC (2023-04-13 r84269) -- "Already Tomorrow" 4623
palomino3Windows Server 2022 Datacenterx644.3.0 RC (2023-04-13 r84269 ucrt) -- "Already Tomorrow" 4374
merida1macOS 12.6.4 Montereyx86_644.3.0 RC (2023-04-13 r84257) -- "Already Tomorrow" 4332
Click on any hostname to see more info about the system (e.g. compilers)      (*) as reported by 'uname -p', except on Windows and Mac OS X

INSTALL results for xcms on nebbiolo1


To the developers/maintainers of the xcms package:
- Allow up to 24 hours (and sometimes 48 hours) for your latest push to git@git.bioconductor.org:packages/xcms.git to reflect on this report. See Troubleshooting Build Report for more information.

- Use the following Renviron settings to reproduce errors and warnings.

Note: If "R CMD check" recently failed on the Linux builder over a missing dependency, add the missing dependency to "Suggests" in your DESCRIPTION file. See the Renviron.bioc for details.

raw results

Package 2213/2229HostnameOS / ArchINSTALLBUILDCHECKBUILD BIN
xcms 3.22.0  (landing page)
Steffen Neumann
Snapshot Date: 2023-06-02 14:00:14 -0400 (Fri, 02 Jun 2023)
git_url: https://git.bioconductor.org/packages/xcms
git_branch: RELEASE_3_17
git_last_commit: 75010ce
git_last_commit_date: 2023-04-25 09:41:50 -0400 (Tue, 25 Apr 2023)
nebbiolo1Linux (Ubuntu 22.04.2 LTS) / x86_64  OK    OK    OK  UNNEEDED, same version is already published
palomino3Windows Server 2022 Datacenter / x64  OK    OK    TIMEOUT    OK  
merida1macOS 12.6.4 Monterey / x86_64  OK    OK    OK    OK  UNNEEDED, same version is already published

Summary

Package: xcms
Version: 3.22.0
Command: /home/biocbuild/bbs-3.17-bioc/R/bin/R CMD INSTALL xcms
StartedAt: 2023-06-02 15:31:21 -0400 (Fri, 02 Jun 2023)
EndedAt: 2023-06-02 15:32:41 -0400 (Fri, 02 Jun 2023)
EllapsedTime: 80.1 seconds
RetCode: 0
Status:   OK  

Command output

##############################################################################
##############################################################################
###
### Running command:
###
###   /home/biocbuild/bbs-3.17-bioc/R/bin/R CMD INSTALL xcms
###
##############################################################################
##############################################################################


* installing to library ‘/home/biocbuild/bbs-3.17-bioc/R/site-library’
* installing *source* package ‘xcms’ ...
** using staged installation
** libs
using C compiler: ‘gcc (Ubuntu 11.3.0-1ubuntu1~22.04.1) 11.3.0’
using C++ compiler: ‘g++ (Ubuntu 11.3.0-1ubuntu1~22.04.1) 11.3.0’
rm -f massifquant/xcms_massifquant.o massifquant/TrMgr.o massifquant/Tracker.o massifquant/SegProc.o massifquant/DataKeeper.o massifquant/OpOverload.o obiwarp/mat.o obiwarp/vec.o obiwarp/xcms_dynprog.o obiwarp/xcms_lmat.o xcms_obiwarp.o fastMatch.o mzClust_hclust.o mzROI.o util.o xcms.o binners.o
g++ -std=gnu++17 -I"/home/biocbuild/bbs-3.17-bioc/R/include" -DNDEBUG   -I/usr/local/include    -fpic  -g -O2  -Wall -c massifquant/xcms_massifquant.cpp -o massifquant/xcms_massifquant.o
g++ -std=gnu++17 -I"/home/biocbuild/bbs-3.17-bioc/R/include" -DNDEBUG   -I/usr/local/include    -fpic  -g -O2  -Wall -c massifquant/TrMgr.cpp -o massifquant/TrMgr.o
g++ -std=gnu++17 -I"/home/biocbuild/bbs-3.17-bioc/R/include" -DNDEBUG   -I/usr/local/include    -fpic  -g -O2  -Wall -c massifquant/Tracker.cpp -o massifquant/Tracker.o
g++ -std=gnu++17 -I"/home/biocbuild/bbs-3.17-bioc/R/include" -DNDEBUG   -I/usr/local/include    -fpic  -g -O2  -Wall -c massifquant/SegProc.cpp -o massifquant/SegProc.o
g++ -std=gnu++17 -I"/home/biocbuild/bbs-3.17-bioc/R/include" -DNDEBUG   -I/usr/local/include    -fpic  -g -O2  -Wall -c massifquant/DataKeeper.cpp -o massifquant/DataKeeper.o
g++ -std=gnu++17 -I"/home/biocbuild/bbs-3.17-bioc/R/include" -DNDEBUG   -I/usr/local/include    -fpic  -g -O2  -Wall -c massifquant/OpOverload.cpp -o massifquant/OpOverload.o
g++ -std=gnu++17 -I"/home/biocbuild/bbs-3.17-bioc/R/include" -DNDEBUG   -I/usr/local/include    -fpic  -g -O2  -Wall -c obiwarp/mat.cpp -o obiwarp/mat.o
g++ -std=gnu++17 -I"/home/biocbuild/bbs-3.17-bioc/R/include" -DNDEBUG   -I/usr/local/include    -fpic  -g -O2  -Wall -c obiwarp/vec.cpp -o obiwarp/vec.o
g++ -std=gnu++17 -I"/home/biocbuild/bbs-3.17-bioc/R/include" -DNDEBUG   -I/usr/local/include    -fpic  -g -O2  -Wall -c obiwarp/xcms_dynprog.cpp -o obiwarp/xcms_dynprog.o
obiwarp/xcms_dynprog.cpp: In member function ‘void DynProg::find_path(VEC::MatF&, VEC::VecF&, int, float, float, int, float)’:
obiwarp/xcms_dynprog.cpp:1113:9: warning: variable ‘bestscore’ set but not used [-Wunused-but-set-variable]
 1113 |   float bestscore;
      |         ^~~~~~~~~
g++ -std=gnu++17 -I"/home/biocbuild/bbs-3.17-bioc/R/include" -DNDEBUG   -I/usr/local/include    -fpic  -g -O2  -Wall -c obiwarp/xcms_lmat.cpp -o obiwarp/xcms_lmat.o
g++ -std=gnu++17 -I"/home/biocbuild/bbs-3.17-bioc/R/include" -DNDEBUG   -I/usr/local/include    -fpic  -g -O2  -Wall -c xcms_obiwarp.cpp -o xcms_obiwarp.o
gcc -I"/home/biocbuild/bbs-3.17-bioc/R/include" -DNDEBUG   -I/usr/local/include    -fpic  -g -O2  -Wall -c fastMatch.c -o fastMatch.o
gcc -I"/home/biocbuild/bbs-3.17-bioc/R/include" -DNDEBUG   -I/usr/local/include    -fpic  -g -O2  -Wall -c mzClust_hclust.c -o mzClust_hclust.o
gcc -I"/home/biocbuild/bbs-3.17-bioc/R/include" -DNDEBUG   -I/usr/local/include    -fpic  -g -O2  -Wall -c mzROI.c -o mzROI.o
gcc -I"/home/biocbuild/bbs-3.17-bioc/R/include" -DNDEBUG   -I/usr/local/include    -fpic  -g -O2  -Wall -c util.c -o util.o
gcc -I"/home/biocbuild/bbs-3.17-bioc/R/include" -DNDEBUG   -I/usr/local/include    -fpic  -g -O2  -Wall -c xcms.c -o xcms.o
gcc -I"/home/biocbuild/bbs-3.17-bioc/R/include" -DNDEBUG   -I/usr/local/include    -fpic  -g -O2  -Wall -c binners.c -o binners.o
binners.c: In function ‘_breaks_on_binSize’:
binners.c:357:7: warning: unused variable ‘idx’ [-Wunused-variable]
  357 |   int idx = 0;
      |       ^~~
g++ -std=gnu++17 -shared -L/home/biocbuild/bbs-3.17-bioc/R/lib -L/usr/local/lib -o xcms.so massifquant/xcms_massifquant.o massifquant/TrMgr.o massifquant/Tracker.o massifquant/SegProc.o massifquant/DataKeeper.o massifquant/OpOverload.o obiwarp/mat.o obiwarp/vec.o obiwarp/xcms_dynprog.o obiwarp/xcms_lmat.o xcms_obiwarp.o fastMatch.o mzClust_hclust.o mzROI.o util.o xcms.o binners.o -L/home/biocbuild/bbs-3.17-bioc/R/lib -lR
installing to /home/biocbuild/bbs-3.17-bioc/R/site-library/00LOCK-xcms/00new/xcms/libs
** R
** data
** inst
** byte-compile and prepare package for lazy loading
Creating a new generic function for ‘group’ in package ‘xcms’
Creating a new generic function for ‘sigma’ in package ‘xcms’
Creating a generic function from function ‘hasFilledChromPeaks’ in package ‘xcms’
** help
*** installing help indices
** building package indices
** installing vignettes
** testing if installed package can be loaded from temporary location
** checking absolute paths in shared objects and dynamic libraries
** testing if installed package can be loaded from final location
** testing if installed package keeps a record of temporary installation path
* DONE (xcms)