Back to Multiple platform build/check report for BioC 3.17:   simplified   long
ABCDEFGHIJKLMNOPQR[S]TUVWXYZ

This page was generated on 2023-03-31 11:03:23 -0400 (Fri, 31 Mar 2023).

HostnameOSArch (*)R versionInstalled pkgs
nebbiolo1Linux (Ubuntu 22.04.1 LTS)x86_64R Under development (unstable) (2023-03-16 r83996) -- "Unsuffered Consequences" 4547
palomino3Windows Server 2022 Datacenterx64R Under development (unstable) (2023-03-15 r83984 ucrt) -- "Unsuffered Consequences" 4308
Click on any hostname to see more info about the system (e.g. compilers)      (*) as reported by 'uname -p', except on Windows and Mac OS X

CHECK results for singleCellTK on palomino3


To the developers/maintainers of the singleCellTK package:
- Allow up to 24 hours (and sometimes 48 hours) for your latest push to git@git.bioconductor.org:packages/singleCellTK.git to reflect on this report. See Troubleshooting Build Report for more information.

- Use the following Renviron settings to reproduce errors and warnings.

Note: If "R CMD check" recently failed on the Linux builder over a missing dependency, add the missing dependency to "Suggests" in your DESCRIPTION file. See the Renviron.bioc for details.

raw results

Package 1906/2195HostnameOS / ArchINSTALLBUILDCHECKBUILD BIN
singleCellTK 2.9.0  (landing page)
Yichen Wang
Snapshot Date: 2023-03-30 14:00:16 -0400 (Thu, 30 Mar 2023)
git_url: https://git.bioconductor.org/packages/singleCellTK
git_branch: devel
git_last_commit: 4468720
git_last_commit_date: 2022-11-01 11:17:41 -0400 (Tue, 01 Nov 2022)
nebbiolo1Linux (Ubuntu 22.04.1 LTS) / x86_64  OK    OK    OK  UNNEEDED, same version is already published
palomino3Windows Server 2022 Datacenter / x64  OK    OK    OK    OK  UNNEEDED, same version is already published

Summary

Package: singleCellTK
Version: 2.9.0
Command: set _R_CHECK_FORCE_SUGGESTS_=0&& F:\biocbuild\bbs-3.17-bioc\R\bin\R.exe CMD check --no-multiarch --install=check:singleCellTK.install-out.txt --library=F:\biocbuild\bbs-3.17-bioc\R\library --no-vignettes --timings singleCellTK_2.9.0.tar.gz
StartedAt: 2023-03-31 06:35:47 -0400 (Fri, 31 Mar 2023)
EndedAt: 2023-03-31 06:50:41 -0400 (Fri, 31 Mar 2023)
EllapsedTime: 894.2 seconds
RetCode: 0
Status:   OK  
CheckDir: singleCellTK.Rcheck
Warnings: 0

Command output

##############################################################################
##############################################################################
###
### Running command:
###
###   set _R_CHECK_FORCE_SUGGESTS_=0&& F:\biocbuild\bbs-3.17-bioc\R\bin\R.exe CMD check --no-multiarch --install=check:singleCellTK.install-out.txt --library=F:\biocbuild\bbs-3.17-bioc\R\library --no-vignettes --timings singleCellTK_2.9.0.tar.gz
###
##############################################################################
##############################################################################


* using log directory 'F:/biocbuild/bbs-3.17-bioc/meat/singleCellTK.Rcheck'
* using R Under development (unstable) (2023-03-15 r83984 ucrt)
* using platform: x86_64-w64-mingw32 (64-bit)
* R was compiled by
    gcc.exe (GCC) 12.2.0
    GNU Fortran (GCC) 12.2.0
* running under: Windows Server 2022 x64 (build 20348)
* using session charset: UTF-8
* using option '--no-vignettes'
* checking for file 'singleCellTK/DESCRIPTION' ... OK
* checking extension type ... Package
* this is package 'singleCellTK' version '2.9.0'
* package encoding: UTF-8
* checking package namespace information ... OK
* checking package dependencies ... OK
* checking if this is a source package ... OK
* checking if there is a namespace ... OK
* checking for hidden files and directories ... OK
* checking for portable file names ... OK
* checking whether package 'singleCellTK' can be installed ... OK
* checking installed package size ... NOTE
  installed size is  6.5Mb
  sub-directories of 1Mb or more:
    extdata   1.5Mb
    shiny     2.8Mb
* checking package directory ... OK
* checking 'build' directory ... OK
* checking DESCRIPTION meta-information ... OK
* checking top-level files ... OK
* checking for left-over files ... OK
* checking index information ... OK
* checking package subdirectories ... OK
* checking R files for non-ASCII characters ... OK
* checking R files for syntax errors ... OK
* checking whether the package can be loaded ... OK
* checking whether the package can be loaded with stated dependencies ... OK
* checking whether the package can be unloaded cleanly ... OK
* checking whether the namespace can be loaded with stated dependencies ... OK
* checking whether the namespace can be unloaded cleanly ... OK
* checking startup messages can be suppressed ... OK
* checking dependencies in R code ... OK
* checking S3 generic/method consistency ... OK
* checking replacement functions ... OK
* checking foreign function calls ... OK
* checking R code for possible problems ... OK
* checking Rd files ... OK
* checking Rd metadata ... OK
* checking Rd cross-references ... OK
* checking for missing documentation entries ... OK
* checking for code/documentation mismatches ... OK
* checking Rd \usage sections ... OK
* checking Rd contents ... OK
* checking for unstated dependencies in examples ... OK
* checking contents of 'data' directory ... OK
* checking data for non-ASCII characters ... OK
* checking data for ASCII and uncompressed saves ... OK
* checking R/sysdata.rda ... OK
* checking files in 'vignettes' ... OK
* checking examples ... OK
Examples with CPU (user + system) or elapsed time > 5s
                          user system elapsed
plotScDblFinderResults   29.27   0.65   29.93
plotDoubletFinderResults 24.42   0.11   25.06
runScDblFinder           21.43   0.37   21.81
runDoubletFinder         18.95   0.00   19.00
importExampleData        16.55   2.11   22.77
plotEmptyDropsResults    11.30   0.01   11.31
plotEmptyDropsScatter    11.22   0.03   11.25
plotBatchCorrCompare     11.19   0.05   11.37
runEmptyDrops            10.85   0.04   10.89
plotScdsHybridResults     8.95   0.16    8.71
plotDecontXResults        8.18   0.06    8.24
plotBcdsResults           8.11   0.12    8.08
runDecontX                6.80   0.00    6.79
runUMAP                   6.61   0.08    6.69
plotUMAP                  6.49   0.08    6.53
plotCxdsResults           6.39   0.08    6.48
detectCellOutlier         5.59   0.14    5.89
plotTSCANClusterDEG       5.08   0.15    5.28
* checking for unstated dependencies in 'tests' ... OK
* checking tests ...
  Running 'spelling.R'
  Running 'testthat.R'
 OK
* checking for unstated dependencies in vignettes ... OK
* checking package vignettes in 'inst/doc' ... OK
* checking running R code from vignettes ... SKIPPED
* checking re-building of vignette outputs ... SKIPPED
* checking PDF version of manual ... OK
* DONE

Status: 1 NOTE
See
  'F:/biocbuild/bbs-3.17-bioc/meat/singleCellTK.Rcheck/00check.log'
for details.



Installation output

singleCellTK.Rcheck/00install.out

##############################################################################
##############################################################################
###
### Running command:
###
###   F:\biocbuild\bbs-3.17-bioc\R\bin\R.exe CMD INSTALL singleCellTK
###
##############################################################################
##############################################################################


* installing to library 'F:/biocbuild/bbs-3.17-bioc/R/library'
* installing *source* package 'singleCellTK' ...
** using staged installation
** R
** data
** exec
** inst
** byte-compile and prepare package for lazy loading
** help
*** installing help indices
** building package indices
** installing vignettes
** testing if installed package can be loaded from temporary location
** testing if installed package can be loaded from final location
** testing if installed package keeps a record of temporary installation path
* DONE (singleCellTK)

Tests output

singleCellTK.Rcheck/tests/spelling.Rout


R Under development (unstable) (2023-03-15 r83984 ucrt) -- "Unsuffered Consequences"
Copyright (C) 2023 The R Foundation for Statistical Computing
Platform: x86_64-w64-mingw32/x64 (64-bit)

R is free software and comes with ABSOLUTELY NO WARRANTY.
You are welcome to redistribute it under certain conditions.
Type 'license()' or 'licence()' for distribution details.

R is a collaborative project with many contributors.
Type 'contributors()' for more information and
'citation()' on how to cite R or R packages in publications.

Type 'demo()' for some demos, 'help()' for on-line help, or
'help.start()' for an HTML browser interface to help.
Type 'q()' to quit R.

> if (requireNamespace('spelling', quietly = TRUE))
+   spelling::spell_check_test(vignettes = TRUE, error = FALSE, skip_on_cran = TRUE)
NULL
> 
> proc.time()
   user  system elapsed 
   0.18    0.03    0.20 

singleCellTK.Rcheck/tests/testthat.Rout


R Under development (unstable) (2023-03-15 r83984 ucrt) -- "Unsuffered Consequences"
Copyright (C) 2023 The R Foundation for Statistical Computing
Platform: x86_64-w64-mingw32/x64 (64-bit)

R is free software and comes with ABSOLUTELY NO WARRANTY.
You are welcome to redistribute it under certain conditions.
Type 'license()' or 'licence()' for distribution details.

R is a collaborative project with many contributors.
Type 'contributors()' for more information and
'citation()' on how to cite R or R packages in publications.

Type 'demo()' for some demos, 'help()' for on-line help, or
'help.start()' for an HTML browser interface to help.
Type 'q()' to quit R.

> library(testthat)
> library(singleCellTK)
Loading required package: SummarizedExperiment
Loading required package: MatrixGenerics
Loading required package: matrixStats

Attaching package: 'MatrixGenerics'

The following objects are masked from 'package:matrixStats':

    colAlls, colAnyNAs, colAnys, colAvgsPerRowSet, colCollapse,
    colCounts, colCummaxs, colCummins, colCumprods, colCumsums,
    colDiffs, colIQRDiffs, colIQRs, colLogSumExps, colMadDiffs,
    colMads, colMaxs, colMeans2, colMedians, colMins, colOrderStats,
    colProds, colQuantiles, colRanges, colRanks, colSdDiffs, colSds,
    colSums2, colTabulates, colVarDiffs, colVars, colWeightedMads,
    colWeightedMeans, colWeightedMedians, colWeightedSds,
    colWeightedVars, rowAlls, rowAnyNAs, rowAnys, rowAvgsPerColSet,
    rowCollapse, rowCounts, rowCummaxs, rowCummins, rowCumprods,
    rowCumsums, rowDiffs, rowIQRDiffs, rowIQRs, rowLogSumExps,
    rowMadDiffs, rowMads, rowMaxs, rowMeans2, rowMedians, rowMins,
    rowOrderStats, rowProds, rowQuantiles, rowRanges, rowRanks,
    rowSdDiffs, rowSds, rowSums2, rowTabulates, rowVarDiffs, rowVars,
    rowWeightedMads, rowWeightedMeans, rowWeightedMedians,
    rowWeightedSds, rowWeightedVars

Loading required package: GenomicRanges
Loading required package: stats4
Loading required package: BiocGenerics

Attaching package: 'BiocGenerics'

The following objects are masked from 'package:stats':

    IQR, mad, sd, var, xtabs

The following objects are masked from 'package:base':

    Filter, Find, Map, Position, Reduce, anyDuplicated, aperm, append,
    as.data.frame, basename, cbind, colnames, dirname, do.call,
    duplicated, eval, evalq, get, grep, grepl, intersect, is.unsorted,
    lapply, mapply, match, mget, order, paste, pmax, pmax.int, pmin,
    pmin.int, rank, rbind, rownames, sapply, setdiff, sort, table,
    tapply, union, unique, unsplit, which.max, which.min

Loading required package: S4Vectors

Attaching package: 'S4Vectors'

The following objects are masked from 'package:base':

    I, expand.grid, unname

Loading required package: IRanges

Attaching package: 'IRanges'

The following object is masked from 'package:grDevices':

    windows

Loading required package: GenomeInfoDb
Loading required package: Biobase
Welcome to Bioconductor

    Vignettes contain introductory material; view with
    'browseVignettes()'. To cite Bioconductor, see
    'citation("Biobase")', and for packages 'citation("pkgname")'.


Attaching package: 'Biobase'

The following object is masked from 'package:MatrixGenerics':

    rowMedians

The following objects are masked from 'package:matrixStats':

    anyMissing, rowMedians

Loading required package: SingleCellExperiment
Loading required package: DelayedArray
Loading required package: Matrix

Attaching package: 'Matrix'

The following object is masked from 'package:S4Vectors':

    expand


Attaching package: 'DelayedArray'

The following objects are masked from 'package:base':

    apply, rowsum, scale, sweep


Attaching package: 'singleCellTK'

The following object is masked from 'package:BiocGenerics':

    plotPCA

> 
> test_check("singleCellTK")
Found 2 batches
Using null model in ComBat-seq.
Adjusting for 0 covariate(s) or covariate level(s)
Estimating dispersions
Fitting the GLM model
Shrinkage off - using GLM estimates for parameters
Adjusting the data
Found 2 batches
Using null model in ComBat-seq.
Adjusting for 1 covariate(s) or covariate level(s)
Estimating dispersions
Fitting the GLM model
Shrinkage off - using GLM estimates for parameters
Adjusting the data
Performing log-normalization
0%   10   20   30   40   50   60   70   80   90   100%
[----|----|----|----|----|----|----|----|----|----|
**************************************************|

  |                                                                            
  |                                                                      |   0%
  |                                                                            
  |======================================================================| 100%
Calculating gene variances
0%   10   20   30   40   50   60   70   80   90   100%
[----|----|----|----|----|----|----|----|----|----|
**************************************************|
Calculating feature variances of standardized and clipped values
0%   10   20   30   40   50   60   70   80   90   100%
[----|----|----|----|----|----|----|----|----|----|
**************************************************|

  |                                                                            
  |                                                                      |   0%
  |                                                                            
  |======================================================================| 100%

  |                                                                            
  |                                                                      |   0%
  |                                                                            
  |======================================================================| 100%
Calculating gene variances
0%   10   20   30   40   50   60   70   80   90   100%
[----|----|----|----|----|----|----|----|----|----|
**************************************************|
Calculating feature variances of standardized and clipped values
0%   10   20   30   40   50   60   70   80   90   100%
[----|----|----|----|----|----|----|----|----|----|
**************************************************|
Uploading data to Enrichr... Done.
  Querying HDSigDB_Human_2021... Done.
Parsing results... Done.
Performing log-normalization
0%   10   20   30   40   50   60   70   80   90   100%
[----|----|----|----|----|----|----|----|----|----|
**************************************************|
Calculating gene variances
0%   10   20   30   40   50   60   70   80   90   100%
[----|----|----|----|----|----|----|----|----|----|
**************************************************|
Calculating feature variances of standardized and clipped values
0%   10   20   30   40   50   60   70   80   90   100%
[----|----|----|----|----|----|----|----|----|----|
**************************************************|
Calculating gene means
0%   10   20   30   40   50   60   70   80   90   100%
[----|----|----|----|----|----|----|----|----|----|
**************************************************|
Calculating gene variance to mean ratios
0%   10   20   30   40   50   60   70   80   90   100%
[----|----|----|----|----|----|----|----|----|----|
**************************************************|
Calculating gene means
0%   10   20   30   40   50   60   70   80   90   100%
[----|----|----|----|----|----|----|----|----|----|
**************************************************|
Calculating gene variance to mean ratios
0%   10   20   30   40   50   60   70   80   90   100%
[----|----|----|----|----|----|----|----|----|----|
**************************************************|
Estimating GSVA scores for 34 gene sets.
Estimating ECDFs with Gaussian kernels

  |                                                                            
  |                                                                      |   0%
  |                                                                            
  |==                                                                    |   3%
  |                                                                            
  |====                                                                  |   6%
  |                                                                            
  |======                                                                |   9%
  |                                                                            
  |========                                                              |  12%
  |                                                                            
  |==========                                                            |  15%
  |                                                                            
  |============                                                          |  18%
  |                                                                            
  |==============                                                        |  21%
  |                                                                            
  |================                                                      |  24%
  |                                                                            
  |===================                                                   |  26%
  |                                                                            
  |=====================                                                 |  29%
  |                                                                            
  |=======================                                               |  32%
  |                                                                            
  |=========================                                             |  35%
  |                                                                            
  |===========================                                           |  38%
  |                                                                            
  |=============================                                         |  41%
  |                                                                            
  |===============================                                       |  44%
  |                                                                            
  |=================================                                     |  47%
  |                                                                            
  |===================================                                   |  50%
  |                                                                            
  |=====================================                                 |  53%
  |                                                                            
  |=======================================                               |  56%
  |                                                                            
  |=========================================                             |  59%
  |                                                                            
  |===========================================                           |  62%
  |                                                                            
  |=============================================                         |  65%
  |                                                                            
  |===============================================                       |  68%
  |                                                                            
  |=================================================                     |  71%
  |                                                                            
  |===================================================                   |  74%
  |                                                                            
  |======================================================                |  76%
  |                                                                            
  |========================================================              |  79%
  |                                                                            
  |==========================================================            |  82%
  |                                                                            
  |============================================================          |  85%
  |                                                                            
  |==============================================================        |  88%
  |                                                                            
  |================================================================      |  91%
  |                                                                            
  |==================================================================    |  94%
  |                                                                            
  |====================================================================  |  97%
  |                                                                            
  |======================================================================| 100%

Estimating GSVA scores for 2 gene sets.
Estimating ECDFs with Gaussian kernels

  |                                                                            
  |                                                                      |   0%
  |                                                                            
  |===================================                                   |  50%
  |                                                                            
  |======================================================================| 100%

Performing log-normalization
0%   10   20   30   40   50   60   70   80   90   100%
[----|----|----|----|----|----|----|----|----|----|
**************************************************|
Calculating gene variances
0%   10   20   30   40   50   60   70   80   90   100%
[----|----|----|----|----|----|----|----|----|----|
**************************************************|
Calculating feature variances of standardized and clipped values
0%   10   20   30   40   50   60   70   80   90   100%
[----|----|----|----|----|----|----|----|----|----|
**************************************************|

  |                                                                            
  |                                                                      |   0%
  |                                                                            
  |======================================================================| 100%
Performing log-normalization
0%   10   20   30   40   50   60   70   80   90   100%
[----|----|----|----|----|----|----|----|----|----|
**************************************************|

  |                                                                            
  |                                                                      |   0%
  |                                                                            
  |======================================================================| 100%
Calculating gene variances
0%   10   20   30   40   50   60   70   80   90   100%
[----|----|----|----|----|----|----|----|----|----|
**************************************************|
Calculating feature variances of standardized and clipped values
0%   10   20   30   40   50   60   70   80   90   100%
[----|----|----|----|----|----|----|----|----|----|
**************************************************|

  |                                                                            
  |                                                                      |   0%
  |                                                                            
  |======================================================================| 100%

  |                                                                            
  |                                                                      |   0%
  |                                                                            
  |======================================================================| 100%
Modularity Optimizer version 1.3.0 by Ludo Waltman and Nees Jan van Eck

Number of nodes: 390
Number of edges: 9590

Running Louvain algorithm...
0%   10   20   30   40   50   60   70   80   90   100%
[----|----|----|----|----|----|----|----|----|----|
**************************************************|
Maximum modularity in 10 random starts: 0.8042
Number of communities: 6
Elapsed time: 0 seconds
Using method 'umap'
0%   10   20   30   40   50   60   70   80   90   100%
[----|----|----|----|----|----|----|----|----|----|
**************************************************|

  |                                                                            
  |                                                                      |   0%
  |                                                                            
  |======================================================================| 100%

  |                                                                            
  |                                                                      |   0%
  |                                                                            
  |======================================================================| 100%

  |                                                                            
  |                                                                      |   0%
  |                                                                            
  |======================================================================| 100%

  |                                                                            
  |                                                                      |   0%
  |                                                                            
  |======================================================================| 100%
0%   10   20   30   40   50   60   70   80   90   100%
[----|----|----|----|----|----|----|----|----|----|
**************************************************|
0%   10   20   30   40   50   60   70   80   90   100%
[----|----|----|----|----|----|----|----|----|----|
**************************************************|

  |                                                                            
  |                                                                      |   0%
  |                                                                            
  |======================================================================| 100%

  |                                                                            
  |                                                                      |   0%
  |                                                                            
  |======================================================================| 100%

  |                                                                            
  |                                                                      |   0%
  |                                                                            
  |======================================================================| 100%

  |                                                                            
  |                                                                      |   0%
  |                                                                            
  |======================================================================| 100%

  |                                                                            
  |                                                                      |   0%
  |                                                                            
  |======================================================================| 100%
Performing log-normalization
0%   10   20   30   40   50   60   70   80   90   100%
[----|----|----|----|----|----|----|----|----|----|
**************************************************|
[ FAIL 0 | WARN 21 | SKIP 0 | PASS 221 ]

[ FAIL 0 | WARN 21 | SKIP 0 | PASS 221 ]
> 
> proc.time()
   user  system elapsed 
 247.14    7.73  266.98 

Example timings

singleCellTK.Rcheck/singleCellTK-Ex.timings

nameusersystemelapsed
MitoGenes000
SEG000
calcEffectSizes0.280.030.31
combineSCE1.610.051.65
computeZScore1.080.031.13
convertSCEToSeurat2.360.262.62
convertSeuratToSCE1.130.011.14
dedupRowNames0.040.020.06
detectCellOutlier5.590.145.89
diffAbundanceFET0.050.000.05
discreteColorPalette000
distinctColors0.010.000.01
downSampleCells0.610.140.75
downSampleDepth0.570.030.60
expData-ANY-character-method0.320.030.36
expData-set-ANY-character-CharacterOrNullOrMissing-logical-method0.360.040.39
expData-set0.360.010.37
expData0.280.020.29
expDataNames-ANY-method0.300.010.32
expDataNames0.290.050.34
expDeleteDataTag0.030.010.04
expSetDataTag0.000.050.05
expTaggedData0.020.020.03
exportSCE0.010.020.03
exportSCEtoAnnData0.060.000.07
exportSCEtoFlatFile0.060.010.07
featureIndex0.030.040.07
generateSimulatedData0.040.010.04
getBiomarker0.040.020.07
getDEGTopTable0.830.060.89
getDiffAbundanceResults0.050.000.04
getEnrichRResult0.230.032.47
getFindMarkerTopTable3.360.093.45
getMSigDBTable0.000.020.02
getPathwayResultNames0.030.000.03
getSampleSummaryStatsTable0.340.030.37
getSoupX0.450.050.50
getTSCANResults2.210.082.28
getTopHVG0.720.040.77
importAnnData000
importBUStools0.260.000.26
importCellRanger1.280.071.43
importCellRangerV2Sample0.250.000.25
importCellRangerV3Sample0.390.010.43
importDropEst0.360.000.41
importExampleData16.55 2.1122.77
importGeneSetsFromCollection0.750.110.93
importGeneSetsFromGMT0.060.020.10
importGeneSetsFromList0.100.040.14
importGeneSetsFromMSigDB3.250.133.47
importMitoGeneSet0.070.010.18
importOptimus000
importSEQC0.300.020.33
importSTARsolo0.330.050.41
iterateSimulations0.440.060.51
listSampleSummaryStatsTables0.430.030.47
mergeSCEColData0.550.080.69
mouseBrainSubsetSCE0.030.010.05
msigdb_table0.020.000.01
plotBarcodeRankDropsResults0.940.051.10
plotBarcodeRankScatter0.680.020.70
plotBatchCorrCompare11.19 0.0511.37
plotBatchVariance0.340.000.34
plotBcdsResults8.110.128.08
plotClusterAbundance1.120.051.17
plotCxdsResults6.390.086.48
plotDEGHeatmap3.140.203.58
plotDEGRegression3.880.053.97
plotDEGViolin4.200.114.31
plotDEGVolcano1.120.031.17
plotDecontXResults8.180.068.24
plotDimRed0.230.020.25
plotDoubletFinderResults24.42 0.1125.06
plotEmptyDropsResults11.30 0.0111.31
plotEmptyDropsScatter11.22 0.0311.25
plotFindMarkerHeatmap4.650.074.72
plotMASTThresholdGenes1.630.001.62
plotPCA0.530.010.55
plotPathway0.830.050.89
plotRunPerCellQCResults1.500.031.53
plotSCEBarAssayData0.160.010.17
plotSCEBarColData0.170.000.18
plotSCEBatchFeatureMean0.180.020.20
plotSCEDensity0.240.000.23
plotSCEDensityAssayData0.160.020.18
plotSCEDensityColData0.20.00.2
plotSCEDimReduceColData0.730.040.78
plotSCEDimReduceFeatures0.300.050.34
plotSCEHeatmap0.800.020.82
plotSCEScatter0.340.010.36
plotSCEViolin0.230.000.23
plotSCEViolinAssayData0.270.000.26
plotSCEViolinColData0.40.00.4
plotScDblFinderResults29.27 0.6529.93
plotScdsHybridResults8.950.168.71
plotScrubletResults0.030.000.04
plotSeuratElbow0.030.010.04
plotSeuratHVG0.030.020.05
plotSeuratJackStraw0.040.000.03
plotSeuratReduction0.030.020.05
plotSoupXResults0.140.030.17
plotTSCANClusterDEG5.080.155.28
plotTSCANClusterPseudo2.070.032.13
plotTSCANDimReduceFeatures2.110.042.14
plotTSCANPseudotimeGenes2.100.002.09
plotTSCANPseudotimeHeatmap2.090.042.14
plotTSCANResults2.090.032.12
plotTSNE0.670.050.72
plotTopHVG0.420.000.42
plotUMAP6.490.086.53
readSingleCellMatrix0.000.010.02
reportCellQC0.170.020.19
reportDropletQC0.000.030.03
reportQCTool0.190.020.20
retrieveSCEIndex0.010.030.05
runBBKNN000
runBarcodeRankDrops0.410.050.45
runBcds1.830.061.53
runCellQC0.150.020.17
runComBatSeq0.600.000.64
runCxds0.590.030.62
runCxdsBcdsHybrid2.000.081.74
runDEAnalysis0.670.010.69
runDecontX6.800.006.79
runDimReduce0.440.040.47
runDoubletFinder18.95 0.0019.00
runDropletQC0.030.000.03
runEmptyDrops10.85 0.0410.89
runEnrichR0.200.000.75
runFastMNN1.610.081.80
runFeatureSelection0.190.000.19
runFindMarker3.040.133.17
runGSVA0.610.060.67
runHarmony0.030.000.03
runKMeans0.380.010.39
runLimmaBC0.080.000.08
runMNNCorrect0.530.000.53
runModelGeneVar0.420.010.44
runNormalization0.640.020.67
runPerCellQC0.450.050.50
runSCANORAMA000
runSCMerge000
runScDblFinder21.43 0.3721.81
runScranSNN0.700.050.75
runScrublet0.050.000.05
runSeuratFindClusters0.060.000.06
runSeuratFindHVG0.540.010.56
runSeuratHeatmap0.020.020.03
runSeuratICA0.020.030.05
runSeuratJackStraw0.040.000.05
runSeuratNormalizeData0.020.020.03
runSeuratPCA0.030.010.05
runSeuratSCTransform3.300.033.34
runSeuratScaleData0.030.020.05
runSeuratUMAP0.010.020.03
runSingleR0.030.010.04
runSoupX0.190.020.21
runTSCAN1.280.061.34
runTSCANClusterDEAnalysis1.490.031.52
runTSCANDEG1.390.021.40
runTSNE0.780.010.80
runUMAP6.610.086.69
runVAM0.560.020.58
runZINBWaVE0.020.000.01
sampleSummaryStats0.290.000.30
scaterCPM0.110.000.11
scaterPCA0.410.000.40
scaterlogNormCounts0.220.000.22
sce0.010.030.05
sctkListGeneSetCollections0.080.010.09
sctkPythonInstallConda000
sctkPythonInstallVirtualEnv000
selectSCTKConda000
selectSCTKVirtualEnvironment000
setRowNames0.080.020.09
setSCTKDisplayRow0.480.030.52
singleCellTK000
subDiffEx0.470.030.50
subsetSCECols0.210.000.20
subsetSCERows0.420.050.47
summarizeSCE0.060.000.06
trimCounts0.220.010.24