Back to Multiple platform build/check report for BioC 3.17:   simplified   long
ABC[D]EFGHIJKLMNOPQRSTUVWXYZ

This page was generated on 2023-06-02 11:06:49 -0400 (Fri, 02 Jun 2023).

HostnameOSArch (*)R versionInstalled pkgs
nebbiolo1Linux (Ubuntu 22.04.2 LTS)x86_644.3.0 RC (2023-04-13 r84269) -- "Already Tomorrow" 4618
palomino3Windows Server 2022 Datacenterx644.3.0 RC (2023-04-13 r84269 ucrt) -- "Already Tomorrow" 4369
merida1macOS 12.6.4 Montereyx86_644.3.0 RC (2023-04-13 r84257) -- "Already Tomorrow" 4327
Click on any hostname to see more info about the system (e.g. compilers)      (*) as reported by 'uname -p', except on Windows and Mac OS X

CHECK results for DIAlignR on merida1


To the developers/maintainers of the DIAlignR package:
- Allow up to 24 hours (and sometimes 48 hours) for your latest push to git@git.bioconductor.org:packages/DIAlignR.git to reflect on this report. See Troubleshooting Build Report for more information.

- Use the following Renviron settings to reproduce errors and warnings.

Note: If "R CMD check" recently failed on the Linux builder over a missing dependency, add the missing dependency to "Suggests" in your DESCRIPTION file. See the Renviron.bioc for details.

raw results

Package 548/2229HostnameOS / ArchINSTALLBUILDCHECKBUILD BIN
DIAlignR 2.8.0  (landing page)
Shubham Gupta
Snapshot Date: 2023-06-01 14:00:08 -0400 (Thu, 01 Jun 2023)
git_url: https://git.bioconductor.org/packages/DIAlignR
git_branch: RELEASE_3_17
git_last_commit: c69bd46
git_last_commit_date: 2023-04-25 11:15:06 -0400 (Tue, 25 Apr 2023)
nebbiolo1Linux (Ubuntu 22.04.2 LTS) / x86_64  OK    OK    OK  UNNEEDED, same version is already published
palomino3Windows Server 2022 Datacenter / x64  OK    OK    OK    OK  UNNEEDED, same version is already published
merida1macOS 12.6.4 Monterey / x86_64  OK    OK    OK    OK  UNNEEDED, same version is already published

Summary

Package: DIAlignR
Version: 2.8.0
Command: /Library/Frameworks/R.framework/Resources/bin/R CMD check --install=check:DIAlignR.install-out.txt --library=/Library/Frameworks/R.framework/Resources/library --no-vignettes --timings DIAlignR_2.8.0.tar.gz
StartedAt: 2023-06-02 01:11:59 -0400 (Fri, 02 Jun 2023)
EndedAt: 2023-06-02 01:19:49 -0400 (Fri, 02 Jun 2023)
EllapsedTime: 470.0 seconds
RetCode: 0
Status:   OK  
CheckDir: DIAlignR.Rcheck
Warnings: 0

Command output

##############################################################################
##############################################################################
###
### Running command:
###
###   /Library/Frameworks/R.framework/Resources/bin/R CMD check --install=check:DIAlignR.install-out.txt --library=/Library/Frameworks/R.framework/Resources/library --no-vignettes --timings DIAlignR_2.8.0.tar.gz
###
##############################################################################
##############################################################################


* using log directory ‘/Users/biocbuild/bbs-3.17-bioc/meat/DIAlignR.Rcheck’
* using R version 4.3.0 RC (2023-04-13 r84257)
* using platform: x86_64-apple-darwin20 (64-bit)
* R was compiled by
    Apple clang version 14.0.3 (clang-1403.0.22.14.1)
    GNU Fortran (GCC) 12.2.0
* running under: macOS Monterey 12.6.4
* using session charset: UTF-8
* using option ‘--no-vignettes’
* checking for file ‘DIAlignR/DESCRIPTION’ ... OK
* checking extension type ... Package
* this is package ‘DIAlignR’ version ‘2.8.0’
* package encoding: UTF-8
* checking package namespace information ... OK
* checking package dependencies ... OK
* checking if this is a source package ... OK
* checking if there is a namespace ... OK
* checking for hidden files and directories ... OK
* checking for portable file names ... OK
* checking for sufficient/correct file permissions ... OK
* checking whether package ‘DIAlignR’ can be installed ... OK
* used C++ compiler: ‘Apple clang version 14.0.0 (clang-1400.0.29.202)’
* used SDK: ‘MacOSX11.3.sdk’
* checking C++ specification ... NOTE
  Specified C++14: please drop specification unless essential
* checking installed package size ... NOTE
  installed size is 11.5Mb
  sub-directories of 1Mb or more:
    extdata   4.0Mb
    metabo    4.1Mb
    ptms      1.5Mb
* checking package directory ... OK
* checking DESCRIPTION meta-information ... OK
* checking top-level files ... OK
* checking for left-over files ... OK
* checking index information ... OK
* checking package subdirectories ... OK
* checking R files for non-ASCII characters ... OK
* checking R files for syntax errors ... OK
* checking whether the package can be loaded ... OK
* checking whether the package can be loaded with stated dependencies ... OK
* checking whether the package can be unloaded cleanly ... OK
* checking whether the namespace can be loaded with stated dependencies ... OK
* checking whether the namespace can be unloaded cleanly ... OK
* checking dependencies in R code ... OK
* checking S3 generic/method consistency ... OK
* checking replacement functions ... OK
* checking foreign function calls ... OK
* checking R code for possible problems ... NOTE
alignTargetedRuns: no visible binding for global variable ‘peptide_id’
alignTargetedRuns : <anonymous>: no visible global function definition
  for ‘.’
alignTargetedRuns: no visible binding for global variable ‘intensity’
alignToRoot4: no visible binding for global variable ‘trees’
alignToRoot4: no visible binding for global variable ‘precursors’
alignToRoot4: no visible binding for global variable ‘intensity’
childXICs: possible error in cummax(v = cummax(ifelse(is.na(x), -Inf,
  x))): unused argument (v = cummax(ifelse(is.na(x), -Inf, x)))
distMat.rSqrd : <anonymous> : <anonymous>: no visible binding for
  global variable ‘RT.ref’
distMat.rSqrd : <anonymous> : <anonymous>: no visible binding for
  global variable ‘RT.eXp’
fetchPrecursorsInfo: no visible binding for global variable
  ‘transition_id’
fetchPrecursorsInfo: no visible global function definition for ‘.’
fetchPrecursorsInfo: no visible binding for global variable
  ‘transition_group_id’
fetchTransitionsFromRun: no visible binding for global variable
  ‘intensity’
fetchTransitionsFromRun: no visible global function definition for ‘.’
fetchTransitionsFromRun: no visible binding for global variable
  ‘transition_group_id’
fetchTransitionsFromRun: no visible binding for global variable
  ‘peak_group_rank’
fetchTransitionsFromRun: no visible global function definition for
  ‘head’
getNativeIDs: no visible binding for global variable ‘peptide_id’
getPeptideScores: no visible binding for global variable ‘col2’
getPeptideScores: no visible binding for global variable ‘run’
getQuery: no visible binding for global variable
  ‘identifying.transitionPEPfilter’
getRTdf: no visible binding for global variable ‘peak_group_rank’
getRTdf: no visible binding for global variable ‘m_score’
getRTdf: no visible global function definition for ‘.’
getRTdf: no visible binding for global variable ‘transition_group_id’
getRTdf: no visible binding for global variable ‘RT’
getRefRun : <anonymous>: no visible binding for global variable
  ‘pvalue’
ipfReassignFDR: no visible binding for global variable ‘ref_run’
ipfReassignFDR: no visible binding for global variable ‘run’
ipfReassignFDR: no visible global function definition for ‘.’
ipfReassignFDR: no visible binding for global variable ‘i.to’
ipfReassignFDR: no visible binding for global variable ‘m_score_new’
ipfReassignFDR: no visible binding for global variable ‘ms2_m_score’
ipfReassignFDR: no visible binding for global variable ‘m_score’
mstAlignRuns: no visible binding for global variable ‘ropenms’
mstAlignRuns: no visible binding for global variable ‘peptide_id’
mstAlignRuns : <anonymous>: no visible global function definition for
  ‘.’
mstAlignRuns: no visible binding for global variable ‘intensity’
mstScript1: no visible binding for global variable ‘ropenms’
mstScript2: no visible binding for global variable ‘fileInfo’
mstScript2: no visible binding for global variable ‘peptide_id’
mstScript2: no visible binding for global variable ‘features’
mstScript2 : <anonymous>: no visible global function definition for ‘.’
mstScript2 : <anonymous>: no visible binding for global variable
  ‘features’
mstScript2: no visible binding for global variable ‘intensity’
populateReferenceExperimentFeatureAlignmentMap: no visible binding for
  global variable ‘run’
populateReferenceExperimentFeatureAlignmentMap: no visible binding for
  global variable ‘transition_group_id’
populateReferenceExperimentFeatureAlignmentMap: no visible binding for
  global variable ‘feature_id’
progAlignRuns: no visible binding for global variable ‘peptide_id’
progAlignRuns : <anonymous>: no visible global function definition for
  ‘.’
progAlignRuns: no visible binding for global variable ‘intensity’
progComb3: no visible binding for global variable ‘precursors’
progComb3: no visible binding for global variable ‘ropenms’
progSplit2: no visible binding for global variable ‘trees’
progSplit2: no visible binding for global variable ‘scoreFile’
progSplit2: no visible binding for global variable ‘precursors’
progSplit2 : <anonymous>: no visible global function definition for ‘.’
progSplit2: no visible binding for global variable ‘ropenms’
progSplit4: no visible binding for global variable ‘precursors’
progSplit4 : <anonymous>: no visible global function definition for ‘.’
progSplit4: no visible binding for global variable ‘intensity’
progTree1: no visible binding for global variable ‘ropenms’
progTree1: no visible binding for global variable ‘peptide_id’
reIntensity: no visible binding for global variable ‘run’
reIntensity: no visible binding for global variable ‘alignment_rank’
recalculateIntensity: no visible binding for global variable
  ‘peptide_id’
recalculateIntensity: no visible binding for global variable
  ‘chromatogramIndex’
script2: no visible binding for global variable ‘fileInfo’
script2: no visible binding for global variable ‘peptide_id’
script2 : <anonymous>: no visible global function definition for ‘.’
script2: no visible binding for global variable ‘features’
script2: no visible binding for global variable ‘globalFits’
script2: no visible binding for global variable ‘RSE’
script2: no visible binding for global variable ‘intensity’
setRootRank : <anonymous>: no visible global function definition for
  ‘.’
writeOutFeatureAlignmentMap: no visible binding for global variable
  ‘reference_feature_id’
writeOutFeatureAlignmentMap: no visible binding for global variable
  ‘experiment_feature_id’
writeOutFeatureAlignmentMap: no visible binding for global variable
  ‘ALIGNMENT_GROUP_ID’
writeOutFeatureAlignmentMap: no visible binding for global variable
  ‘REFERENCE’
writeOutFeatureAlignmentMap: no visible global function definition for
  ‘.’
writeOutFeatureAlignmentMap: no visible binding for global variable
  ‘i.to’
writeTables: no visible binding for global variable ‘peptide_id’
writeTables: no visible binding for global variable ‘run’
writeTables: no visible binding for global variable ‘precursor’
Undefined global functions or variables:
  . ALIGNMENT_GROUP_ID REFERENCE RSE RT RT.eXp RT.ref alignment_rank
  chromatogramIndex col2 experiment_feature_id feature_id features
  fileInfo globalFits head i.to identifying.transitionPEPfilter
  intensity m_score m_score_new ms2_m_score peak_group_rank peptide_id
  precursor precursors pvalue ref_run reference_feature_id ropenms run
  scoreFile transition_group_id transition_id trees
Consider adding
  importFrom("datasets", "trees")
  importFrom("utils", "head")
to your NAMESPACE file.
* checking Rd files ... OK
* checking Rd metadata ... OK
* checking Rd cross-references ... OK
* checking for missing documentation entries ... OK
* checking for code/documentation mismatches ... OK
* checking Rd \usage sections ... OK
* checking Rd contents ... OK
* checking for unstated dependencies in examples ... OK
* checking contents of ‘data’ directory ... OK
* checking data for non-ASCII characters ... OK
* checking data for ASCII and uncompressed saves ... OK
* checking line endings in C/C++/Fortran sources/headers ... OK
* checking compiled code ... NOTE
Note: information on .o files is not available
File ‘/Library/Frameworks/R.framework/Versions/4.3-x86_64/Resources/library/DIAlignR/libs/DIAlignR.so’:
  Found ‘__ZNSt3__14coutE’, possibly from ‘std::cout’ (C++)

Compiled code should not call entry points which might terminate R nor
write to stdout/stderr instead of to the console, nor use Fortran I/O
nor system RNGs nor [v]sprintf. The detected symbols are linked into
the code but might come from libraries and not actually be called.

See ‘Writing portable packages’ in the ‘Writing R Extensions’ manual.
* checking files in ‘vignettes’ ... OK
* checking examples ... OK
Examples with CPU (user + system) or elapsed time > 5s
                    user system elapsed
alignTargetedRuns 19.142 20.600  14.576
script2            5.516  1.900   7.763
mstScript2         4.852  0.847   6.861
mstAlignRuns       4.498  0.088   5.896
alignToMaster      4.003  0.123   5.451
* checking for unstated dependencies in ‘tests’ ... OK
* checking tests ...
  Running ‘testthat.R’
 OK
* checking for unstated dependencies in vignettes ... OK
* checking package vignettes in ‘inst/doc’ ... OK
* checking running R code from vignettes ... SKIPPED
* checking re-building of vignette outputs ... SKIPPED
* checking PDF version of manual ... OK
* DONE

Status: 4 NOTEs
See
  ‘/Users/biocbuild/bbs-3.17-bioc/meat/DIAlignR.Rcheck/00check.log’
for details.



Installation output

DIAlignR.Rcheck/00install.out

##############################################################################
##############################################################################
###
### Running command:
###
###   /Library/Frameworks/R.framework/Resources/bin/R CMD INSTALL DIAlignR
###
##############################################################################
##############################################################################


* installing to library ‘/Library/Frameworks/R.framework/Versions/4.3-x86_64/Resources/library’
* installing *source* package ‘DIAlignR’ ...
** using staged installation
** libs
using C++ compiler: ‘Apple clang version 14.0.0 (clang-1400.0.29.202)’
using C++14
using SDK: ‘MacOSX11.3.sdk’
clang++ -arch x86_64 -std=gnu++14 -I"/Library/Frameworks/R.framework/Resources/include" -DNDEBUG  -I'/Library/Frameworks/R.framework/Versions/4.3-x86_64/Resources/library/Rcpp/include' -I'/Library/Frameworks/R.framework/Versions/4.3-x86_64/Resources/library/RcppEigen/include' -I/opt/R/x86_64/include    -fPIC  -falign-functions=64 -Wall -g -O2  -c ChromatogramPeak.cpp -o ChromatogramPeak.o
clang++ -arch x86_64 -std=gnu++14 -I"/Library/Frameworks/R.framework/Resources/include" -DNDEBUG  -I'/Library/Frameworks/R.framework/Versions/4.3-x86_64/Resources/library/Rcpp/include' -I'/Library/Frameworks/R.framework/Versions/4.3-x86_64/Resources/library/RcppEigen/include' -I/opt/R/x86_64/include    -fPIC  -falign-functions=64 -Wall -g -O2  -c DPosition.cpp -o DPosition.o
clang++ -arch x86_64 -std=gnu++14 -I"/Library/Frameworks/R.framework/Resources/include" -DNDEBUG  -I'/Library/Frameworks/R.framework/Versions/4.3-x86_64/Resources/library/Rcpp/include' -I'/Library/Frameworks/R.framework/Versions/4.3-x86_64/Resources/library/RcppEigen/include' -I/opt/R/x86_64/include    -fPIC  -falign-functions=64 -Wall -g -O2  -c MSChromatogram.cpp -o MSChromatogram.o
clang++ -arch x86_64 -std=gnu++14 -I"/Library/Frameworks/R.framework/Resources/include" -DNDEBUG  -I'/Library/Frameworks/R.framework/Versions/4.3-x86_64/Resources/library/Rcpp/include' -I'/Library/Frameworks/R.framework/Versions/4.3-x86_64/Resources/library/RcppEigen/include' -I/opt/R/x86_64/include    -fPIC  -falign-functions=64 -Wall -g -O2  -c PeakIntegrator.cpp -o PeakIntegrator.o
clang++ -arch x86_64 -std=gnu++14 -I"/Library/Frameworks/R.framework/Resources/include" -DNDEBUG  -I'/Library/Frameworks/R.framework/Versions/4.3-x86_64/Resources/library/Rcpp/include' -I'/Library/Frameworks/R.framework/Versions/4.3-x86_64/Resources/library/RcppEigen/include' -I/opt/R/x86_64/include    -fPIC  -falign-functions=64 -Wall -g -O2  -c RcppExports.cpp -o RcppExports.o
In file included from RcppExports.cpp:4:
In file included from /Library/Frameworks/R.framework/Versions/4.3-x86_64/Resources/library/RcppEigen/include/RcppEigen.h:25:
In file included from /Library/Frameworks/R.framework/Versions/4.3-x86_64/Resources/library/RcppEigen/include/RcppEigenForward.h:30:
In file included from /Library/Frameworks/R.framework/Versions/4.3-x86_64/Resources/library/RcppEigen/include/Eigen/Dense:1:
In file included from /Library/Frameworks/R.framework/Versions/4.3-x86_64/Resources/library/RcppEigen/include/Eigen/Core:540:
/Library/Frameworks/R.framework/Versions/4.3-x86_64/Resources/library/RcppEigen/include/Eigen/src/Core/util/ReenableStupidWarnings.h:14:30: warning: pragma diagnostic pop could not pop, no matching push [-Wunknown-pragmas]
    #pragma clang diagnostic pop
                             ^
In file included from RcppExports.cpp:4:
In file included from /Library/Frameworks/R.framework/Versions/4.3-x86_64/Resources/library/RcppEigen/include/RcppEigen.h:25:
In file included from /Library/Frameworks/R.framework/Versions/4.3-x86_64/Resources/library/RcppEigen/include/RcppEigenForward.h:30:
In file included from /Library/Frameworks/R.framework/Versions/4.3-x86_64/Resources/library/RcppEigen/include/Eigen/Dense:2:
In file included from /Library/Frameworks/R.framework/Versions/4.3-x86_64/Resources/library/RcppEigen/include/Eigen/LU:47:
/Library/Frameworks/R.framework/Versions/4.3-x86_64/Resources/library/RcppEigen/include/Eigen/src/Core/util/ReenableStupidWarnings.h:14:30: warning: pragma diagnostic pop could not pop, no matching push [-Wunknown-pragmas]
    #pragma clang diagnostic pop
                             ^
In file included from RcppExports.cpp:4:
In file included from /Library/Frameworks/R.framework/Versions/4.3-x86_64/Resources/library/RcppEigen/include/RcppEigen.h:25:
In file included from /Library/Frameworks/R.framework/Versions/4.3-x86_64/Resources/library/RcppEigen/include/RcppEigenForward.h:30:
In file included from /Library/Frameworks/R.framework/Versions/4.3-x86_64/Resources/library/RcppEigen/include/Eigen/Dense:3:
In file included from /Library/Frameworks/R.framework/Versions/4.3-x86_64/Resources/library/RcppEigen/include/Eigen/Cholesky:12:
In file included from /Library/Frameworks/R.framework/Versions/4.3-x86_64/Resources/library/RcppEigen/include/Eigen/Jacobi:29:
/Library/Frameworks/R.framework/Versions/4.3-x86_64/Resources/library/RcppEigen/include/Eigen/src/Core/util/ReenableStupidWarnings.h:14:30: warning: pragma diagnostic pop could not pop, no matching push [-Wunknown-pragmas]
    #pragma clang diagnostic pop
                             ^
In file included from RcppExports.cpp:4:
In file included from /Library/Frameworks/R.framework/Versions/4.3-x86_64/Resources/library/RcppEigen/include/RcppEigen.h:25:
In file included from /Library/Frameworks/R.framework/Versions/4.3-x86_64/Resources/library/RcppEigen/include/RcppEigenForward.h:30:
In file included from /Library/Frameworks/R.framework/Versions/4.3-x86_64/Resources/library/RcppEigen/include/Eigen/Dense:3:
In file included from /Library/Frameworks/R.framework/Versions/4.3-x86_64/Resources/library/RcppEigen/include/Eigen/Cholesky:43:
/Library/Frameworks/R.framework/Versions/4.3-x86_64/Resources/library/RcppEigen/include/Eigen/src/Core/util/ReenableStupidWarnings.h:14:30: warning: pragma diagnostic pop could not pop, no matching push [-Wunknown-pragmas]
    #pragma clang diagnostic pop
                             ^
In file included from RcppExports.cpp:4:
In file included from /Library/Frameworks/R.framework/Versions/4.3-x86_64/Resources/library/RcppEigen/include/RcppEigen.h:25:
In file included from /Library/Frameworks/R.framework/Versions/4.3-x86_64/Resources/library/RcppEigen/include/RcppEigenForward.h:30:
In file included from /Library/Frameworks/R.framework/Versions/4.3-x86_64/Resources/library/RcppEigen/include/Eigen/Dense:4:
In file included from /Library/Frameworks/R.framework/Versions/4.3-x86_64/Resources/library/RcppEigen/include/Eigen/QR:15:
In file included from /Library/Frameworks/R.framework/Versions/4.3-x86_64/Resources/library/RcppEigen/include/Eigen/Householder:27:
/Library/Frameworks/R.framework/Versions/4.3-x86_64/Resources/library/RcppEigen/include/Eigen/src/Core/util/ReenableStupidWarnings.h:14:30: warning: pragma diagnostic pop could not pop, no matching push [-Wunknown-pragmas]
    #pragma clang diagnostic pop
                             ^
In file included from RcppExports.cpp:4:
In file included from /Library/Frameworks/R.framework/Versions/4.3-x86_64/Resources/library/RcppEigen/include/RcppEigen.h:25:
In file included from /Library/Frameworks/R.framework/Versions/4.3-x86_64/Resources/library/RcppEigen/include/RcppEigenForward.h:30:
In file included from /Library/Frameworks/R.framework/Versions/4.3-x86_64/Resources/library/RcppEigen/include/Eigen/Dense:4:
In file included from /Library/Frameworks/R.framework/Versions/4.3-x86_64/Resources/library/RcppEigen/include/Eigen/QR:48:
/Library/Frameworks/R.framework/Versions/4.3-x86_64/Resources/library/RcppEigen/include/Eigen/src/Core/util/ReenableStupidWarnings.h:14:30: warning: pragma diagnostic pop could not pop, no matching push [-Wunknown-pragmas]
    #pragma clang diagnostic pop
                             ^
In file included from RcppExports.cpp:4:
In file included from /Library/Frameworks/R.framework/Versions/4.3-x86_64/Resources/library/RcppEigen/include/RcppEigen.h:25:
In file included from /Library/Frameworks/R.framework/Versions/4.3-x86_64/Resources/library/RcppEigen/include/RcppEigenForward.h:30:
In file included from /Library/Frameworks/R.framework/Versions/4.3-x86_64/Resources/library/RcppEigen/include/Eigen/Dense:5:
In file included from /Library/Frameworks/R.framework/Versions/4.3-x86_64/Resources/library/RcppEigen/include/Eigen/SVD:48:
/Library/Frameworks/R.framework/Versions/4.3-x86_64/Resources/library/RcppEigen/include/Eigen/src/Core/util/ReenableStupidWarnings.h:14:30: warning: pragma diagnostic pop could not pop, no matching push [-Wunknown-pragmas]
    #pragma clang diagnostic pop
                             ^
In file included from RcppExports.cpp:4:
In file included from /Library/Frameworks/R.framework/Versions/4.3-x86_64/Resources/library/RcppEigen/include/RcppEigen.h:25:
In file included from /Library/Frameworks/R.framework/Versions/4.3-x86_64/Resources/library/RcppEigen/include/RcppEigenForward.h:30:
In file included from /Library/Frameworks/R.framework/Versions/4.3-x86_64/Resources/library/RcppEigen/include/Eigen/Dense:6:
In file included from /Library/Frameworks/R.framework/Versions/4.3-x86_64/Resources/library/RcppEigen/include/Eigen/Geometry:58:
/Library/Frameworks/R.framework/Versions/4.3-x86_64/Resources/library/RcppEigen/include/Eigen/src/Core/util/ReenableStupidWarnings.h:14:30: warning: pragma diagnostic pop could not pop, no matching push [-Wunknown-pragmas]
    #pragma clang diagnostic pop
                             ^
In file included from RcppExports.cpp:4:
In file included from /Library/Frameworks/R.framework/Versions/4.3-x86_64/Resources/library/RcppEigen/include/RcppEigen.h:25:
In file included from /Library/Frameworks/R.framework/Versions/4.3-x86_64/Resources/library/RcppEigen/include/RcppEigenForward.h:30:
In file included from /Library/Frameworks/R.framework/Versions/4.3-x86_64/Resources/library/RcppEigen/include/Eigen/Dense:7:
In file included from /Library/Frameworks/R.framework/Versions/4.3-x86_64/Resources/library/RcppEigen/include/Eigen/Eigenvalues:58:
/Library/Frameworks/R.framework/Versions/4.3-x86_64/Resources/library/RcppEigen/include/Eigen/src/Core/util/ReenableStupidWarnings.h:14:30: warning: pragma diagnostic pop could not pop, no matching push [-Wunknown-pragmas]
    #pragma clang diagnostic pop
                             ^
In file included from RcppExports.cpp:4:
In file included from /Library/Frameworks/R.framework/Versions/4.3-x86_64/Resources/library/RcppEigen/include/RcppEigen.h:25:
In file included from /Library/Frameworks/R.framework/Versions/4.3-x86_64/Resources/library/RcppEigen/include/RcppEigenForward.h:31:
In file included from /Library/Frameworks/R.framework/Versions/4.3-x86_64/Resources/library/RcppEigen/include/Eigen/Sparse:26:
In file included from /Library/Frameworks/R.framework/Versions/4.3-x86_64/Resources/library/RcppEigen/include/Eigen/SparseCore:66:
/Library/Frameworks/R.framework/Versions/4.3-x86_64/Resources/library/RcppEigen/include/Eigen/src/Core/util/ReenableStupidWarnings.h:14:30: warning: pragma diagnostic pop could not pop, no matching push [-Wunknown-pragmas]
    #pragma clang diagnostic pop
                             ^
In file included from RcppExports.cpp:4:
In file included from /Library/Frameworks/R.framework/Versions/4.3-x86_64/Resources/library/RcppEigen/include/RcppEigen.h:25:
In file included from /Library/Frameworks/R.framework/Versions/4.3-x86_64/Resources/library/RcppEigen/include/RcppEigenForward.h:31:
In file included from /Library/Frameworks/R.framework/Versions/4.3-x86_64/Resources/library/RcppEigen/include/Eigen/Sparse:27:
In file included from /Library/Frameworks/R.framework/Versions/4.3-x86_64/Resources/library/RcppEigen/include/Eigen/OrderingMethods:71:
/Library/Frameworks/R.framework/Versions/4.3-x86_64/Resources/library/RcppEigen/include/Eigen/src/Core/util/ReenableStupidWarnings.h:14:30: warning: pragma diagnostic pop could not pop, no matching push [-Wunknown-pragmas]
    #pragma clang diagnostic pop
                             ^
In file included from RcppExports.cpp:4:
In file included from /Library/Frameworks/R.framework/Versions/4.3-x86_64/Resources/library/RcppEigen/include/RcppEigen.h:25:
In file included from /Library/Frameworks/R.framework/Versions/4.3-x86_64/Resources/library/RcppEigen/include/RcppEigenForward.h:31:
In file included from /Library/Frameworks/R.framework/Versions/4.3-x86_64/Resources/library/RcppEigen/include/Eigen/Sparse:29:
In file included from /Library/Frameworks/R.framework/Versions/4.3-x86_64/Resources/library/RcppEigen/include/Eigen/SparseCholesky:43:
/Library/Frameworks/R.framework/Versions/4.3-x86_64/Resources/library/RcppEigen/include/Eigen/src/Core/util/ReenableStupidWarnings.h:14:30: warning: pragma diagnostic pop could not pop, no matching push [-Wunknown-pragmas]
    #pragma clang diagnostic pop
                             ^
In file included from RcppExports.cpp:4:
In file included from /Library/Frameworks/R.framework/Versions/4.3-x86_64/Resources/library/RcppEigen/include/RcppEigen.h:25:
In file included from /Library/Frameworks/R.framework/Versions/4.3-x86_64/Resources/library/RcppEigen/include/RcppEigenForward.h:31:
In file included from /Library/Frameworks/R.framework/Versions/4.3-x86_64/Resources/library/RcppEigen/include/Eigen/Sparse:32:
In file included from /Library/Frameworks/R.framework/Versions/4.3-x86_64/Resources/library/RcppEigen/include/Eigen/SparseQR:34:
/Library/Frameworks/R.framework/Versions/4.3-x86_64/Resources/library/RcppEigen/include/Eigen/src/Core/util/ReenableStupidWarnings.h:14:30: warning: pragma diagnostic pop could not pop, no matching push [-Wunknown-pragmas]
    #pragma clang diagnostic pop
                             ^
In file included from RcppExports.cpp:4:
In file included from /Library/Frameworks/R.framework/Versions/4.3-x86_64/Resources/library/RcppEigen/include/RcppEigen.h:25:
In file included from /Library/Frameworks/R.framework/Versions/4.3-x86_64/Resources/library/RcppEigen/include/RcppEigenForward.h:31:
In file included from /Library/Frameworks/R.framework/Versions/4.3-x86_64/Resources/library/RcppEigen/include/Eigen/Sparse:33:
In file included from /Library/Frameworks/R.framework/Versions/4.3-x86_64/Resources/library/RcppEigen/include/Eigen/IterativeLinearSolvers:46:
/Library/Frameworks/R.framework/Versions/4.3-x86_64/Resources/library/RcppEigen/include/Eigen/src/Core/util/ReenableStupidWarnings.h:14:30: warning: pragma diagnostic pop could not pop, no matching push [-Wunknown-pragmas]
    #pragma clang diagnostic pop
                             ^
In file included from RcppExports.cpp:4:
In file included from /Library/Frameworks/R.framework/Versions/4.3-x86_64/Resources/library/RcppEigen/include/RcppEigen.h:25:
In file included from /Library/Frameworks/R.framework/Versions/4.3-x86_64/Resources/library/RcppEigen/include/RcppEigenForward.h:32:
In file included from /Library/Frameworks/R.framework/Versions/4.3-x86_64/Resources/library/RcppEigen/include/Eigen/CholmodSupport:45:
/Library/Frameworks/R.framework/Versions/4.3-x86_64/Resources/library/RcppEigen/include/Eigen/src/Core/util/ReenableStupidWarnings.h:14:30: warning: pragma diagnostic pop could not pop, no matching push [-Wunknown-pragmas]
    #pragma clang diagnostic pop
                             ^
In file included from RcppExports.cpp:4:
In file included from /Library/Frameworks/R.framework/Versions/4.3-x86_64/Resources/library/RcppEigen/include/RcppEigen.h:25:
In file included from /Library/Frameworks/R.framework/Versions/4.3-x86_64/Resources/library/RcppEigen/include/RcppEigenForward.h:35:
In file included from /Library/Frameworks/R.framework/Versions/4.3-x86_64/Resources/library/RcppEigen/include/unsupported/Eigen/KroneckerProduct:34:
/Library/Frameworks/R.framework/Versions/4.3-x86_64/Resources/library/RcppEigen/include/unsupported/Eigen/../../Eigen/src/Core/util/ReenableStupidWarnings.h:14:30: warning: pragma diagnostic pop could not pop, no matching push [-Wunknown-pragmas]
    #pragma clang diagnostic pop
                             ^
In file included from RcppExports.cpp:4:
In file included from /Library/Frameworks/R.framework/Versions/4.3-x86_64/Resources/library/RcppEigen/include/RcppEigen.h:25:
In file included from /Library/Frameworks/R.framework/Versions/4.3-x86_64/Resources/library/RcppEigen/include/RcppEigenForward.h:39:
In file included from /Library/Frameworks/R.framework/Versions/4.3-x86_64/Resources/library/RcppEigen/include/unsupported/Eigen/Polynomials:135:
/Library/Frameworks/R.framework/Versions/4.3-x86_64/Resources/library/RcppEigen/include/unsupported/Eigen/../../Eigen/src/Core/util/ReenableStupidWarnings.h:14:30: warning: pragma diagnostic pop could not pop, no matching push [-Wunknown-pragmas]
    #pragma clang diagnostic pop
                             ^
In file included from RcppExports.cpp:4:
In file included from /Library/Frameworks/R.framework/Versions/4.3-x86_64/Resources/library/RcppEigen/include/RcppEigen.h:25:
In file included from /Library/Frameworks/R.framework/Versions/4.3-x86_64/Resources/library/RcppEigen/include/RcppEigenForward.h:40:
In file included from /Library/Frameworks/R.framework/Versions/4.3-x86_64/Resources/library/RcppEigen/include/unsupported/Eigen/SparseExtra:51:
/Library/Frameworks/R.framework/Versions/4.3-x86_64/Resources/library/RcppEigen/include/unsupported/Eigen/../../Eigen/src/Core/util/ReenableStupidWarnings.h:14:30: warning: pragma diagnostic pop could not pop, no matching push [-Wunknown-pragmas]
    #pragma clang diagnostic pop
                             ^
18 warnings generated.
clang++ -arch x86_64 -std=gnu++14 -I"/Library/Frameworks/R.framework/Resources/include" -DNDEBUG  -I'/Library/Frameworks/R.framework/Versions/4.3-x86_64/Resources/library/Rcpp/include' -I'/Library/Frameworks/R.framework/Versions/4.3-x86_64/Resources/library/RcppEigen/include' -I/opt/R/x86_64/include    -fPIC  -falign-functions=64 -Wall -g -O2  -c Rmain.cpp -o Rmain.o
In file included from Rmain.cpp:19:
./miscell.h:14:19: warning: unused function 'detect_end_na' [-Wunused-function]
static bool const detect_end_na(double a, double b);
                  ^
./miscell.h:16:19: warning: unused function 'detect_start_na' [-Wunused-function]
static bool const detect_start_na(double a, double b);
                  ^
./miscell.h:18:19: warning: unused function 'lessZero' [-Wunused-function]
static bool const lessZero(double a);
                  ^
3 warnings generated.
clang++ -arch x86_64 -std=gnu++14 -I"/Library/Frameworks/R.framework/Resources/include" -DNDEBUG  -I'/Library/Frameworks/R.framework/Versions/4.3-x86_64/Resources/library/Rcpp/include' -I'/Library/Frameworks/R.framework/Versions/4.3-x86_64/Resources/library/RcppEigen/include' -I/opt/R/x86_64/include    -fPIC  -falign-functions=64 -Wall -g -O2  -c SavitzkyGolayFilter.cpp -o SavitzkyGolayFilter.o
In file included from SavitzkyGolayFilter.cpp:1:
In file included from /Library/Frameworks/R.framework/Versions/4.3-x86_64/Resources/library/RcppEigen/include/RcppEigen.h:25:
In file included from /Library/Frameworks/R.framework/Versions/4.3-x86_64/Resources/library/RcppEigen/include/RcppEigenForward.h:30:
In file included from /Library/Frameworks/R.framework/Versions/4.3-x86_64/Resources/library/RcppEigen/include/Eigen/Dense:1:
In file included from /Library/Frameworks/R.framework/Versions/4.3-x86_64/Resources/library/RcppEigen/include/Eigen/Core:540:
/Library/Frameworks/R.framework/Versions/4.3-x86_64/Resources/library/RcppEigen/include/Eigen/src/Core/util/ReenableStupidWarnings.h:14:30: warning: pragma diagnostic pop could not pop, no matching push [-Wunknown-pragmas]
    #pragma clang diagnostic pop
                             ^
In file included from SavitzkyGolayFilter.cpp:1:
In file included from /Library/Frameworks/R.framework/Versions/4.3-x86_64/Resources/library/RcppEigen/include/RcppEigen.h:25:
In file included from /Library/Frameworks/R.framework/Versions/4.3-x86_64/Resources/library/RcppEigen/include/RcppEigenForward.h:30:
In file included from /Library/Frameworks/R.framework/Versions/4.3-x86_64/Resources/library/RcppEigen/include/Eigen/Dense:2:
In file included from /Library/Frameworks/R.framework/Versions/4.3-x86_64/Resources/library/RcppEigen/include/Eigen/LU:47:
/Library/Frameworks/R.framework/Versions/4.3-x86_64/Resources/library/RcppEigen/include/Eigen/src/Core/util/ReenableStupidWarnings.h:14:30: warning: pragma diagnostic pop could not pop, no matching push [-Wunknown-pragmas]
    #pragma clang diagnostic pop
                             ^
In file included from SavitzkyGolayFilter.cpp:1:
In file included from /Library/Frameworks/R.framework/Versions/4.3-x86_64/Resources/library/RcppEigen/include/RcppEigen.h:25:
In file included from /Library/Frameworks/R.framework/Versions/4.3-x86_64/Resources/library/RcppEigen/include/RcppEigenForward.h:30:
In file included from /Library/Frameworks/R.framework/Versions/4.3-x86_64/Resources/library/RcppEigen/include/Eigen/Dense:3:
In file included from /Library/Frameworks/R.framework/Versions/4.3-x86_64/Resources/library/RcppEigen/include/Eigen/Cholesky:12:
In file included from /Library/Frameworks/R.framework/Versions/4.3-x86_64/Resources/library/RcppEigen/include/Eigen/Jacobi:29:
/Library/Frameworks/R.framework/Versions/4.3-x86_64/Resources/library/RcppEigen/include/Eigen/src/Core/util/ReenableStupidWarnings.h:14:30: warning: pragma diagnostic pop could not pop, no matching push [-Wunknown-pragmas]
    #pragma clang diagnostic pop
                             ^
In file included from SavitzkyGolayFilter.cpp:1:
In file included from /Library/Frameworks/R.framework/Versions/4.3-x86_64/Resources/library/RcppEigen/include/RcppEigen.h:25:
In file included from /Library/Frameworks/R.framework/Versions/4.3-x86_64/Resources/library/RcppEigen/include/RcppEigenForward.h:30:
In file included from /Library/Frameworks/R.framework/Versions/4.3-x86_64/Resources/library/RcppEigen/include/Eigen/Dense:3:
In file included from /Library/Frameworks/R.framework/Versions/4.3-x86_64/Resources/library/RcppEigen/include/Eigen/Cholesky:43:
/Library/Frameworks/R.framework/Versions/4.3-x86_64/Resources/library/RcppEigen/include/Eigen/src/Core/util/ReenableStupidWarnings.h:14:30: warning: pragma diagnostic pop could not pop, no matching push [-Wunknown-pragmas]
    #pragma clang diagnostic pop
                             ^
In file included from SavitzkyGolayFilter.cpp:1:
In file included from /Library/Frameworks/R.framework/Versions/4.3-x86_64/Resources/library/RcppEigen/include/RcppEigen.h:25:
In file included from /Library/Frameworks/R.framework/Versions/4.3-x86_64/Resources/library/RcppEigen/include/RcppEigenForward.h:30:
In file included from /Library/Frameworks/R.framework/Versions/4.3-x86_64/Resources/library/RcppEigen/include/Eigen/Dense:4:
In file included from /Library/Frameworks/R.framework/Versions/4.3-x86_64/Resources/library/RcppEigen/include/Eigen/QR:15:
In file included from /Library/Frameworks/R.framework/Versions/4.3-x86_64/Resources/library/RcppEigen/include/Eigen/Householder:27:
/Library/Frameworks/R.framework/Versions/4.3-x86_64/Resources/library/RcppEigen/include/Eigen/src/Core/util/ReenableStupidWarnings.h:14:30: warning: pragma diagnostic pop could not pop, no matching push [-Wunknown-pragmas]
    #pragma clang diagnostic pop
                             ^
In file included from SavitzkyGolayFilter.cpp:1:
In file included from /Library/Frameworks/R.framework/Versions/4.3-x86_64/Resources/library/RcppEigen/include/RcppEigen.h:25:
In file included from /Library/Frameworks/R.framework/Versions/4.3-x86_64/Resources/library/RcppEigen/include/RcppEigenForward.h:30:
In file included from /Library/Frameworks/R.framework/Versions/4.3-x86_64/Resources/library/RcppEigen/include/Eigen/Dense:4:
In file included from /Library/Frameworks/R.framework/Versions/4.3-x86_64/Resources/library/RcppEigen/include/Eigen/QR:48:
/Library/Frameworks/R.framework/Versions/4.3-x86_64/Resources/library/RcppEigen/include/Eigen/src/Core/util/ReenableStupidWarnings.h:14:30: warning: pragma diagnostic pop could not pop, no matching push [-Wunknown-pragmas]
    #pragma clang diagnostic pop
                             ^
In file included from SavitzkyGolayFilter.cpp:1:
In file included from /Library/Frameworks/R.framework/Versions/4.3-x86_64/Resources/library/RcppEigen/include/RcppEigen.h:25:
In file included from /Library/Frameworks/R.framework/Versions/4.3-x86_64/Resources/library/RcppEigen/include/RcppEigenForward.h:30:
In file included from /Library/Frameworks/R.framework/Versions/4.3-x86_64/Resources/library/RcppEigen/include/Eigen/Dense:5:
In file included from /Library/Frameworks/R.framework/Versions/4.3-x86_64/Resources/library/RcppEigen/include/Eigen/SVD:48:
/Library/Frameworks/R.framework/Versions/4.3-x86_64/Resources/library/RcppEigen/include/Eigen/src/Core/util/ReenableStupidWarnings.h:14:30: warning: pragma diagnostic pop could not pop, no matching push [-Wunknown-pragmas]
    #pragma clang diagnostic pop
                             ^
In file included from SavitzkyGolayFilter.cpp:1:
In file included from /Library/Frameworks/R.framework/Versions/4.3-x86_64/Resources/library/RcppEigen/include/RcppEigen.h:25:
In file included from /Library/Frameworks/R.framework/Versions/4.3-x86_64/Resources/library/RcppEigen/include/RcppEigenForward.h:30:
In file included from /Library/Frameworks/R.framework/Versions/4.3-x86_64/Resources/library/RcppEigen/include/Eigen/Dense:6:
In file included from /Library/Frameworks/R.framework/Versions/4.3-x86_64/Resources/library/RcppEigen/include/Eigen/Geometry:58:
/Library/Frameworks/R.framework/Versions/4.3-x86_64/Resources/library/RcppEigen/include/Eigen/src/Core/util/ReenableStupidWarnings.h:14:30: warning: pragma diagnostic pop could not pop, no matching push [-Wunknown-pragmas]
    #pragma clang diagnostic pop
                             ^
In file included from SavitzkyGolayFilter.cpp:1:
In file included from /Library/Frameworks/R.framework/Versions/4.3-x86_64/Resources/library/RcppEigen/include/RcppEigen.h:25:
In file included from /Library/Frameworks/R.framework/Versions/4.3-x86_64/Resources/library/RcppEigen/include/RcppEigenForward.h:30:
In file included from /Library/Frameworks/R.framework/Versions/4.3-x86_64/Resources/library/RcppEigen/include/Eigen/Dense:7:
In file included from /Library/Frameworks/R.framework/Versions/4.3-x86_64/Resources/library/RcppEigen/include/Eigen/Eigenvalues:58:
/Library/Frameworks/R.framework/Versions/4.3-x86_64/Resources/library/RcppEigen/include/Eigen/src/Core/util/ReenableStupidWarnings.h:14:30: warning: pragma diagnostic pop could not pop, no matching push [-Wunknown-pragmas]
    #pragma clang diagnostic pop
                             ^
In file included from SavitzkyGolayFilter.cpp:1:
In file included from /Library/Frameworks/R.framework/Versions/4.3-x86_64/Resources/library/RcppEigen/include/RcppEigen.h:25:
In file included from /Library/Frameworks/R.framework/Versions/4.3-x86_64/Resources/library/RcppEigen/include/RcppEigenForward.h:31:
In file included from /Library/Frameworks/R.framework/Versions/4.3-x86_64/Resources/library/RcppEigen/include/Eigen/Sparse:26:
In file included from /Library/Frameworks/R.framework/Versions/4.3-x86_64/Resources/library/RcppEigen/include/Eigen/SparseCore:66:
/Library/Frameworks/R.framework/Versions/4.3-x86_64/Resources/library/RcppEigen/include/Eigen/src/Core/util/ReenableStupidWarnings.h:14:30: warning: pragma diagnostic pop could not pop, no matching push [-Wunknown-pragmas]
    #pragma clang diagnostic pop
                             ^
In file included from SavitzkyGolayFilter.cpp:1:
In file included from /Library/Frameworks/R.framework/Versions/4.3-x86_64/Resources/library/RcppEigen/include/RcppEigen.h:25:
In file included from /Library/Frameworks/R.framework/Versions/4.3-x86_64/Resources/library/RcppEigen/include/RcppEigenForward.h:31:
In file included from /Library/Frameworks/R.framework/Versions/4.3-x86_64/Resources/library/RcppEigen/include/Eigen/Sparse:27:
In file included from /Library/Frameworks/R.framework/Versions/4.3-x86_64/Resources/library/RcppEigen/include/Eigen/OrderingMethods:71:
/Library/Frameworks/R.framework/Versions/4.3-x86_64/Resources/library/RcppEigen/include/Eigen/src/Core/util/ReenableStupidWarnings.h:14:30: warning: pragma diagnostic pop could not pop, no matching push [-Wunknown-pragmas]
    #pragma clang diagnostic pop
                             ^
In file included from SavitzkyGolayFilter.cpp:1:
In file included from /Library/Frameworks/R.framework/Versions/4.3-x86_64/Resources/library/RcppEigen/include/RcppEigen.h:25:
In file included from /Library/Frameworks/R.framework/Versions/4.3-x86_64/Resources/library/RcppEigen/include/RcppEigenForward.h:31:
In file included from /Library/Frameworks/R.framework/Versions/4.3-x86_64/Resources/library/RcppEigen/include/Eigen/Sparse:29:
In file included from /Library/Frameworks/R.framework/Versions/4.3-x86_64/Resources/library/RcppEigen/include/Eigen/SparseCholesky:43:
/Library/Frameworks/R.framework/Versions/4.3-x86_64/Resources/library/RcppEigen/include/Eigen/src/Core/util/ReenableStupidWarnings.h:14:30: warning: pragma diagnostic pop could not pop, no matching push [-Wunknown-pragmas]
    #pragma clang diagnostic pop
                             ^
In file included from SavitzkyGolayFilter.cpp:1:
In file included from /Library/Frameworks/R.framework/Versions/4.3-x86_64/Resources/library/RcppEigen/include/RcppEigen.h:25:
In file included from /Library/Frameworks/R.framework/Versions/4.3-x86_64/Resources/library/RcppEigen/include/RcppEigenForward.h:31:
In file included from /Library/Frameworks/R.framework/Versions/4.3-x86_64/Resources/library/RcppEigen/include/Eigen/Sparse:32:
In file included from /Library/Frameworks/R.framework/Versions/4.3-x86_64/Resources/library/RcppEigen/include/Eigen/SparseQR:34:
/Library/Frameworks/R.framework/Versions/4.3-x86_64/Resources/library/RcppEigen/include/Eigen/src/Core/util/ReenableStupidWarnings.h:14:30: warning: pragma diagnostic pop could not pop, no matching push [-Wunknown-pragmas]
    #pragma clang diagnostic pop
                             ^
In file included from SavitzkyGolayFilter.cpp:1:
In file included from /Library/Frameworks/R.framework/Versions/4.3-x86_64/Resources/library/RcppEigen/include/RcppEigen.h:25:
In file included from /Library/Frameworks/R.framework/Versions/4.3-x86_64/Resources/library/RcppEigen/include/RcppEigenForward.h:31:
In file included from /Library/Frameworks/R.framework/Versions/4.3-x86_64/Resources/library/RcppEigen/include/Eigen/Sparse:33:
In file included from /Library/Frameworks/R.framework/Versions/4.3-x86_64/Resources/library/RcppEigen/include/Eigen/IterativeLinearSolvers:46:
/Library/Frameworks/R.framework/Versions/4.3-x86_64/Resources/library/RcppEigen/include/Eigen/src/Core/util/ReenableStupidWarnings.h:14:30: warning: pragma diagnostic pop could not pop, no matching push [-Wunknown-pragmas]
    #pragma clang diagnostic pop
                             ^
In file included from SavitzkyGolayFilter.cpp:1:
In file included from /Library/Frameworks/R.framework/Versions/4.3-x86_64/Resources/library/RcppEigen/include/RcppEigen.h:25:
In file included from /Library/Frameworks/R.framework/Versions/4.3-x86_64/Resources/library/RcppEigen/include/RcppEigenForward.h:32:
In file included from /Library/Frameworks/R.framework/Versions/4.3-x86_64/Resources/library/RcppEigen/include/Eigen/CholmodSupport:45:
/Library/Frameworks/R.framework/Versions/4.3-x86_64/Resources/library/RcppEigen/include/Eigen/src/Core/util/ReenableStupidWarnings.h:14:30: warning: pragma diagnostic pop could not pop, no matching push [-Wunknown-pragmas]
    #pragma clang diagnostic pop
                             ^
In file included from SavitzkyGolayFilter.cpp:1:
In file included from /Library/Frameworks/R.framework/Versions/4.3-x86_64/Resources/library/RcppEigen/include/RcppEigen.h:25:
In file included from /Library/Frameworks/R.framework/Versions/4.3-x86_64/Resources/library/RcppEigen/include/RcppEigenForward.h:35:
In file included from /Library/Frameworks/R.framework/Versions/4.3-x86_64/Resources/library/RcppEigen/include/unsupported/Eigen/KroneckerProduct:34:
/Library/Frameworks/R.framework/Versions/4.3-x86_64/Resources/library/RcppEigen/include/unsupported/Eigen/../../Eigen/src/Core/util/ReenableStupidWarnings.h:14:30: warning: pragma diagnostic pop could not pop, no matching push [-Wunknown-pragmas]
    #pragma clang diagnostic pop
                             ^
In file included from SavitzkyGolayFilter.cpp:1:
In file included from /Library/Frameworks/R.framework/Versions/4.3-x86_64/Resources/library/RcppEigen/include/RcppEigen.h:25:
In file included from /Library/Frameworks/R.framework/Versions/4.3-x86_64/Resources/library/RcppEigen/include/RcppEigenForward.h:39:
In file included from /Library/Frameworks/R.framework/Versions/4.3-x86_64/Resources/library/RcppEigen/include/unsupported/Eigen/Polynomials:135:
/Library/Frameworks/R.framework/Versions/4.3-x86_64/Resources/library/RcppEigen/include/unsupported/Eigen/../../Eigen/src/Core/util/ReenableStupidWarnings.h:14:30: warning: pragma diagnostic pop could not pop, no matching push [-Wunknown-pragmas]
    #pragma clang diagnostic pop
                             ^
In file included from SavitzkyGolayFilter.cpp:1:
In file included from /Library/Frameworks/R.framework/Versions/4.3-x86_64/Resources/library/RcppEigen/include/RcppEigen.h:25:
In file included from /Library/Frameworks/R.framework/Versions/4.3-x86_64/Resources/library/RcppEigen/include/RcppEigenForward.h:40:
In file included from /Library/Frameworks/R.framework/Versions/4.3-x86_64/Resources/library/RcppEigen/include/unsupported/Eigen/SparseExtra:51:
/Library/Frameworks/R.framework/Versions/4.3-x86_64/Resources/library/RcppEigen/include/unsupported/Eigen/../../Eigen/src/Core/util/ReenableStupidWarnings.h:14:30: warning: pragma diagnostic pop could not pop, no matching push [-Wunknown-pragmas]
    #pragma clang diagnostic pop
                             ^
18 warnings generated.
clang++ -arch x86_64 -std=gnu++14 -I"/Library/Frameworks/R.framework/Resources/include" -DNDEBUG  -I'/Library/Frameworks/R.framework/Versions/4.3-x86_64/Resources/library/Rcpp/include' -I'/Library/Frameworks/R.framework/Versions/4.3-x86_64/Resources/library/RcppEigen/include' -I/opt/R/x86_64/include    -fPIC  -falign-functions=64 -Wall -g -O2  -c affinealignment.cpp -o affinealignment.o
clang++ -arch x86_64 -std=gnu++14 -I"/Library/Frameworks/R.framework/Resources/include" -DNDEBUG  -I'/Library/Frameworks/R.framework/Versions/4.3-x86_64/Resources/library/Rcpp/include' -I'/Library/Frameworks/R.framework/Versions/4.3-x86_64/Resources/library/RcppEigen/include' -I/opt/R/x86_64/include    -fPIC  -falign-functions=64 -Wall -g -O2  -c affinealignobj.cpp -o affinealignobj.o
clang++ -arch x86_64 -std=gnu++14 -I"/Library/Frameworks/R.framework/Resources/include" -DNDEBUG  -I'/Library/Frameworks/R.framework/Versions/4.3-x86_64/Resources/library/Rcpp/include' -I'/Library/Frameworks/R.framework/Versions/4.3-x86_64/Resources/library/RcppEigen/include' -I/opt/R/x86_64/include    -fPIC  -falign-functions=64 -Wall -g -O2  -c alignment.cpp -o alignment.o
clang++ -arch x86_64 -std=gnu++14 -I"/Library/Frameworks/R.framework/Resources/include" -DNDEBUG  -I'/Library/Frameworks/R.framework/Versions/4.3-x86_64/Resources/library/Rcpp/include' -I'/Library/Frameworks/R.framework/Versions/4.3-x86_64/Resources/library/RcppEigen/include' -I/opt/R/x86_64/include    -fPIC  -falign-functions=64 -Wall -g -O2  -c chromSimMatrix.cpp -o chromSimMatrix.o
clang++ -arch x86_64 -std=gnu++14 -I"/Library/Frameworks/R.framework/Resources/include" -DNDEBUG  -I'/Library/Frameworks/R.framework/Versions/4.3-x86_64/Resources/library/Rcpp/include' -I'/Library/Frameworks/R.framework/Versions/4.3-x86_64/Resources/library/RcppEigen/include' -I/opt/R/x86_64/include    -fPIC  -falign-functions=64 -Wall -g -O2  -c constrainMat.cpp -o constrainMat.o
constrainMat.cpp:78:10: warning: unused variable 'mapped' [-Wunused-variable]
  double mapped = 0.0;
         ^
1 warning generated.
clang++ -arch x86_64 -std=gnu++14 -I"/Library/Frameworks/R.framework/Resources/include" -DNDEBUG  -I'/Library/Frameworks/R.framework/Versions/4.3-x86_64/Resources/library/Rcpp/include' -I'/Library/Frameworks/R.framework/Versions/4.3-x86_64/Resources/library/RcppEigen/include' -I/opt/R/x86_64/include    -fPIC  -falign-functions=64 -Wall -g -O2  -c gapPenalty.cpp -o gapPenalty.o
clang++ -arch x86_64 -std=gnu++14 -I"/Library/Frameworks/R.framework/Resources/include" -DNDEBUG  -I'/Library/Frameworks/R.framework/Versions/4.3-x86_64/Resources/library/Rcpp/include' -I'/Library/Frameworks/R.framework/Versions/4.3-x86_64/Resources/library/RcppEigen/include' -I/opt/R/x86_64/include    -fPIC  -falign-functions=64 -Wall -g -O2  -c integrateArea.cpp -o integrateArea.o
clang++ -arch x86_64 -std=gnu++14 -I"/Library/Frameworks/R.framework/Resources/include" -DNDEBUG  -I'/Library/Frameworks/R.framework/Versions/4.3-x86_64/Resources/library/Rcpp/include' -I'/Library/Frameworks/R.framework/Versions/4.3-x86_64/Resources/library/RcppEigen/include' -I/opt/R/x86_64/include    -fPIC  -falign-functions=64 -Wall -g -O2  -c interface.cpp -o interface.o
clang++ -arch x86_64 -std=gnu++14 -I"/Library/Frameworks/R.framework/Resources/include" -DNDEBUG  -I'/Library/Frameworks/R.framework/Versions/4.3-x86_64/Resources/library/Rcpp/include' -I'/Library/Frameworks/R.framework/Versions/4.3-x86_64/Resources/library/RcppEigen/include' -I/opt/R/x86_64/include    -fPIC  -falign-functions=64 -Wall -g -O2  -c miscell.cpp -o miscell.o
miscell.cpp:53:19: warning: unused function 'lessZero' [-Wunused-function]
static bool const lessZero(double a){
                  ^
1 warning generated.
clang++ -arch x86_64 -std=gnu++14 -I"/Library/Frameworks/R.framework/Resources/include" -DNDEBUG  -I'/Library/Frameworks/R.framework/Versions/4.3-x86_64/Resources/library/Rcpp/include' -I'/Library/Frameworks/R.framework/Versions/4.3-x86_64/Resources/library/RcppEigen/include' -I/opt/R/x86_64/include    -fPIC  -falign-functions=64 -Wall -g -O2  -c run_alignment.cpp -o run_alignment.o
clang++ -arch x86_64 -std=gnu++14 -I"/Library/Frameworks/R.framework/Resources/include" -DNDEBUG  -I'/Library/Frameworks/R.framework/Versions/4.3-x86_64/Resources/library/Rcpp/include' -I'/Library/Frameworks/R.framework/Versions/4.3-x86_64/Resources/library/RcppEigen/include' -I/opt/R/x86_64/include    -fPIC  -falign-functions=64 -Wall -g -O2  -c simpleFcn.cpp -o simpleFcn.o
clang++ -arch x86_64 -std=gnu++14 -I"/Library/Frameworks/R.framework/Resources/include" -DNDEBUG  -I'/Library/Frameworks/R.framework/Versions/4.3-x86_64/Resources/library/Rcpp/include' -I'/Library/Frameworks/R.framework/Versions/4.3-x86_64/Resources/library/RcppEigen/include' -I/opt/R/x86_64/include    -fPIC  -falign-functions=64 -Wall -g -O2  -c spline.cpp -o spline.o
clang++ -arch x86_64 -std=gnu++14 -I"/Library/Frameworks/R.framework/Resources/include" -DNDEBUG  -I'/Library/Frameworks/R.framework/Versions/4.3-x86_64/Resources/library/Rcpp/include' -I'/Library/Frameworks/R.framework/Versions/4.3-x86_64/Resources/library/RcppEigen/include' -I/opt/R/x86_64/include    -fPIC  -falign-functions=64 -Wall -g -O2  -c utils.cpp -o utils.o
utils.cpp:48:9: warning: unused variable 'idx' [-Wunused-variable]
    int idx = n*(1-p);
        ^
1 warning generated.
clang++ -arch x86_64 -std=gnu++14 -dynamiclib -Wl,-headerpad_max_install_names -undefined dynamic_lookup -single_module -multiply_defined suppress -L/Library/Frameworks/R.framework/Resources/lib -L/opt/R/x86_64/lib -o DIAlignR.so ChromatogramPeak.o DPosition.o MSChromatogram.o PeakIntegrator.o RcppExports.o Rmain.o SavitzkyGolayFilter.o affinealignment.o affinealignobj.o alignment.o chromSimMatrix.o constrainMat.o gapPenalty.o integrateArea.o interface.o miscell.o run_alignment.o simpleFcn.o spline.o utils.o -F/Library/Frameworks/R.framework/.. -framework R -Wl,-framework -Wl,CoreFoundation
installing to /Library/Frameworks/R.framework/Versions/4.3-x86_64/Resources/library/00LOCK-DIAlignR/00new/DIAlignR/libs
** R
** data
** inst
** byte-compile and prepare package for lazy loading
** help
*** installing help indices
** building package indices
** installing vignettes
** testing if installed package can be loaded from temporary location
** checking absolute paths in shared objects and dynamic libraries
** testing if installed package can be loaded from final location
** testing if installed package keeps a record of temporary installation path
* DONE (DIAlignR)

Tests output

DIAlignR.Rcheck/tests/testthat.Rout


R version 4.3.0 RC (2023-04-13 r84257) -- "Already Tomorrow"
Copyright (C) 2023 The R Foundation for Statistical Computing
Platform: x86_64-apple-darwin20 (64-bit)

R is free software and comes with ABSOLUTELY NO WARRANTY.
You are welcome to redistribute it under certain conditions.
Type 'license()' or 'licence()' for distribution details.

R is a collaborative project with many contributors.
Type 'contributors()' for more information and
'citation()' on how to cite R or R packages in publications.

Type 'demo()' for some demos, 'help()' for on-line help, or
'help.start()' for an HTML browser interface to help.
Type 'q()' to quit R.

> library(testthat)
> library(DIAlignR)
> 
> test_check("DIAlignR")
[1] "hroest_K120808_Strep10%PlasmaBiolRepl1_R03_SW_filt"
[2] "hroest_K120809_Strep0%PlasmaBiolRepl2_R04_SW_filt" 
[3] "hroest_K120809_Strep10%PlasmaBiolRepl2_R04_SW_filt"
Time difference of 0.1243968 secs
Time difference of 0.6471109 secs
Time difference of 0.2722058 secs
Time difference of 0.06792617 secs
Time difference of 0.01735687 secs
Time difference of 0.3886528 secs
Time difference of 4.071535 secs
Time difference of 0.06262016 secs
Time difference of 0.9407339 secs
[1] "hroest_K120808_Strep10%PlasmaBiolRepl1_R03_SW_filt"
[2] "hroest_K120809_Strep0%PlasmaBiolRepl2_R04_SW_filt" 
Time difference of 0.03934002 secs
Time difference of 0.595248 secs
Time difference of 0.2525301 secs
Time difference of 0.03714085 secs
Time difference of 0.01668096 secs
Time difference of 0.1508539 secs
Time difference of 2.595911 secs
Time difference of 0.02136683 secs
Time difference of 2.059155 secs
[1] "hroest_K120808_Strep10%PlasmaBiolRepl1_R03_SW_filt"
[2] "hroest_K120809_Strep0%PlasmaBiolRepl2_R04_SW_filt" 
[3] "hroest_K120809_Strep10%PlasmaBiolRepl2_R04_SW_filt"
Time difference of 0.06033802 secs
Time difference of 0.5892282 secs
Time difference of 0.2605832 secs
Time difference of 0.228647 secs
Time difference of 0.01980686 secs
Time difference of 0.2253041 secs
Time difference of 3.769505 secs
Time difference of 0.05509591 secs
Time difference of 0.7639279 secs
[1] "hroest_K120808_Strep10%PlasmaBiolRepl1_R03_SW_filt"
[2] "hroest_K120809_Strep0%PlasmaBiolRepl2_R04_SW_filt" 
[3] "hroest_K120809_Strep10%PlasmaBiolRepl2_R04_SW_filt"
Time difference of 0.04358411 secs
Time difference of 0.03945494 secs
Time difference of 0.0008060932 secs
Time difference of 0.2280591 secs
Time difference of 0.01700783 secs
Time difference of 0.172745 secs
Time difference of 0.04983711 secs
Time difference of 0.01733994 secs
Time difference of 0.2044821 secs
[1] "hroest_K120809_Strep0%PlasmaBiolRepl2_R04_SW_filt" 
[2] "hroest_K120809_Strep10%PlasmaBiolRepl2_R04_SW_filt"
[1] "PestMix1_8Step1Plasma1SWATH20-50" "PestMix1_8Step8Plasma1SWATH20-50"
Time difference of 0.01887202 secs
Time difference of 0.08506393 secs
Time difference of 0.02312088 secs
Time difference of 0.02892709 secs
Time difference of 0.01123619 secs
Time difference of 0.111248 secs
Time difference of 0.222358 secs
Time difference of 0.01898098 secs
Time difference of 0.470685 secs
[1] "chludwig_K150309_004b_SW_1_16" "chludwig_K150309_008_SW_1_4"  
[3] "chludwig_K150309_013_SW_0"    
Time difference of 0.02485394 secs
Time difference of 0.02204108 secs
Time difference of 0.006363153 secs
Time difference of 0.04326987 secs
Time difference of 0.05722499 secs
Time difference of 0.1588862 secs
Time difference of 0.01644897 secs
Time difference of 0.0532248 secs
Time difference of 0.6310201 secs
<simpleWarning in simpleLoess(y, x, w, span, degree = degree, parametric = parametric,     drop.square = drop.square, normalize = normalize, statistics = control$statistics,     surface = control$surface, cell = control$cell, iterations = iterations,     iterTrace = control$iterTrace, trace.hat = control$trace.hat): span too small.   fewer data values than degrees of freedom.>
<simpleWarning in simpleLoess(y, x, w, span, degree = degree, parametric = parametric,     drop.square = drop.square, normalize = normalize, statistics = control$statistics,     surface = control$surface, cell = control$cell, iterations = iterations,     iterTrace = control$iterTrace, trace.hat = control$trace.hat): span too small.   fewer data values than degrees of freedom.>
<simpleWarning in sqrt(sum.squares/one.delta): NaNs produced>
<simpleError in simpleLoess(y, x, w, span, degree = degree, parametric = parametric,     drop.square = drop.square, normalize = normalize, statistics = control$statistics,     surface = control$surface, cell = control$cell, iterations = iterations,     iterTrace = control$iterTrace, trace.hat = control$trace.hat): span is too small>
                                                runName
run0 hroest_K120808_Strep10%PlasmaBiolRepl1_R03_SW_filt
run1  hroest_K120809_Strep0%PlasmaBiolRepl2_R04_SW_filt
run2 hroest_K120809_Strep10%PlasmaBiolRepl2_R04_SW_filt
Time difference of 0.2689381 secs
Time difference of 0.03395796 secs
Time difference of 0.004063129 secs
Time difference of 0.02168679 secs
Time difference of 0.1422532 secs
Time difference of 0.04910684 secs
Time difference of 0.03868318 secs
Time difference of 0.2138209 secs
                                                runName
run0 hroest_K120808_Strep10%PlasmaBiolRepl1_R03_SW_filt
run1  hroest_K120809_Strep0%PlasmaBiolRepl2_R04_SW_filt
run2 hroest_K120809_Strep10%PlasmaBiolRepl2_R04_SW_filt
Time difference of 0.06078982 secs
[1] "run0 run1\nrun2 run2"
Time difference of 0.587919 secs
Time difference of 0.2804871 secs
Time difference of 0.02044702 secs
Time difference of 0.201215 secs
Time difference of 3.78647 secs
Time difference of 0.03849506 secs
Time difference of 0.770447 secs
                                                runName
run0 hroest_K120808_Strep10%PlasmaBiolRepl1_R03_SW_filt
run1  hroest_K120809_Strep0%PlasmaBiolRepl2_R04_SW_filt
run2 hroest_K120809_Strep10%PlasmaBiolRepl2_R04_SW_filt
Time difference of 0.250911 secs
Time difference of 2.447586 secs
Time difference of 14.92496 secs
Time difference of 1.177205 secs
                                                runName
run0 hroest_K120808_Strep10%PlasmaBiolRepl1_R03_SW_filt
run1  hroest_K120809_Strep0%PlasmaBiolRepl2_R04_SW_filt
run2 hroest_K120809_Strep10%PlasmaBiolRepl2_R04_SW_filt
Time difference of 0.261492 secs
[1] "Written /Library/Frameworks/R.framework/Versions/4.3-x86_64/Resources/library/DIAlignR/extdata/temp_prog1.RData"
[1] "Written /Library/Frameworks/R.framework/Versions/4.3-x86_64/Resources/library/DIAlignR/extdata/temp_0_2.rds"
[1] "progTree1 is done."
Time difference of 3.780032 secs
Time difference of 0.896173 secs
[1] "Written /Library/Frameworks/R.framework/Versions/4.3-x86_64/Resources/library/DIAlignR/extdata/temp_1_2.rds"
Time difference of 1.690255 secs
[1] "Written /Library/Frameworks/R.framework/Versions/4.3-x86_64/Resources/library/DIAlignR/extdata/temp_2_2.rds"
Time difference of 1.020106 secs
Time difference of 0.477802 secs
[1] "Written /Library/Frameworks/R.framework/Versions/4.3-x86_64/Resources/library/DIAlignR/extdata/temp_all_2.rds"
Time difference of 0.435148 secs
                                                runName
run0 hroest_K120808_Strep10%PlasmaBiolRepl1_R03_SW_filt
run1  hroest_K120809_Strep0%PlasmaBiolRepl2_R04_SW_filt
run2 hroest_K120809_Strep10%PlasmaBiolRepl2_R04_SW_filt
Time difference of 0.2425702 secs
[1] "Written /Library/Frameworks/R.framework/Versions/4.3-x86_64/Resources/library/DIAlignR/extdata/temp_prog1.RData"
[1] "Written /Library/Frameworks/R.framework/Versions/4.3-x86_64/Resources/library/DIAlignR/extdata/temp_0_2.rds"
[1] "progTree1 is done."
Time difference of 3.326144 secs
Time difference of 0.8115208 secs
[1] "Written /Library/Frameworks/R.framework/Versions/4.3-x86_64/Resources/library/DIAlignR/extdata/temp_1_2.rds"
Time difference of 1.451046 secs
[1] "Written /Library/Frameworks/R.framework/Versions/4.3-x86_64/Resources/library/DIAlignR/extdata/temp_2_2.rds"
Time difference of 0.8261309 secs
Time difference of 0.04259992 secs
[1] "Written /Library/Frameworks/R.framework/Versions/4.3-x86_64/Resources/library/DIAlignR/extdata/temp_all_2.rds"
Error in reticulate::use_condaenv(condaEnv, required = TRUE) : 
  Unable to locate conda environment 'TricEnvr'.
Error in reticulate::use_condaenv(condaEnv, required = TRUE) : 
  Unable to locate conda environment 'TricEnvr'.
Error in reticulate::use_condaenv(condaEnv, required = TRUE) : 
  Unable to locate conda environment 'TricEnvr'.
[ FAIL 0 | WARN 0 | SKIP 8 | PASS 632 ]

══ Skipped tests ═══════════════════════════════════════════════════════════════
• empty test (5)
• ropenms not available for testing. A conda environment with name TricEnvr is MUST for testing. (3)

[ FAIL 0 | WARN 0 | SKIP 8 | PASS 632 ]
> 
> proc.time()
   user  system elapsed 
124.178  16.053 138.448 

Example timings

DIAlignR.Rcheck/DIAlignR-Ex.timings

nameusersystemelapsed
MSTperBatch0.0020.0010.003
addFlankToLeft0.0040.0010.006
addFlankToRight0.0020.0010.003
addXIC0.0000.0010.001
alignChromatogramsCpp0.0430.0130.082
alignTargetedRuns19.14220.60014.576
alignToMaster4.0030.1235.451
alignToRef0.0020.0010.002
alignToRefMST0.0020.0010.002
alignedXIC0.1720.0100.244
analytesFromFeatures0.0720.0080.109
approxFill0.0020.0010.002
areaIntegrator0.0050.0010.009
blobXICs0.0030.0020.006
calculateIntensity0.0040.0020.006
checkOverlap0.0000.0000.001
checkParams0.0000.0000.001
childXIC0.1580.0050.214
childXICs1.0690.0231.461
constrainSimCpp0.0010.0010.005
createMZML0.0050.0030.008
createSqMass0.0030.0030.009
dialignrLoess0.0010.0000.002
doAffineAlignmentCpp0.0020.0020.004
doAlignmentCpp0.0020.0030.005
extractXIC_group1.6040.0372.311
extractXIC_group20.0020.0010.002
fetchAnalytesInfo0.0150.0030.025
fetchFeaturesFromRun0.0140.0030.023
fetchPeptidesInfo0.0130.0030.015
fetchPeptidesInfo20.0130.0020.015
fetchPrecursorsInfo0.0020.0010.002
fetchTransitionsFromRun0.0120.0020.023
filenamesFromMZML0.0010.0010.003
filenamesFromOSW0.0020.0010.007
getAlignObj0.0360.0040.054
getAlignObjs2.3210.0473.167
getAlignedFigs0.2530.0120.346
getAlignedIndices0.0180.0030.027
getAlignedTimes0.0480.0080.072
getAlignedTimesCpp0.0100.0020.012
getAlignedTimesFast0.0240.0100.039
getBaseGapPenaltyCpp0.0010.0000.001
getChildFeature0.0780.0090.113
getChildXICpp0.0110.0030.024
getChildXICs1.3580.0401.828
getChromSimMatCpp0.0040.0060.013
getChromatogramIndices0.2280.0070.308
getFeatures0.0710.0080.116
getGlobalAlignMaskCpp0.0010.0030.006
getGlobalAlignment0.0120.0010.019
getGlobalFits0.7400.0110.993
getLOESSfit0.0050.0010.006
getLinearfit0.0050.0010.010
getMST0.0010.0010.002
getMZMLpointers0.0260.0040.041
getMappedRT0.0190.0030.027
getMultipeptide3.1190.0394.193
getNativeIDs0.0340.0020.045
getNodeIDs0.0010.0000.001
getNodeRun1.2880.0241.703
getOswAnalytes0.0140.0020.022
getOswFiles0.0140.0020.018
getPeptideScores0.0640.0040.083
getPrecursorByID0.0250.0030.035
getPrecursorIndices0.0850.0050.107
getPrecursors0.0430.0030.058
getRSE0.0050.0020.009
getRTdf0.0120.0020.016
getRefExpFeatureMap0.6010.0310.807
getRefRun0.6990.0180.917
getRunNames0.0160.0030.025
getSeqSimMatCpp0.0000.0010.002
getTransitions0.2770.0170.386
getTree0.0520.0040.082
getXICs0.1720.0100.231
getXICs4AlignObj0.1250.0060.198
get_ropenms000
imputeChromatogram0.0270.0030.038
ipfReassignFDR0.0000.0010.001
mapIdxToTime0.0010.0000.001
mappedRTfromAlignObj0.0040.0010.007
mergeXIC0.0050.0020.006
mstAlignRuns4.4980.0885.896
mstScript10.7270.4760.934
mstScript24.8520.8476.861
nrDesc0.0000.0010.001
otherChildXICpp0.0120.0030.022
paramsDIAlignR0.0000.0010.001
perBatch0.0020.0010.002
pickNearestFeature0.0050.0020.007
plotAlignedAnalytes1.1730.0341.588
plotAlignmentPath0.7170.0571.021
plotAnalyteXICs0.8320.0281.141
plotXICgroup0.7320.0170.978
populateReferenceExperimentFeatureAlignmentMap0.0220.0040.033
progAlignRuns0.0020.0010.003
readMzMLHeader0.0010.0010.003
readSqMassHeader0.0010.0010.003
recalculateIntensity0.5120.0150.686
reduceXICs0.1420.0060.197
script11.4071.5301.903
script25.5161.9007.763
setAlignmentRank0.0220.0040.036
sgolayCpp0.0040.0010.006
sgolayFill0.0020.0000.002
smoothSingleXIC0.0030.0030.006
smoothXICs0.0150.0040.027
splineFill0.0020.0000.002
splineFillCpp0.0070.0010.012
traverseDown3.4480.0754.685
traverseMST000
traverseUp3.4700.1254.700
trfrParentFeature0.0750.0100.111
trimXICs0.0030.0030.009
uncompressVec0.0080.0030.014
updateFileInfo0.0160.0040.027
writeOutFeatureAlignmentMap0.0080.0020.012
writeTables0.0050.0010.007