Back to Multiple platform build/check report for BioC 3.17:   simplified   long
AB[C]DEFGHIJKLMNOPQRSTUVWXYZ

This page was generated on 2023-03-28 11:06:44 -0400 (Tue, 28 Mar 2023).

HostnameOSArch (*)R versionInstalled pkgs
nebbiolo1Linux (Ubuntu 22.04.1 LTS)x86_64R Under development (unstable) (2023-03-16 r83996) -- "Unsuffered Consequences" 4547
palomino3Windows Server 2022 Datacenterx64R Under development (unstable) (2023-03-15 r83984 ucrt) -- "Unsuffered Consequences" 4308
merida1macOS 10.14.6 Mojavex86_64R Under development (unstable) (2023-03-16 r83985) -- "Unsuffered Consequences" 4301
Click on any hostname to see more info about the system (e.g. compilers)      (*) as reported by 'uname -p', except on Windows and Mac OS X

BUILD results for conumee on merida1


To the developers/maintainers of the conumee package:
- Please allow up to 24 hours (and sometimes 48 hours) for your latest push to git@git.bioconductor.org:packages/conumee.git to
reflect on this report. See How and When does the builder pull? When will my changes propagate? for more information.
- Make sure to use the following settings in order to reproduce any error or warning you see on this page.

raw results

Package 418/2195HostnameOS / ArchINSTALLBUILDCHECKBUILD BIN
conumee 1.33.0  (landing page)
Volker Hovestadt
Snapshot Date: 2023-03-27 14:00:21 -0400 (Mon, 27 Mar 2023)
git_url: https://git.bioconductor.org/packages/conumee
git_branch: devel
git_last_commit: d818c3e
git_last_commit_date: 2022-11-01 11:11:32 -0400 (Tue, 01 Nov 2022)
nebbiolo1Linux (Ubuntu 22.04.1 LTS) / x86_64  OK    OK    OK  UNNEEDED, same version is already published
palomino3Windows Server 2022 Datacenter / x64... NOT SUPPORTED ...
merida1macOS 10.14.6 Mojave / x86_64  OK    OK    TIMEOUT    OK  

Summary

Package: conumee
Version: 1.33.0
Command: /Library/Frameworks/R.framework/Resources/bin/R CMD build --keep-empty-dirs --no-resave-data conumee
StartedAt: 2023-03-27 17:28:29 -0400 (Mon, 27 Mar 2023)
EndedAt: 2023-03-27 17:41:54 -0400 (Mon, 27 Mar 2023)
EllapsedTime: 805.3 seconds
RetCode: 0
Status:   OK  
PackageFile: conumee_1.33.0.tar.gz
PackageFileSize: 1.182 MiB

Command output

##############################################################################
##############################################################################
###
### Running command:
###
###   /Library/Frameworks/R.framework/Resources/bin/R CMD build --keep-empty-dirs --no-resave-data conumee
###
##############################################################################
##############################################################################


* checking for file ‘conumee/DESCRIPTION’ ... OK
* preparing ‘conumee’:
* checking DESCRIPTION meta-information ... OK
* installing the package to build vignettes
* creating vignettes ... OK
* checking for LF line-endings in source and make files and shell scripts
* checking for empty or unneeded directories
* looking to see if a ‘data/datalist’ file should be added
  NB: this package now depends on R (>= 3.5.0)
  WARNING: Added dependency on R >= 3.5.0 because serialized objects in
  serialize/load version 3 cannot be read in older versions of R.
  File(s) containing such objects:
    ‘conumee/data/detail_regions.rda’ ‘conumee/data/exclude_regions.rda’
* building ‘conumee_1.33.0.tar.gz’