This page was generated on 2023-03-21 11:07:39 -0400 (Tue, 21 Mar 2023).
|
|
| |||||||||||||||||||||||||||||||||||
Package | Maintainer | INSTALL/BUILD/CHECK | ||||||||||||||||||||||||||||||||||
1/2189 | a4 1.47.0 (landing page) | Laure Cougnaud | OK | |||||||||||||||||||||||||||||||||
2/2189 | a4Base 1.47.0 (landing page) | Laure Cougnaud | OK | |||||||||||||||||||||||||||||||||
3/2189 | a4Classif 1.47.0 (landing page) | Laure Cougnaud | OK | |||||||||||||||||||||||||||||||||
4/2189 | a4Core 1.47.0 (landing page) | Laure Cougnaud | OK | |||||||||||||||||||||||||||||||||
5/2189 | a4Preproc 1.47.0 (landing page) | Laure Cougnaud | OK | |||||||||||||||||||||||||||||||||
6/2189 | a4Reporting 1.47.0 (landing page) | Laure Cougnaud | OK | |||||||||||||||||||||||||||||||||
7/2189 | ABarray 1.67.0 (landing page) | Yongming Andrew Sun | OK | |||||||||||||||||||||||||||||||||
8/2189 | abseqR 1.17.0 (landing page) | JiaHong Fong | ERROR | |||||||||||||||||||||||||||||||||
9/2189 | ABSSeq 1.53.0 (landing page) | Wentao Yang | OK | |||||||||||||||||||||||||||||||||
10/2189 | acde 1.29.0 (landing page) | Juan Pablo Acosta | OK | |||||||||||||||||||||||||||||||||
11/2189 | ACE 1.17.0 (landing page) | Jos B Poell | OK | |||||||||||||||||||||||||||||||||
12/2189 | aCGH 1.77.0 (landing page) | Peter Dimitrov | OK | |||||||||||||||||||||||||||||||||
13/2189 | ACME 2.55.0 (landing page) | Sean Davis | WARNINGS | |||||||||||||||||||||||||||||||||
14/2189 | ADaCGH2 2.39.0 (landing page) | Ramon Diaz-Uriarte | OK | |||||||||||||||||||||||||||||||||
15/2189 | ADAM 1.15.0 (landing page) | Jose Luiz Rybarczyk Filho | OK | |||||||||||||||||||||||||||||||||
16/2189 | ADAMgui 1.15.0 (landing page) | Jose Luiz Rybarczyk Filho | OK | |||||||||||||||||||||||||||||||||
17/2189 | adductomicsR 1.15.0 (landing page) | Josie Hayes | WARNINGS | |||||||||||||||||||||||||||||||||
18/2189 | ADImpute 1.9.0 (landing page) | Ana Carolina Leote | WARNINGS | |||||||||||||||||||||||||||||||||
19/2189 | adSplit 1.69.0 (landing page) | Claudio Lottaz | OK | |||||||||||||||||||||||||||||||||
20/2189 | AffiXcan 1.17.0 (landing page) | Alessandro Lussana | OK | |||||||||||||||||||||||||||||||||
21/2189 | affxparser 1.71.0 (landing page) | Kasper Daniel Hansen | ERROR | |||||||||||||||||||||||||||||||||
22/2189 | affy 1.77.0 (landing page) | Rafael A. Irizarry | WARNINGS | |||||||||||||||||||||||||||||||||
23/2189 | affycomp 1.75.0 (landing page) | Rafael A. Irizarry | OK | |||||||||||||||||||||||||||||||||
24/2189 | affyContam 1.57.0 (landing page) | V. Carey | OK | |||||||||||||||||||||||||||||||||
25/2189 | affycoretools 1.71.1 (landing page) | James W. MacDonald | OK | |||||||||||||||||||||||||||||||||
26/2189 | affyILM 1.51.0 (landing page) | Myriam Kroll and Fabrice Berger | OK | |||||||||||||||||||||||||||||||||
27/2189 | affyio 1.69.0 (landing page) | Ben Bolstad | WARNINGS | |||||||||||||||||||||||||||||||||
28/2189 | affylmGUI 1.73.0 (landing page) | Gordon Smyth | OK | |||||||||||||||||||||||||||||||||
29/2189 | affyPLM 1.75.1 (landing page) | Ben Bolstad | WARNINGS | |||||||||||||||||||||||||||||||||
30/2189 | AffyRNADegradation 1.45.0 (landing page) | Mario Fasold | OK | |||||||||||||||||||||||||||||||||
31/2189 | AGDEX 1.47.0 (landing page) | Cuilan lani Gao | OK | |||||||||||||||||||||||||||||||||
32/2189 | aggregateBioVar 1.9.0 (landing page) | Jason Ratcliff | OK | |||||||||||||||||||||||||||||||||
33/2189 | agilp 3.31.0 (landing page) | Benny Chain | OK | |||||||||||||||||||||||||||||||||
34/2189 | AgiMicroRna 2.49.0 (landing page) | Pedro Lopez-Romero | WARNINGS | |||||||||||||||||||||||||||||||||
35/2189 | AIMS 1.31.0 (landing page) | Eric R Paquet | OK | |||||||||||||||||||||||||||||||||
36/2189 | airpart 1.7.1 (landing page) | Wancen Mu | OK | |||||||||||||||||||||||||||||||||
37/2189 | alabaster 0.99.0 (landing page) | Aaron Lun | OK | |||||||||||||||||||||||||||||||||
38/2189 | alabaster.base 0.99.5 (landing page) | Aaron Lun | ERROR | |||||||||||||||||||||||||||||||||
39/2189 | alabaster.bumpy 0.99.1 (landing page) | Aaron Lun | OK | |||||||||||||||||||||||||||||||||
40/2189 | alabaster.mae 0.99.1 (landing page) | Aaron Lun | OK | |||||||||||||||||||||||||||||||||
41/2189 | alabaster.matrix 0.99.1 (landing page) | Aaron Lun | OK | |||||||||||||||||||||||||||||||||
42/2189 | alabaster.ranges 0.99.2 (landing page) | Aaron Lun | OK | |||||||||||||||||||||||||||||||||
43/2189 | alabaster.sce 0.99.1 (landing page) | Aaron Lun | OK | |||||||||||||||||||||||||||||||||
44/2189 | alabaster.schemas 0.99.1 (landing page) | Aaron Lun | OK | |||||||||||||||||||||||||||||||||
45/2189 | alabaster.se 0.99.1 (landing page) | Aaron Lun | OK | |||||||||||||||||||||||||||||||||
46/2189 | alabaster.spatial 0.99.2 (landing page) | Aaron Lun | OK | |||||||||||||||||||||||||||||||||
47/2189 | alabaster.string 0.99.2 (landing page) | Aaron Lun | OK | |||||||||||||||||||||||||||||||||
48/2189 | alabaster.vcf 0.99.1 (landing page) | Aaron Lun | OK | |||||||||||||||||||||||||||||||||
49/2189 | ALDEx2 1.31.0 (landing page) | Greg Gloor | WARNINGS | |||||||||||||||||||||||||||||||||
50/2189 | alevinQC 1.15.1 (landing page) | Charlotte Soneson | OK | |||||||||||||||||||||||||||||||||
51/2189 | AllelicImbalance 1.37.0 (landing page) | Jesper R Gadin | OK | |||||||||||||||||||||||||||||||||
52/2189 | AlphaBeta 1.13.0 (landing page) | Yadollah Shahryary Dizaji | OK | |||||||||||||||||||||||||||||||||
53/2189 | alpine 1.25.0 (landing page) | Michael Love | OK | |||||||||||||||||||||||||||||||||
54/2189 | AlpsNMR 4.1.6 (landing page) | Sergio Oller Moreno | OK | |||||||||||||||||||||||||||||||||
55/2189 | altcdfenvs 2.61.0 (landing page) | Laurent Gautier | OK | |||||||||||||||||||||||||||||||||
56/2189 | AMARETTO 1.15.2 (landing page) | Olivier Gevaert | WARNINGS | |||||||||||||||||||||||||||||||||
57/2189 | AMOUNTAIN 1.25.0 (landing page) | Dong Li | OK | |||||||||||||||||||||||||||||||||
58/2189 | amplican 1.21.0 (landing page) | Eivind Valen | ERROR | |||||||||||||||||||||||||||||||||
59/2189 | Anaquin 2.23.0 (landing page) | Ted Wong | OK | |||||||||||||||||||||||||||||||||
60/2189 | ANCOMBC 2.1.2 (landing page) | Huang Lin | TIMEOUT | |||||||||||||||||||||||||||||||||
61/2189 | AneuFinder 1.27.0 (landing page) | Aaron Taudt | ERROR | |||||||||||||||||||||||||||||||||
62/2189 | ANF 1.21.0 (landing page) | Tianle Ma | OK | |||||||||||||||||||||||||||||||||
63/2189 | animalcules 1.15.0 (landing page) | Yue Zhao | WARNINGS | |||||||||||||||||||||||||||||||||
64/2189 | annaffy 1.71.0 (landing page) | Colin A. Smith | WARNINGS | |||||||||||||||||||||||||||||||||
65/2189 | annmap 1.41.0 (landing page) | Chris Wirth | WARNINGS | |||||||||||||||||||||||||||||||||
66/2189 | annotate 1.77.0 (landing page) | Bioconductor Package Maintainer | OK | |||||||||||||||||||||||||||||||||
67/2189 | AnnotationDbi 1.61.2 (landing page) | Bioconductor Package Maintainer | WARNINGS | |||||||||||||||||||||||||||||||||
68/2189 | AnnotationFilter 1.23.0 (landing page) | Bioconductor Package Maintainer | OK | |||||||||||||||||||||||||||||||||
69/2189 | AnnotationForge 1.41.1 (landing page) | Bioconductor Package Maintainer | OK | |||||||||||||||||||||||||||||||||
70/2189 | AnnotationHub 3.7.3 (landing page) | Bioconductor Package Maintainer | WARNINGS | |||||||||||||||||||||||||||||||||
71/2189 | AnnotationHubData 1.29.1 (landing page) | Bioconductor Package Maintainer | WARNINGS | |||||||||||||||||||||||||||||||||
72/2189 | annotationTools 1.73.0 (landing page) | Alexandre Kuhn | OK | |||||||||||||||||||||||||||||||||
73/2189 | annotatr 1.25.0 (landing page) | Raymond G. Cavalcante | OK | |||||||||||||||||||||||||||||||||
74/2189 | anota 1.47.0 (landing page) | Ola Larsson | OK | |||||||||||||||||||||||||||||||||
75/2189 | anota2seq 1.21.0 (landing page) | Christian Oertlin | WARNINGS | |||||||||||||||||||||||||||||||||
76/2189 | antiProfiles 1.39.0 (landing page) | Hector Corrada Bravo | OK | |||||||||||||||||||||||||||||||||
77/2189 | AnVIL 1.11.3 (landing page) | Martin Morgan | WARNINGS | |||||||||||||||||||||||||||||||||
78/2189 | AnVILBilling 1.9.0 (landing page) | Vince Carey | OK | |||||||||||||||||||||||||||||||||
79/2189 | AnVILPublish 1.9.0 (landing page) | Martin Morgan | OK | |||||||||||||||||||||||||||||||||
80/2189 | AnVILWorkflow 0.99.28 (landing page) | Sehyun Oh | OK | |||||||||||||||||||||||||||||||||
81/2189 | APAlyzer 1.13.0 (landing page) | Ruijia Wang | WARNINGS | |||||||||||||||||||||||||||||||||
82/2189 | apComplex 2.65.0 (landing page) | Denise Scholtens | OK | |||||||||||||||||||||||||||||||||
83/2189 | apeglm 1.21.0 (landing page) | Anqi Zhu | OK | |||||||||||||||||||||||||||||||||
84/2189 | APL 1.3.0 (landing page) | Elzbieta Gralinska | OK | |||||||||||||||||||||||||||||||||
85/2189 | appreci8R 1.17.0 (landing page) | Sarah Sandmann | OK | |||||||||||||||||||||||||||||||||
86/2189 | aroma.light 3.29.0 (landing page) | Henrik Bengtsson | OK | |||||||||||||||||||||||||||||||||
87/2189 | ArrayExpress 1.59.3 (landing page) | Jose Marugan | OK | |||||||||||||||||||||||||||||||||
88/2189 | Angela Goncalves | ERROR | ||||||||||||||||||||||||||||||||||
89/2189 | arrayMvout 1.57.0 (landing page) | V. Carey | OK | |||||||||||||||||||||||||||||||||
90/2189 | arrayQuality 1.77.0 (landing page) | Agnes Paquet | WARNINGS | |||||||||||||||||||||||||||||||||
91/2189 | arrayQualityMetrics 3.55.0 (landing page) | Mike Smith | OK | |||||||||||||||||||||||||||||||||
92/2189 | ARRmNormalization 1.39.0 (landing page) | Jean-Philippe Fortin | OK | |||||||||||||||||||||||||||||||||
93/2189 | artMS 1.17.0 (landing page) | David Jimenez-Morales | OK | |||||||||||||||||||||||||||||||||
94/2189 | ASAFE 1.25.0 (landing page) | Qian Zhang | OK | |||||||||||||||||||||||||||||||||
95/2189 | ASEB 1.43.0 (landing page) | Likun Wang | ERROR | |||||||||||||||||||||||||||||||||
96/2189 | ASGSCA 1.33.0 (landing page) | Hela Romdhani | OK | |||||||||||||||||||||||||||||||||
97/2189 | ASICS 2.15.0 (landing page) | Gaëlle Lefort | OK | |||||||||||||||||||||||||||||||||
98/2189 | Doyeong Yu | ERROR | ||||||||||||||||||||||||||||||||||
99/2189 | ASpli 2.9.0 (landing page) | Estefania Mancini | OK | |||||||||||||||||||||||||||||||||
100/2189 | AssessORF 1.17.0 (landing page) | Deepank Korandla | OK | |||||||||||||||||||||||||||||||||
101/2189 | ASSET 2.17.0 (landing page) | Samsiddhi Bhattacharjee | OK | |||||||||||||||||||||||||||||||||
102/2189 | ASSIGN 1.35.0 (landing page) | Ying Shen | OK | |||||||||||||||||||||||||||||||||
103/2189 | ASURAT 1.3.0 (landing page) | Keita Iida | OK | |||||||||||||||||||||||||||||||||
104/2189 | ATACCoGAPS 1.1.0 (landing page) | Rossin Erbe | OK | |||||||||||||||||||||||||||||||||
105/2189 | ATACseqQC 1.23.1 (landing page) | Jianhong Ou | OK | |||||||||||||||||||||||||||||||||
106/2189 | ATACseqTFEA 1.1.1 (landing page) | Jianhong Ou | OK | |||||||||||||||||||||||||||||||||
107/2189 | atena 1.5.9 (landing page) | Beatriz Calvo-Serra | ERROR | |||||||||||||||||||||||||||||||||
108/2189 | atSNP 1.15.0 (landing page) | Sunyoung Shin | OK | |||||||||||||||||||||||||||||||||
109/2189 | attract 1.51.0 (landing page) | Samuel Zimmerman | OK | |||||||||||||||||||||||||||||||||
110/2189 | AUCell 1.21.2 (landing page) | Sara Aibar | OK | |||||||||||||||||||||||||||||||||
111/2189 | autonomics 1.7.0 (landing page) | Aditya Bhagwat | ERROR | |||||||||||||||||||||||||||||||||
112/2189 | AWFisher 1.13.0 (landing page) | Zhiguang Huo | OK | |||||||||||||||||||||||||||||||||
113/2189 | awst 1.7.0 (landing page) | Davide Risso | OK | |||||||||||||||||||||||||||||||||
|
| |||||||||||||||||||||||||||||||||||
Package | Maintainer | INSTALL/BUILD/CHECK | ||||||||||||||||||||||||||||||||||
114/2189 | BaalChIP 1.25.0 (landing page) | Ines de Santiago | WARNINGS | |||||||||||||||||||||||||||||||||
115/2189 | bacon 1.27.0 (landing page) | Maarten van Iterson | OK | |||||||||||||||||||||||||||||||||
116/2189 | BADER 1.37.0 (landing page) | Andreas Neudecker | OK | |||||||||||||||||||||||||||||||||
117/2189 | BadRegionFinder 1.27.0 (landing page) | Sarah Sandmann | OK | |||||||||||||||||||||||||||||||||
118/2189 | BAGS 2.39.0 (landing page) | Alejandro Quiroz-Zarate | OK | |||||||||||||||||||||||||||||||||
119/2189 | ballgown 2.31.0 (landing page) | Jack Fu | OK | |||||||||||||||||||||||||||||||||
120/2189 | bambu 3.1.6 (landing page) | Ying Chen | OK | |||||||||||||||||||||||||||||||||
121/2189 | bamsignals 1.31.0 (landing page) | Johannes Helmuth | WARNINGS | |||||||||||||||||||||||||||||||||
122/2189 | BANDITS 1.15.0 (landing page) | Simone Tiberi | OK | |||||||||||||||||||||||||||||||||
123/2189 | bandle 1.3.0 (landing page) | Oliver M. Crook | OK | |||||||||||||||||||||||||||||||||
124/2189 | banocc 1.23.0 (landing page) | George Weingart | ERROR | |||||||||||||||||||||||||||||||||
125/2189 | barcodetrackR 1.7.0 (landing page) | Diego Alexander Espinoza | OK | |||||||||||||||||||||||||||||||||
126/2189 | basecallQC 1.23.0 (landing page) | Thomas Carroll | OK | |||||||||||||||||||||||||||||||||
127/2189 | BaseSpaceR 1.43.0 (landing page) | Jared O'Connell | WARNINGS | |||||||||||||||||||||||||||||||||
128/2189 | Basic4Cseq 1.35.0 (landing page) | Carolin Walter | OK | |||||||||||||||||||||||||||||||||
129/2189 | BASiCS 2.11.9 (landing page) | Catalina Vallejos | OK | |||||||||||||||||||||||||||||||||
130/2189 | BASiCStan 1.1.0 (landing page) | Alan O'Callaghan | OK | |||||||||||||||||||||||||||||||||
131/2189 | BasicSTARRseq 1.27.0 (landing page) | Annika Buerger | OK | |||||||||||||||||||||||||||||||||
132/2189 | basilisk 1.11.3 (landing page) | Aaron Lun | TIMEOUT | |||||||||||||||||||||||||||||||||
133/2189 | basilisk.utils 1.11.2 (landing page) | Aaron Lun | OK | |||||||||||||||||||||||||||||||||
134/2189 | batchelor 1.15.1 (landing page) | Aaron Lun | OK | |||||||||||||||||||||||||||||||||
135/2189 | BatchQC 1.27.0 (landing page) | Solaiappan Manimaran | OK | |||||||||||||||||||||||||||||||||
136/2189 | BayesKnockdown 1.25.0 (landing page) | William Chad Young | OK | |||||||||||||||||||||||||||||||||
137/2189 | BayesSpace 1.9.0 (landing page) | Matt Stone | OK | |||||||||||||||||||||||||||||||||
138/2189 | bayNorm 1.17.0 (landing page) | Wenhao Tang | OK | |||||||||||||||||||||||||||||||||
139/2189 | baySeq 2.33.0 (landing page) | Thomas J. Hardcastle | ERROR | |||||||||||||||||||||||||||||||||
140/2189 | BBCAnalyzer 1.29.0 (landing page) | Sarah Sandmann | WARNINGS | |||||||||||||||||||||||||||||||||
141/2189 | BCRANK 1.61.0 (landing page) | Adam Ameur | OK | |||||||||||||||||||||||||||||||||
142/2189 | bcSeq 1.21.0 (landing page) | Jiaxing Lin | WARNINGS | |||||||||||||||||||||||||||||||||
143/2189 | BDMMAcorrect 1.17.0 (landing page) | ZHENWEI DAI | OK | |||||||||||||||||||||||||||||||||
144/2189 | beachmat 2.15.0 (landing page) | Aaron Lun | OK | |||||||||||||||||||||||||||||||||
145/2189 | beadarray 2.49.0 (landing page) | Mark Dunning | OK | |||||||||||||||||||||||||||||||||
146/2189 | beadarraySNP 1.65.0 (landing page) | Jan Oosting | OK | |||||||||||||||||||||||||||||||||
147/2189 | BeadDataPackR 1.51.0 (landing page) | Mike Smith | OK | |||||||||||||||||||||||||||||||||
148/2189 | BEARscc 1.19.0 (landing page) | Benjamin Schuster-Boeckler | OK | |||||||||||||||||||||||||||||||||
149/2189 | BEAT 1.37.0 (landing page) | Kemal Akman | OK | |||||||||||||||||||||||||||||||||
150/2189 | BEclear 2.15.0 (landing page) | David Rasp | OK | |||||||||||||||||||||||||||||||||
151/2189 | beer 1.3.0 (landing page) | Athena Chen | OK | |||||||||||||||||||||||||||||||||
152/2189 | benchdamic 1.5.2 (landing page) | Matteo Calgaro | TIMEOUT | |||||||||||||||||||||||||||||||||
153/2189 | BG2 0.99.2 (landing page) | Jacob Williams | OK | |||||||||||||||||||||||||||||||||
154/2189 | BgeeCall 1.15.0 (landing page) | Julien Wollbrett | OK | |||||||||||||||||||||||||||||||||
155/2189 | BgeeDB 2.25.0 (landing page) | Julien Wollbrett | ERROR | |||||||||||||||||||||||||||||||||
156/2189 | BGmix 1.59.0 (landing page) | Alex Lewin | ERROR | |||||||||||||||||||||||||||||||||
157/2189 | bgx 1.65.1 (landing page) | Ernest Turro | ERROR | |||||||||||||||||||||||||||||||||
158/2189 | BHC 1.51.0 (landing page) | Rich Savage | ERROR | |||||||||||||||||||||||||||||||||
159/2189 | BicARE 1.57.0 (landing page) | Pierre Gestraud | OK | |||||||||||||||||||||||||||||||||
160/2189 | BiFET 1.19.0 (landing page) | Ahrim Youn | OK | |||||||||||||||||||||||||||||||||
161/2189 | BiGGR 1.35.0 (landing page) | Anand K. Gavai | OK | |||||||||||||||||||||||||||||||||
162/2189 | bigmelon 1.25.1 (landing page) | Tyler J. Gorrie-Stone | OK | |||||||||||||||||||||||||||||||||
163/2189 | bigPint 1.15.0 (landing page) | Lindsay Rutter | ERROR | |||||||||||||||||||||||||||||||||
164/2189 | BindingSiteFinder 1.5.0 (landing page) | Mirko Brüggemann | OK | |||||||||||||||||||||||||||||||||
165/2189 | bioassayR 1.37.0 (landing page) | Daniela Cassol | OK | |||||||||||||||||||||||||||||||||
166/2189 | Biobase 2.59.0 (landing page) | Bioconductor Package Maintainer | OK | |||||||||||||||||||||||||||||||||
167/2189 | biobroom 1.31.0 (landing page) | John D. Storey | WARNINGS | |||||||||||||||||||||||||||||||||
168/2189 | biobtreeR 1.11.0 (landing page) | Tamer Gur | OK | |||||||||||||||||||||||||||||||||
169/2189 | bioCancer 1.27.0 (landing page) | Karim Mezhoud | OK | |||||||||||||||||||||||||||||||||
170/2189 | BiocBaseUtils 1.1.0 (landing page) | Marcel Ramos | OK | |||||||||||||||||||||||||||||||||
171/2189 | BiocCheck 1.35.13 (landing page) | Marcel Ramos | OK | |||||||||||||||||||||||||||||||||
172/2189 | Bioconductor Package Maintainer | ERROR | ||||||||||||||||||||||||||||||||||
173/2189 | BiocFHIR 1.1.5 (landing page) | Vincent Carey | OK | |||||||||||||||||||||||||||||||||
174/2189 | BiocFileCache 2.7.2 (landing page) | Lori Shepherd | ERROR | |||||||||||||||||||||||||||||||||
175/2189 | BiocGenerics 0.45.2 (landing page) | Hervé Pagès | WARNINGS | |||||||||||||||||||||||||||||||||
176/2189 | biocGraph 1.61.0 (landing page) | Florian Hahne | OK | |||||||||||||||||||||||||||||||||
177/2189 | BiocHubsShiny 0.99.12 (landing page) | Marcel Ramos | OK | |||||||||||||||||||||||||||||||||
178/2189 | BiocIO 1.9.2 (landing page) | Marcel Ramos | OK | |||||||||||||||||||||||||||||||||
179/2189 | BiocNeighbors 1.17.1 (landing page) | Aaron Lun | WARNINGS | |||||||||||||||||||||||||||||||||
180/2189 | BiocOncoTK 1.19.3 (landing page) | VJ Carey | WARNINGS | |||||||||||||||||||||||||||||||||
181/2189 | BioCor 1.23.0 (landing page) | Lluís Revilla Sancho | OK | |||||||||||||||||||||||||||||||||
182/2189 | BiocParallel 1.33.10 (landing page) | Martin Morgan | OK | |||||||||||||||||||||||||||||||||
183/2189 | BiocPkgTools 1.17.10 (landing page) | Sean Davis | WARNINGS | |||||||||||||||||||||||||||||||||
184/2189 | BiocSet 1.13.1 (landing page) | Kayla Morrell | OK | |||||||||||||||||||||||||||||||||
185/2189 | BiocSingular 1.15.0 (landing page) | Aaron Lun | WARNINGS | |||||||||||||||||||||||||||||||||
186/2189 | BiocSklearn 1.21.1 (landing page) | Vince Carey | OK | |||||||||||||||||||||||||||||||||
187/2189 | BiocStyle 2.27.1 (landing page) | Bioconductor Package | OK | |||||||||||||||||||||||||||||||||
188/2189 | biocthis 1.9.3 (landing page) | Leonardo Collado-Torres | OK | |||||||||||||||||||||||||||||||||
189/2189 | BiocVersion 3.17.1 (landing page) | Bioconductor Package Maintainer | OK | |||||||||||||||||||||||||||||||||
190/2189 | biocViews 1.67.3 (landing page) | Bioconductor Package Maintainer | OK | |||||||||||||||||||||||||||||||||
191/2189 | BiocWorkflowTools 1.25.0 (landing page) | Mike Smith | OK | |||||||||||||||||||||||||||||||||
192/2189 | biodb 1.7.0 (landing page) | Pierrick Roger | WARNINGS | |||||||||||||||||||||||||||||||||
193/2189 | biodbChebi 1.5.0 (landing page) | Pierrick Roger | OK | |||||||||||||||||||||||||||||||||
194/2189 | biodbExpasy 1.3.0 (landing page) | Pierrick Roger | OK | |||||||||||||||||||||||||||||||||
195/2189 | biodbHmdb 1.5.0 (landing page) | Pierrick Roger | OK | |||||||||||||||||||||||||||||||||
196/2189 | biodbKegg 1.5.0 (landing page) | Pierrick Roger | ERROR | |||||||||||||||||||||||||||||||||
197/2189 | biodbLipidmaps 1.5.0 (landing page) | Pierrick Roger | OK | |||||||||||||||||||||||||||||||||
198/2189 | biodbMirbase 1.3.0 (landing page) | Pierrick Roger | OK | |||||||||||||||||||||||||||||||||
199/2189 | biodbNcbi 1.3.0 (landing page) | Pierrick Roger | OK | |||||||||||||||||||||||||||||||||
200/2189 | biodbNci 1.3.0 (landing page) | Pierrick Roger | OK | |||||||||||||||||||||||||||||||||
201/2189 | biodbUniprot 1.5.0 (landing page) | Pierrick Roger | OK | |||||||||||||||||||||||||||||||||
202/2189 | bioDist 1.71.0 (landing page) | Bioconductor Package Maintainer | OK | |||||||||||||||||||||||||||||||||
203/2189 | biomaRt 2.55.1 (landing page) | Mike Smith | OK | |||||||||||||||||||||||||||||||||
204/2189 | biomformat 1.27.0 (landing page) | Paul J. McMurdie | WARNINGS | |||||||||||||||||||||||||||||||||
205/2189 | BioMM 1.15.0 (landing page) | Junfang Chen | ERROR | |||||||||||||||||||||||||||||||||
206/2189 | BioMVCClass 1.67.0 (landing page) | Elizabeth Whalen | OK | |||||||||||||||||||||||||||||||||
207/2189 | biomvRCNS 1.39.0 (landing page) | Yang Du | ERROR | |||||||||||||||||||||||||||||||||
208/2189 | BioNAR 1.1.0 (landing page) | Anatoly Sorokin | OK | |||||||||||||||||||||||||||||||||
209/2189 | BioNERO 1.7.0 (landing page) | Fabricio Almeida-Silva | OK | |||||||||||||||||||||||||||||||||
210/2189 | BioNet 1.59.0 (landing page) | Marcus Dittrich | OK | |||||||||||||||||||||||||||||||||
211/2189 | BioNetStat 1.19.0 (landing page) | Vinicius Jardim | OK | |||||||||||||||||||||||||||||||||
212/2189 | BioQC 1.27.0 (landing page) | Jitao David Zhang | OK | |||||||||||||||||||||||||||||||||
213/2189 | biosigner 1.27.0 (landing page) | Etienne A. Thevenot | OK | |||||||||||||||||||||||||||||||||
214/2189 | Biostrings 2.67.0 (landing page) | H. Pagès | WARNINGS | |||||||||||||||||||||||||||||||||
215/2189 | BioTIP 1.13.0 (landing page) | Yuxi (Jennifer) Sun | WARNINGS | |||||||||||||||||||||||||||||||||
216/2189 | biotmle 1.23.0 (landing page) | Nima Hejazi | OK | |||||||||||||||||||||||||||||||||
217/2189 | biovizBase 1.47.0 (landing page) | Michael Lawrence | WARNINGS | |||||||||||||||||||||||||||||||||
218/2189 | BiRewire 3.31.0 (landing page) | Andrea Gobbi | WARNINGS | |||||||||||||||||||||||||||||||||
219/2189 | biscuiteer 1.13.1 (landing page) | Jacob Morrison | WARNINGS | |||||||||||||||||||||||||||||||||
220/2189 | BiSeq 1.39.0 (landing page) | Katja Hebestreit | OK | |||||||||||||||||||||||||||||||||
221/2189 | blacksheepr 1.13.0 (landing page) | RugglesLab | OK | |||||||||||||||||||||||||||||||||
222/2189 | blima 1.33.0 (landing page) | Vojtěch Kulvait | WARNINGS | |||||||||||||||||||||||||||||||||
223/2189 | BLMA 1.23.0 (landing page) | Hung Nguyen | OK | |||||||||||||||||||||||||||||||||
224/2189 | BloodGen3Module 1.7.0 (landing page) | Darawan Rinchai | WARNINGS | |||||||||||||||||||||||||||||||||
225/2189 | bluster 1.9.1 (landing page) | Aaron Lun | OK | |||||||||||||||||||||||||||||||||
226/2189 | bnbc 1.21.0 (landing page) | Kipper Fletez-Brant | WARNINGS | |||||||||||||||||||||||||||||||||
227/2189 | bnem 1.7.0 (landing page) | Martin Pirkl | OK | |||||||||||||||||||||||||||||||||
228/2189 | BOBaFIT 1.3.0 (landing page) | Gaia Mazzocchetti | WARNINGS | |||||||||||||||||||||||||||||||||
229/2189 | borealis 1.3.2 (landing page) | Garrett Jenkinson | OK | |||||||||||||||||||||||||||||||||
230/2189 | BPRMeth 1.25.0 (landing page) | Chantriolnt-Andreas Kapourani | OK | |||||||||||||||||||||||||||||||||
231/2189 | BRAIN 1.45.0 (landing page) | Piotr Dittwald | WARNINGS | |||||||||||||||||||||||||||||||||
232/2189 | brainflowprobes 1.13.0 (landing page) | Amanda Price | OK | |||||||||||||||||||||||||||||||||
233/2189 | branchpointer 1.25.0 (landing page) | Beth Signal | OK | |||||||||||||||||||||||||||||||||
234/2189 | breakpointR 1.17.0 (landing page) | David Porubsky | OK | |||||||||||||||||||||||||||||||||
235/2189 | brendaDb 1.13.0 (landing page) | Yi Zhou | OK | |||||||||||||||||||||||||||||||||
236/2189 | BRGenomics 1.11.0 (landing page) | Mike DeBerardine | WARNINGS | |||||||||||||||||||||||||||||||||
237/2189 | BridgeDbR 2.9.2 (landing page) | Egon Willighagen | OK | |||||||||||||||||||||||||||||||||
238/2189 | BrowserViz 2.21.0 (landing page) | Paul Shannon | OK | |||||||||||||||||||||||||||||||||
239/2189 | BSgenome 1.67.4 (landing page) | Hervé Pagès | WARNINGS | |||||||||||||||||||||||||||||||||
240/2189 | bsseq 1.35.0 (landing page) | Kasper Daniel Hansen | ERROR | |||||||||||||||||||||||||||||||||
241/2189 | BubbleTree 2.29.0 (landing page) | Todd Creasy | OK | |||||||||||||||||||||||||||||||||
242/2189 | BufferedMatrix 1.63.0 (landing page) | Ben Bolstad | WARNINGS | |||||||||||||||||||||||||||||||||
243/2189 | BufferedMatrixMethods 1.63.0 (landing page) | Ben Bolstad | OK | |||||||||||||||||||||||||||||||||
244/2189 | bugsigdbr 1.5.8 (landing page) | Ludwig Geistlinger | OK | |||||||||||||||||||||||||||||||||
245/2189 | BUMHMM 1.23.0 (landing page) | Alina Selega | OK | |||||||||||||||||||||||||||||||||
246/2189 | bumphunter 1.41.0 (landing page) | Tamilselvi Guharaj | OK | |||||||||||||||||||||||||||||||||
247/2189 | BumpyMatrix 1.7.0 (landing page) | Aaron Lun | OK | |||||||||||||||||||||||||||||||||
248/2189 | BUS 1.55.0 (landing page) | Yuanhua Liu | OK | |||||||||||||||||||||||||||||||||
249/2189 | BUScorrect 1.17.0 (landing page) | Xiangyu Luo | OK | |||||||||||||||||||||||||||||||||
250/2189 | BUSpaRse 1.13.0 (landing page) | Lambda Moses | OK | |||||||||||||||||||||||||||||||||
251/2189 | BUSseq 1.5.0 (landing page) | Fangda Song | OK | |||||||||||||||||||||||||||||||||
|
| |||||||||||||||||||||||||||||||||||
Package | Maintainer | INSTALL/BUILD/CHECK | ||||||||||||||||||||||||||||||||||
252/2189 | CAEN 1.7.0 (landing page) | Zhou Yan | OK | |||||||||||||||||||||||||||||||||
253/2189 | CAFE 1.35.0 (landing page) | Sander Bollen | WARNINGS | |||||||||||||||||||||||||||||||||
254/2189 | CAGEfightR 1.19.0 (landing page) | Malte Thodberg | OK | |||||||||||||||||||||||||||||||||
255/2189 | cageminer 1.5.0 (landing page) | Fabrício Almeida-Silva | OK | |||||||||||||||||||||||||||||||||
256/2189 | CAGEr 2.5.0 (landing page) | Charles Plessy | OK | |||||||||||||||||||||||||||||||||
257/2189 | calm 1.13.0 (landing page) | Kun Liang | OK | |||||||||||||||||||||||||||||||||
258/2189 | CAMERA 1.55.0 (landing page) | Steffen Neumann | OK | |||||||||||||||||||||||||||||||||
259/2189 | canceR 1.33.0 (landing page) | Karim Mezhoud | OK | |||||||||||||||||||||||||||||||||
260/2189 | cancerclass 1.43.0 (landing page) | Daniel Kosztyla | WARNINGS | |||||||||||||||||||||||||||||||||
261/2189 | CancerInSilico 2.19.0 (landing page) | Thomas D. Sherman | ERROR | |||||||||||||||||||||||||||||||||
262/2189 | CancerSubtypes 1.25.0 (landing page) | Taosheng Xu | WARNINGS | |||||||||||||||||||||||||||||||||
263/2189 | cardelino 1.1.1 (landing page) | Davis McCarthy | OK | |||||||||||||||||||||||||||||||||
264/2189 | Cardinal 3.1.0 (landing page) | Kylie A. Bemis | WARNINGS | |||||||||||||||||||||||||||||||||
265/2189 | CARNIVAL 2.9.0 (landing page) | Attila Gabor | OK | |||||||||||||||||||||||||||||||||
266/2189 | casper 2.33.0 (landing page) | David Rossell | ERROR | |||||||||||||||||||||||||||||||||
267/2189 | CATALYST 1.23.5 (landing page) | Helena L. Crowell | OK | |||||||||||||||||||||||||||||||||
268/2189 | Category 2.65.0 (landing page) | Bioconductor Package Maintainer | OK | |||||||||||||||||||||||||||||||||
269/2189 | categoryCompare 1.43.0 (landing page) | Robert M. Flight | OK | |||||||||||||||||||||||||||||||||
270/2189 | CausalR 1.31.0 (landing page) | Glyn Bradley | OK | |||||||||||||||||||||||||||||||||
271/2189 | cbaf 1.21.0 (landing page) | Arman Shahrisa | OK | |||||||||||||||||||||||||||||||||
272/2189 | CBEA 1.3.0 (landing page) | Quang Nguyen | OK | |||||||||||||||||||||||||||||||||
273/2189 | cBioPortalData 2.11.5 (landing page) | Marcel Ramos | OK | |||||||||||||||||||||||||||||||||
274/2189 | cbpManager 1.7.0 (landing page) | Arsenij Ustjanzew | WARNINGS | |||||||||||||||||||||||||||||||||
275/2189 | ccfindR 1.19.0 (landing page) | Jun Woo | OK | |||||||||||||||||||||||||||||||||
276/2189 | ccImpute 1.1.0 (landing page) | Marcin Malec | OK | |||||||||||||||||||||||||||||||||
277/2189 | ccmap 1.25.0 (landing page) | Alex Pickering | WARNINGS | |||||||||||||||||||||||||||||||||
278/2189 | CCPROMISE 1.25.0 (landing page) | Xueyuan Cao | WARNINGS | |||||||||||||||||||||||||||||||||
279/2189 | ccrepe 1.35.0 (landing page) | Emma Schwager | OK | |||||||||||||||||||||||||||||||||
280/2189 | celaref 1.17.0 (landing page) | Sarah Williams | OK | |||||||||||||||||||||||||||||||||
281/2189 | celda 1.15.0 (landing page) | Joshua Campbell | ERROR | |||||||||||||||||||||||||||||||||
282/2189 | CellaRepertorium 1.9.0 (landing page) | Andrew McDavid | WARNINGS | |||||||||||||||||||||||||||||||||
283/2189 | CellBarcode 1.5.0 (landing page) | Wenjie Sun | OK | |||||||||||||||||||||||||||||||||
284/2189 | cellbaseR 1.23.0 (landing page) | Mohammed OE Abdallah | OK | |||||||||||||||||||||||||||||||||
285/2189 | CellBench 1.15.6 (landing page) | Shian Su | OK | |||||||||||||||||||||||||||||||||
286/2189 | cellHTS2 2.63.0 (landing page) | Joseph Barry | OK | |||||||||||||||||||||||||||||||||
287/2189 | CelliD 1.7.0 (landing page) | Akira Cortal | ERROR | |||||||||||||||||||||||||||||||||
288/2189 | cellity 1.27.0 (landing page) | Tomislav Ilicic | OK | |||||||||||||||||||||||||||||||||
289/2189 | CellMapper 1.25.0 (landing page) | Brad Nelms | WARNINGS | |||||||||||||||||||||||||||||||||
290/2189 | cellmigRation 1.7.0 (landing page) | Waldir Leoncio | OK | |||||||||||||||||||||||||||||||||
291/2189 | CellMixS 1.15.0 (landing page) | Almut Lütge | OK | |||||||||||||||||||||||||||||||||
292/2189 | CellNOptR 1.45.0 (landing page) | Attila Gabor | OK | |||||||||||||||||||||||||||||||||
293/2189 | cellscape 1.23.0 (landing page) | Maia Smith | WARNINGS | |||||||||||||||||||||||||||||||||
294/2189 | CellScore 1.19.0 (landing page) | Nancy Mah | OK | |||||||||||||||||||||||||||||||||
295/2189 | CellTrails 1.17.0 (landing page) | Daniel Ellwanger | OK | |||||||||||||||||||||||||||||||||
296/2189 | cellxgenedp 1.3.3 (landing page) | Martin Morgan | ERROR | |||||||||||||||||||||||||||||||||
297/2189 | CEMiTool 1.23.0 (landing page) | Helder Nakaya | OK | |||||||||||||||||||||||||||||||||
298/2189 | censcyt 1.7.1 (landing page) | Reto Gerber | OK | |||||||||||||||||||||||||||||||||
299/2189 | Cepo 1.5.0 (landing page) | Hani Jieun Kim | WARNINGS | |||||||||||||||||||||||||||||||||
300/2189 | ceRNAnetsim 1.11.0 (landing page) | Selcen Ari Yuka | OK | |||||||||||||||||||||||||||||||||
301/2189 | CeTF 1.11.2 (landing page) | Carlos Alberto Oliveira de Biagi Junior | OK | |||||||||||||||||||||||||||||||||
302/2189 | CexoR 1.37.0 (landing page) | Pedro Madrigal | OK | |||||||||||||||||||||||||||||||||
303/2189 | CFAssay 1.33.0 (landing page) | Herbert Braselmann | OK | |||||||||||||||||||||||||||||||||
304/2189 | cfDNAPro 1.5.4 (landing page) | Haichao Wang | WARNINGS | |||||||||||||||||||||||||||||||||
305/2189 | CGEN 3.35.0 (landing page) | Justin Lee | OK | |||||||||||||||||||||||||||||||||
306/2189 | CGHbase 1.59.0 (landing page) | Mark van de Wiel | OK | |||||||||||||||||||||||||||||||||
307/2189 | CGHcall 2.61.0 (landing page) | Mark van de Wiel | WARNINGS | |||||||||||||||||||||||||||||||||
308/2189 | cghMCR 1.57.0 (landing page) | J. Zhang | WARNINGS | |||||||||||||||||||||||||||||||||
309/2189 | CGHnormaliter 1.53.0 (landing page) | Bart P.P. van Houte | OK | |||||||||||||||||||||||||||||||||
310/2189 | CGHregions 1.57.0 (landing page) | Sjoerd Vosse | OK | |||||||||||||||||||||||||||||||||
311/2189 | ChAMP 2.29.0 (landing page) | Yuan Tian | WARNINGS | |||||||||||||||||||||||||||||||||
312/2189 | ChemmineOB 1.37.0 (landing page) | Thomas Girke | WARNINGS | |||||||||||||||||||||||||||||||||
313/2189 | ChemmineR 3.51.1 (landing page) | Thomas Girke | ERROR | |||||||||||||||||||||||||||||||||
314/2189 | CHETAH 1.15.0 (landing page) | Jurrian de Kanter | OK | |||||||||||||||||||||||||||||||||
315/2189 | ChIC 1.19.0 (landing page) | Carmen Maria Livi | ERROR | |||||||||||||||||||||||||||||||||
316/2189 | Chicago 1.27.0 (landing page) | Mikhail Spivakov | OK | |||||||||||||||||||||||||||||||||
317/2189 | chihaya 0.99.2 (landing page) | Aaron Lun | ERROR | |||||||||||||||||||||||||||||||||
318/2189 | chimeraviz 1.25.0 (landing page) | Stian Lågstad | OK | |||||||||||||||||||||||||||||||||
319/2189 | ChIPanalyser 1.21.0 (landing page) | Patrick C.N. Martin | OK | |||||||||||||||||||||||||||||||||
320/2189 | ChIPComp 1.29.0 (landing page) | Li Chen | OK | |||||||||||||||||||||||||||||||||
321/2189 | chipenrich 2.23.0 (landing page) | Raymond G. Cavalcante | OK | |||||||||||||||||||||||||||||||||
322/2189 | ChIPexoQual 1.23.0 (landing page) | Rene Welch | OK | |||||||||||||||||||||||||||||||||
323/2189 | ChIPpeakAnno 3.33.2 (landing page) | Jianhong Ou | OK | |||||||||||||||||||||||||||||||||
324/2189 | ChIPQC 1.35.1 (landing page) | Tom Carroll | ERROR | |||||||||||||||||||||||||||||||||
325/2189 | ChIPseeker 1.35.1 (landing page) | Guangchuang Yu | TIMEOUT | |||||||||||||||||||||||||||||||||
326/2189 | chipseq 1.49.0 (landing page) | Bioconductor Package Maintainer | WARNINGS | |||||||||||||||||||||||||||||||||
327/2189 | ChIPseqR 1.53.0 (landing page) | Peter Humburg | OK | |||||||||||||||||||||||||||||||||
328/2189 | ChIPsim 1.53.0 (landing page) | Peter Humburg | OK | |||||||||||||||||||||||||||||||||
329/2189 | ChIPXpress 1.43.0 (landing page) | George Wu | OK | |||||||||||||||||||||||||||||||||
330/2189 | chopsticks 1.65.0 (landing page) | Hin-Tak Leung | WARNINGS | |||||||||||||||||||||||||||||||||
331/2189 | chromDraw 2.29.0 (landing page) | Jan Janecka | WARNINGS | |||||||||||||||||||||||||||||||||
332/2189 | ChromHeatMap 1.53.0 (landing page) | Tim F. Rayner | OK | |||||||||||||||||||||||||||||||||
333/2189 | chromPlot 1.27.0 (landing page) | Karen Y. Orostica | WARNINGS | |||||||||||||||||||||||||||||||||
334/2189 | ChromSCape 1.9.0 (landing page) | Pacome Prompsy | WARNINGS | |||||||||||||||||||||||||||||||||
335/2189 | chromstaR 1.25.0 (landing page) | Aaron Taudt | ERROR | |||||||||||||||||||||||||||||||||
336/2189 | chromswitch 1.21.0 (landing page) | Selin Jessa | OK | |||||||||||||||||||||||||||||||||
337/2189 | chromVAR 1.21.0 (landing page) | Alicia Schep | OK | |||||||||||||||||||||||||||||||||
338/2189 | CHRONOS 1.27.0 (landing page) | Panos Balomenos | OK | |||||||||||||||||||||||||||||||||
339/2189 | cicero 1.17.2 (landing page) | Hannah Pliner | OK | |||||||||||||||||||||||||||||||||
340/2189 | CIMICE 1.7.0 (landing page) | Nicolò Rossi | OK | |||||||||||||||||||||||||||||||||
341/2189 | CINdex 1.27.0 (landing page) | Yuriy Gusev | WARNINGS | |||||||||||||||||||||||||||||||||
342/2189 | circRNAprofiler 1.13.7 (landing page) | Simona Aufiero | ERROR | |||||||||||||||||||||||||||||||||
343/2189 | CircSeqAlignTk 1.1.0 (landing page) | Jianqiang Sun | ERROR | |||||||||||||||||||||||||||||||||
344/2189 | cisPath 1.39.0 (landing page) | Likun Wang | WARNINGS | |||||||||||||||||||||||||||||||||
345/2189 | CiteFuse 1.11.2 (landing page) | Yingxin Lin | OK | |||||||||||||||||||||||||||||||||
346/2189 | ClassifyR 3.3.16 (landing page) | Dario Strbenac | TIMEOUT | |||||||||||||||||||||||||||||||||
347/2189 | cleanUpdTSeq 1.37.0 (landing page) | Jianhong Ou | OK | |||||||||||||||||||||||||||||||||
348/2189 | cleaver 1.37.0 (landing page) | Sebastian Gibb | OK | |||||||||||||||||||||||||||||||||
349/2189 | clevRvis 0.99.5 (landing page) | Sarah Sandmann | OK | |||||||||||||||||||||||||||||||||
350/2189 | clippda 1.49.0 (landing page) | Stephen Nyangoma | OK | |||||||||||||||||||||||||||||||||
351/2189 | clipper 1.39.0 (landing page) | Paolo Martini | OK | |||||||||||||||||||||||||||||||||
352/2189 | cliProfiler 1.5.0 (landing page) | You Zhou | OK | |||||||||||||||||||||||||||||||||
353/2189 | cliqueMS 1.13.0 (landing page) | Oriol Senan Campos | ERROR | |||||||||||||||||||||||||||||||||
354/2189 | Clomial 1.35.0 (landing page) | Habil Zare | OK | |||||||||||||||||||||||||||||||||
355/2189 | Clonality 1.47.0 (landing page) | Irina Ostrovnaya | ERROR | |||||||||||||||||||||||||||||||||
356/2189 | clst 1.47.0 (landing page) | Noah Hoffman | WARNINGS | |||||||||||||||||||||||||||||||||
357/2189 | clstutils 1.47.0 (landing page) | Noah Hoffman | WARNINGS | |||||||||||||||||||||||||||||||||
358/2189 | CluMSID 1.15.0 (landing page) | Tobias Depke | WARNINGS | |||||||||||||||||||||||||||||||||
359/2189 | clustComp 1.27.0 (landing page) | Aurora Torrente | OK | |||||||||||||||||||||||||||||||||
360/2189 | clusterExperiment 2.19.0 (landing page) | Elizabeth Purdom | TIMEOUT | |||||||||||||||||||||||||||||||||
361/2189 | ClusterJudge 1.21.0 (landing page) | Adrian Pasculescu | OK | |||||||||||||||||||||||||||||||||
362/2189 | clusterProfiler 4.7.1 (landing page) | Guangchuang Yu | OK | |||||||||||||||||||||||||||||||||
363/2189 | clusterSeq 1.23.0 (landing page) | Thomas J. Hardcastle | OK | |||||||||||||||||||||||||||||||||
364/2189 | ClusterSignificance 1.27.0 (landing page) | Jason T Serviss | OK | |||||||||||||||||||||||||||||||||
365/2189 | clusterStab 1.71.0 (landing page) | James W. MacDonald | OK | |||||||||||||||||||||||||||||||||
366/2189 | clustifyr 1.11.1 (landing page) | Kent Riemondy | OK | |||||||||||||||||||||||||||||||||
367/2189 | CMA 1.57.0 (landing page) | Roman Hornung | OK | |||||||||||||||||||||||||||||||||
368/2189 | cmapR 1.11.0 (landing page) | Ted Natoli | OK | |||||||||||||||||||||||||||||||||
369/2189 | cn.farms 1.47.0 (landing page) | Andreas Mitterecker | OK | |||||||||||||||||||||||||||||||||
370/2189 | cn.mops 1.45.0 (landing page) | Gundula Povysil | OK | |||||||||||||||||||||||||||||||||
371/2189 | CNAnorm 1.45.0 (landing page) | Stefano Berri | OK | |||||||||||||||||||||||||||||||||
372/2189 | CNEr 1.35.0 (landing page) | Ge Tan | WARNINGS | |||||||||||||||||||||||||||||||||
373/2189 | CNORdt 1.41.0 (landing page) | A. MacNamara | OK | |||||||||||||||||||||||||||||||||
374/2189 | CNORfeeder 1.39.2 (landing page) | Attila Gabor | WARNINGS | |||||||||||||||||||||||||||||||||
375/2189 | CNORfuzzy 1.41.0 (landing page) | T. Cokelaer | OK | |||||||||||||||||||||||||||||||||
376/2189 | CNORode 1.41.0 (landing page) | Attila Gabor | WARNINGS | |||||||||||||||||||||||||||||||||
377/2189 | CNTools 1.55.0 (landing page) | J. Zhang | OK | |||||||||||||||||||||||||||||||||
378/2189 | CNVfilteR 1.13.2 (landing page) | Jose Marcos Moreno-Cabrera | OK | |||||||||||||||||||||||||||||||||
379/2189 | CNVgears 1.7.0 (landing page) | Simone Montalbano | OK | |||||||||||||||||||||||||||||||||
380/2189 | cnvGSA 1.43.0 (landing page) | Joseph Lugo | OK | |||||||||||||||||||||||||||||||||
381/2189 | CNViz 1.7.0 (landing page) | Rebecca Greenblatt | OK | |||||||||||||||||||||||||||||||||
382/2189 | CNVMetrics 1.3.0 (landing page) | Astrid Deschênes | OK | |||||||||||||||||||||||||||||||||
383/2189 | CNVPanelizer 1.31.0 (landing page) | Thomas Wolf | OK | |||||||||||||||||||||||||||||||||
384/2189 | CNVRanger 1.15.1 (landing page) | Ludwig Geistlinger | OK | |||||||||||||||||||||||||||||||||
385/2189 | CNVrd2 1.37.0 (landing page) | Hoang Tan Nguyen | OK | |||||||||||||||||||||||||||||||||
386/2189 | CoCiteStats 1.71.0 (landing page) | Bioconductor Package Maintainer | OK | |||||||||||||||||||||||||||||||||
387/2189 | COCOA 2.13.0 (landing page) | John Lawson | OK | |||||||||||||||||||||||||||||||||
388/2189 | codelink 1.67.0 (landing page) | Diego Diez | OK | |||||||||||||||||||||||||||||||||
389/2189 | CODEX 1.31.0 (landing page) | Yuchao Jiang | OK | |||||||||||||||||||||||||||||||||
390/2189 | CoGAPS 3.19.1 (landing page) | Elana J. Fertig | ERROR | |||||||||||||||||||||||||||||||||
391/2189 | cogena 1.33.0 (landing page) | Zhilong Jia | WARNINGS | |||||||||||||||||||||||||||||||||
392/2189 | cogeqc 1.3.1 (landing page) | Fabrício Almeida-Silva | OK | |||||||||||||||||||||||||||||||||
393/2189 | Cogito 1.5.0 (landing page) | Annika Bürger | OK | |||||||||||||||||||||||||||||||||
394/2189 | coGPS 1.43.0 (landing page) | Yingying Wei | OK | |||||||||||||||||||||||||||||||||
395/2189 | COHCAP 1.45.0 (landing page) | Charles Warden | OK | |||||||||||||||||||||||||||||||||
396/2189 | cola 2.5.0 (landing page) | Zuguang Gu | OK | |||||||||||||||||||||||||||||||||
397/2189 | comapr 1.3.0 (landing page) | Ruqian Lyu | OK | |||||||||||||||||||||||||||||||||
398/2189 | combi 1.11.0 (landing page) | Stijn Hawinkel | OK | |||||||||||||||||||||||||||||||||
399/2189 | coMET 1.31.0 (landing page) | Tiphaine Martin | OK | |||||||||||||||||||||||||||||||||
400/2189 | coMethDMR 1.3.0 (landing page) | Fernanda Veitzman | OK | |||||||||||||||||||||||||||||||||
401/2189 | compartmap 1.17.0 (landing page) | Benjamin Johnson | OK | |||||||||||||||||||||||||||||||||
402/2189 | COMPASS 1.37.0 (landing page) | Greg Finak | ERROR | |||||||||||||||||||||||||||||||||
403/2189 | compcodeR 1.35.1 (landing page) | Charlotte Soneson | OK | |||||||||||||||||||||||||||||||||
404/2189 | compEpiTools 1.33.0 (landing page) | Kamal Kishore | WARNINGS | |||||||||||||||||||||||||||||||||
405/2189 | ComplexHeatmap 2.15.0 (landing page) | Zuguang Gu | WARNINGS | |||||||||||||||||||||||||||||||||
406/2189 | CompoundDb 1.3.3 (landing page) | Johannes Rainer | OK | |||||||||||||||||||||||||||||||||
407/2189 | ComPrAn 1.7.0 (landing page) | Petra Palenikova | OK | |||||||||||||||||||||||||||||||||
408/2189 | condiments 1.7.0 (landing page) | Hector Roux de Bezieux | OK | |||||||||||||||||||||||||||||||||
409/2189 | CONFESS 1.27.0 (landing page) | Diana LOW | WARNINGS | |||||||||||||||||||||||||||||||||
410/2189 | consensus 1.17.0 (landing page) | Tim Peters | OK | |||||||||||||||||||||||||||||||||
411/2189 | ConsensusClusterPlus 1.63.0 (landing page) | Matt Wilkerson | OK | |||||||||||||||||||||||||||||||||
412/2189 | consensusDE 1.17.0 (landing page) | Ashley J. Waardenberg | OK | |||||||||||||||||||||||||||||||||
413/2189 | consensusOV 1.21.0 (landing page) | Benjamin Haibe-Kains | OK | |||||||||||||||||||||||||||||||||
414/2189 | consensusSeekeR 1.27.0 (landing page) | Astrid Deschenes | OK | |||||||||||||||||||||||||||||||||
415/2189 | consICA 1.1.0 (landing page) | Petr V. Nazarov | OK | |||||||||||||||||||||||||||||||||
416/2189 | CONSTANd 1.7.0 (landing page) | Dirk Valkenborg | OK | |||||||||||||||||||||||||||||||||
417/2189 | contiBAIT 1.27.0 (landing page) | Kieran O'Neill | WARNINGS | |||||||||||||||||||||||||||||||||
418/2189 | conumee 1.33.0 (landing page) | Volker Hovestadt | TIMEOUT | |||||||||||||||||||||||||||||||||
419/2189 | convert 1.75.0 (landing page) | Yee Hwa (Jean) Yang | OK | |||||||||||||||||||||||||||||||||
420/2189 | copa 1.67.0 (landing page) | James W. MacDonald | OK | |||||||||||||||||||||||||||||||||
421/2189 | Gro Nilsen | ERROR | ||||||||||||||||||||||||||||||||||
422/2189 | CopyNumberPlots 1.15.0 (landing page) | Bernat Gel | OK | |||||||||||||||||||||||||||||||||
423/2189 | CopywriteR 2.31.0 (landing page) | Oscar Krijgsman | ERROR | |||||||||||||||||||||||||||||||||
424/2189 | coRdon 1.17.0 (landing page) | Anamaria Elek | OK | |||||||||||||||||||||||||||||||||
425/2189 | CoRegNet 1.37.0 (landing page) | Remy Nicolle | WARNINGS | |||||||||||||||||||||||||||||||||
426/2189 | CoreGx 2.3.4 (landing page) | Benjamin Haibe-Kains | WARNINGS | |||||||||||||||||||||||||||||||||
427/2189 | Cormotif 1.45.0 (landing page) | Yingying Wei | OK | |||||||||||||||||||||||||||||||||
428/2189 | corral 1.9.1 (landing page) | Lauren Hsu | OK | |||||||||||||||||||||||||||||||||
429/2189 | CORREP 1.65.0 (landing page) | Dongxiao Zhu | OK | |||||||||||||||||||||||||||||||||
430/2189 | coseq 1.23.0 (landing page) | Andrea Rau | OK | |||||||||||||||||||||||||||||||||
431/2189 | cosmiq 1.33.0 (landing page) | David Fischer | OK | |||||||||||||||||||||||||||||||||
432/2189 | cosmosR 1.7.0 (landing page) | Attila Gabor | OK | |||||||||||||||||||||||||||||||||
433/2189 | COSNet 1.33.0 (landing page) | Marco Frasca | WARNINGS | |||||||||||||||||||||||||||||||||
434/2189 | COTAN 1.3.0 (landing page) | Galfrè Silvia Giulia | OK | |||||||||||||||||||||||||||||||||
435/2189 | countsimQC 1.17.1 (landing page) | Charlotte Soneson | ERROR | |||||||||||||||||||||||||||||||||
436/2189 | covEB 1.25.0 (landing page) | C. Pacini | OK | |||||||||||||||||||||||||||||||||
437/2189 | CoverageView 1.37.0 (landing page) | Ernesto Lowy | WARNINGS | |||||||||||||||||||||||||||||||||
438/2189 | covRNA 1.25.0 (landing page) | Lara Urban | OK | |||||||||||||||||||||||||||||||||
439/2189 | cpvSNP 1.31.0 (landing page) | Caitlin McHugh | OK | |||||||||||||||||||||||||||||||||
440/2189 | cqn 1.45.0 (landing page) | Kasper Daniel Hansen | OK | |||||||||||||||||||||||||||||||||
441/2189 | CRImage 1.47.0 (landing page) | Henrik Failmezger | OK | |||||||||||||||||||||||||||||||||
442/2189 | crisprBase 1.3.1 (landing page) | Jean-Philippe Fortin | OK | |||||||||||||||||||||||||||||||||
443/2189 | crisprBowtie 1.3.4 (landing page) | Jean-Philippe Fortin | OK | |||||||||||||||||||||||||||||||||
444/2189 | crisprBwa 1.3.1 (landing page) | Jean-Philippe Fortin | OK | |||||||||||||||||||||||||||||||||
445/2189 | crisprDesign 1.1.24 (landing page) | Jean-Philippe Fortin | OK | |||||||||||||||||||||||||||||||||
446/2189 | crisprScore 1.3.1 (landing page) | Jean-Philippe Fortin | OK | |||||||||||||||||||||||||||||||||
447/2189 | CRISPRseek 1.39.0 (landing page) | Lihua Julie Zhu | TIMEOUT | |||||||||||||||||||||||||||||||||
448/2189 | crisprseekplus 1.25.0 (landing page) | Alper Kucukural | OK | |||||||||||||||||||||||||||||||||
449/2189 | CrispRVariants 1.27.0 (landing page) | Helen Lindsay | WARNINGS | |||||||||||||||||||||||||||||||||
450/2189 | crisprVerse 1.1.2 (landing page) | Jean-Philippe Fortin | OK | |||||||||||||||||||||||||||||||||
451/2189 | crisprViz 1.1.3 (landing page) | Jean-Philippe Fortin | OK | |||||||||||||||||||||||||||||||||
452/2189 | crlmm 1.57.0 (landing page) | Benilton S Carvalho | WARNINGS | |||||||||||||||||||||||||||||||||
453/2189 | crossmeta 1.25.0 (landing page) | Alex Pickering | ERROR | |||||||||||||||||||||||||||||||||
454/2189 | CSAR 1.51.0 (landing page) | Jose M Muino | OK | |||||||||||||||||||||||||||||||||
455/2189 | csaw 1.33.1 (landing page) | Aaron Lun | WARNINGS | |||||||||||||||||||||||||||||||||
456/2189 | csdR 1.5.1 (landing page) | Jakob Peder Pettersen | ERROR | |||||||||||||||||||||||||||||||||
457/2189 | CSSP 1.37.0 (landing page) | Chandler Zuo | OK | |||||||||||||||||||||||||||||||||
458/2189 | CSSQ 1.11.0 (landing page) | Fan Lab at Georgia Institute of Technology | OK | |||||||||||||||||||||||||||||||||
459/2189 | ctc 1.73.0 (landing page) | Antoine Lucas | OK | |||||||||||||||||||||||||||||||||
460/2189 | CTDquerier 2.7.0 (landing page) | Xavier Escribà-Montagut | TIMEOUT | |||||||||||||||||||||||||||||||||
461/2189 | cTRAP 1.17.0 (landing page) | Nuno Saraiva-Agostinho | WARNINGS | |||||||||||||||||||||||||||||||||
462/2189 | ctsGE 1.25.0 (landing page) | Michal Sharabi-Schwager | OK | |||||||||||||||||||||||||||||||||
463/2189 | CTSV 1.1.0 (landing page) | Jinge Yu Developer | OK | |||||||||||||||||||||||||||||||||
464/2189 | cummeRbund 2.41.0 (landing page) | Loyal A. Goff | WARNINGS | |||||||||||||||||||||||||||||||||
465/2189 | customCMPdb 1.9.0 (landing page) | Yuzhu Duan | OK | |||||||||||||||||||||||||||||||||
466/2189 | customProDB 1.39.0 (landing page) | Xiaojing Wang | OK | |||||||||||||||||||||||||||||||||
467/2189 | cyanoFilter 1.7.0 (landing page) | Oluwafemi Olusoji | OK | |||||||||||||||||||||||||||||||||
468/2189 | cycle 1.53.0 (landing page) | Matthias Futschik | OK | |||||||||||||||||||||||||||||||||
469/2189 | cydar 1.23.0 (landing page) | Aaron Lun | OK | |||||||||||||||||||||||||||||||||
470/2189 | CytoDx 1.19.0 (landing page) | Zicheng Hu | OK | |||||||||||||||||||||||||||||||||
471/2189 | CyTOFpower 1.5.0 (landing page) | Anne-Maud Ferreira | OK | |||||||||||||||||||||||||||||||||
472/2189 | CytoGLMM 1.7.0 (landing page) | Christof Seiler | OK | |||||||||||||||||||||||||||||||||
473/2189 | cytoKernel 1.5.0 (landing page) | Tusharkanti Ghosh | OK | |||||||||||||||||||||||||||||||||
474/2189 | cytolib 2.11.1 (landing page) | Mike Jiang | WARNINGS | |||||||||||||||||||||||||||||||||
475/2189 | cytomapper 1.11.1 (landing page) | Nils Eling | TIMEOUT | |||||||||||||||||||||||||||||||||
476/2189 | cytoMEM 1.3.0 (landing page) | Jonathan Irish | OK | |||||||||||||||||||||||||||||||||
477/2189 | CytoML 2.11.0 (landing page) | Mike Jiang | WARNINGS | |||||||||||||||||||||||||||||||||
478/2189 | CytoPipeline 0.99.6 (landing page) | Philippe Hauchamps | OK | |||||||||||||||||||||||||||||||||
|
| |||||||||||||||||||||||||||||||||||
Package | Maintainer | INSTALL/BUILD/CHECK | ||||||||||||||||||||||||||||||||||
479/2189 | dada2 1.27.0 (landing page) | Benjamin Callahan | OK | |||||||||||||||||||||||||||||||||
480/2189 | dagLogo 1.37.0 (landing page) | Jianhong Ou | OK | |||||||||||||||||||||||||||||||||
481/2189 | daMA 1.71.0 (landing page) | Jobst Landgrebe | OK | |||||||||||||||||||||||||||||||||
482/2189 | DAMEfinder 1.11.1 (landing page) | Stephany Orjuela | OK | |||||||||||||||||||||||||||||||||
483/2189 | DaMiRseq 2.11.0 (landing page) | Mattia Chiesa | OK | |||||||||||||||||||||||||||||||||
484/2189 | DAPAR 1.31.5 (landing page) | Samuel Wieczorek | ERROR | |||||||||||||||||||||||||||||||||
485/2189 | DART 1.47.0 (landing page) | Charles Shijie Zheng | OK | |||||||||||||||||||||||||||||||||
486/2189 | dasper 1.9.0 (landing page) | David Zhang | ERROR | |||||||||||||||||||||||||||||||||
487/2189 | dcanr 1.15.0 (landing page) | Dharmesh D. Bhuva | OK | |||||||||||||||||||||||||||||||||
488/2189 | dce 1.7.0 (landing page) | Kim Philipp Jablonski | ERROR | |||||||||||||||||||||||||||||||||
489/2189 | dcGSA 1.27.0 (landing page) | Jiehuan sun | WARNINGS | |||||||||||||||||||||||||||||||||
490/2189 | ddCt 1.55.0 (landing page) | Jitao David Zhang | WARNINGS | |||||||||||||||||||||||||||||||||
491/2189 | ddPCRclust 1.19.0 (landing page) | Benedikt G. Brink | ERROR | |||||||||||||||||||||||||||||||||
492/2189 | dearseq 1.11.1 (landing page) | Boris P. Hejblum | ERROR | |||||||||||||||||||||||||||||||||
493/2189 | debCAM 1.17.0 (landing page) | Lulu Chen | ERROR | |||||||||||||||||||||||||||||||||
494/2189 | debrowser 1.27.3 (landing page) | Alper Kucukural | OK | |||||||||||||||||||||||||||||||||
495/2189 | DECIPHER 2.27.0 (landing page) | Erik Wright | OK | |||||||||||||||||||||||||||||||||
496/2189 | deco 1.15.0 (landing page) | Francisco Jose Campos Laborie | ERROR | |||||||||||||||||||||||||||||||||
497/2189 | decompTumor2Sig 2.15.0 (landing page) | Rosario M. Piro | OK | |||||||||||||||||||||||||||||||||
498/2189 | DeconRNASeq 1.41.0 (landing page) | Ting Gong | OK | |||||||||||||||||||||||||||||||||
499/2189 | decontam 1.19.0 (landing page) | Benjamin Callahan | OK | |||||||||||||||||||||||||||||||||
500/2189 | deconvR 1.5.0 (landing page) | İrem B. Gündüz | OK | |||||||||||||||||||||||||||||||||
501/2189 | decoupleR 2.5.0 (landing page) | Pau Badia-i-Mompel | ERROR | |||||||||||||||||||||||||||||||||
502/2189 | DeepBlueR 1.25.1 (landing page) | Felipe Albrecht | OK | |||||||||||||||||||||||||||||||||
503/2189 | DeepPINCS 1.7.0 (landing page) | Dongmin Jung | OK | |||||||||||||||||||||||||||||||||
504/2189 | deepSNV 1.45.0 (landing page) | Moritz Gerstung | WARNINGS | |||||||||||||||||||||||||||||||||
505/2189 | DEFormats 1.27.0 (landing page) | Andrzej Oleś | ERROR | |||||||||||||||||||||||||||||||||
506/2189 | DegNorm 1.9.0 (landing page) | Ji-Ping Wang | OK | |||||||||||||||||||||||||||||||||
507/2189 | DEGraph 1.51.0 (landing page) | Laurent Jacob | OK | |||||||||||||||||||||||||||||||||
508/2189 | DEGreport 1.35.0 (landing page) | Lorena Pantano | WARNINGS | |||||||||||||||||||||||||||||||||
509/2189 | DEGseq 1.53.0 (landing page) | Likun Wang | WARNINGS | |||||||||||||||||||||||||||||||||
510/2189 | DelayedArray 0.25.0 (landing page) | Hervé Pagès | WARNINGS | |||||||||||||||||||||||||||||||||
511/2189 | DelayedDataFrame 1.15.0 (landing page) | Qian Liu | OK | |||||||||||||||||||||||||||||||||
512/2189 | DelayedMatrixStats 1.21.0 (landing page) | Peter Hickey | OK | |||||||||||||||||||||||||||||||||
513/2189 | DelayedRandomArray 1.7.0 (landing page) | Aaron Lun | OK | |||||||||||||||||||||||||||||||||
514/2189 | DelayedTensor 1.5.0 (landing page) | Koki Tsuyuzaki | WARNINGS | |||||||||||||||||||||||||||||||||
515/2189 | deltaCaptureC 1.13.0 (landing page) | Michael Shapiro | OK | |||||||||||||||||||||||||||||||||
516/2189 | deltaGseg 1.39.0 (landing page) | Diana Low | WARNINGS | |||||||||||||||||||||||||||||||||
517/2189 | DeMAND 1.29.0 (landing page) | Jung Hoon Woo | OK | |||||||||||||||||||||||||||||||||
518/2189 | DeMixT 1.15.0 (landing page) | Shuai Guo | WARNINGS | |||||||||||||||||||||||||||||||||
519/2189 | demuxmix 1.1.1 (landing page) | Hans-Ulrich Klein | OK | |||||||||||||||||||||||||||||||||
520/2189 | densvis 1.9.1 (landing page) | Alan O'Callaghan | OK | |||||||||||||||||||||||||||||||||
521/2189 | DEP 1.21.0 (landing page) | Arne Smits | WARNINGS | |||||||||||||||||||||||||||||||||
522/2189 | DepecheR 1.15.0 (landing page) | Jakob Theorell | OK | |||||||||||||||||||||||||||||||||
523/2189 | DepInfeR 1.3.0 (landing page) | Junyan Lu | OK | |||||||||||||||||||||||||||||||||
524/2189 | DEqMS 1.17.3 (landing page) | Yafeng Zhu | OK | |||||||||||||||||||||||||||||||||
525/2189 | derfinder 1.33.0 (landing page) | Leonardo Collado-Torres | OK | |||||||||||||||||||||||||||||||||
526/2189 | derfinderHelper 1.33.0 (landing page) | Leonardo Collado-Torres | OK | |||||||||||||||||||||||||||||||||
527/2189 | derfinderPlot 1.33.0 (landing page) | Leonardo Collado-Torres | OK | |||||||||||||||||||||||||||||||||
528/2189 | DEScan2 1.19.1 (landing page) | Dario Righelli | WARNINGS | |||||||||||||||||||||||||||||||||
529/2189 | DESeq2 1.39.8 (landing page) | Michael Love | OK | |||||||||||||||||||||||||||||||||
530/2189 | DEsingle 1.19.1 (landing page) | Zhun Miao | OK | |||||||||||||||||||||||||||||||||
531/2189 | destiny 3.13.0 (landing page) | Philipp Angerer | OK | |||||||||||||||||||||||||||||||||
532/2189 | DEsubs 1.25.0 (landing page) | Aristidis G. Vrahatis | WARNINGS | |||||||||||||||||||||||||||||||||
533/2189 | DEWSeq 1.13.0 (landing page) | bioinformatics team Hentze | ERROR | |||||||||||||||||||||||||||||||||
534/2189 | DExMA 1.7.0 (landing page) | Juan Antonio Villatoro-García | OK | |||||||||||||||||||||||||||||||||
535/2189 | DEXSeq 1.45.2 (landing page) | Alejandro Reyes | OK | |||||||||||||||||||||||||||||||||
536/2189 | DFP 1.57.0 (landing page) | Rodrigo Alvarez-Glez | OK | |||||||||||||||||||||||||||||||||
537/2189 | DIAlignR 2.7.0 (landing page) | Shubham Gupta | WARNINGS | |||||||||||||||||||||||||||||||||
538/2189 | DiffBind 3.9.5 (landing page) | Rory Stark | WARNINGS | |||||||||||||||||||||||||||||||||
539/2189 | diffcoexp 1.19.0 (landing page) | Wenbin Wei | OK | |||||||||||||||||||||||||||||||||
540/2189 | diffcyt 1.19.0 (landing page) | Lukas M. Weber | OK | |||||||||||||||||||||||||||||||||
541/2189 | DifferentialRegulation 1.3.0 (landing page) | Simone Tiberi | OK | |||||||||||||||||||||||||||||||||
542/2189 | diffGeneAnalysis 1.81.0 (landing page) | Choudary Jagarlamudi | OK | |||||||||||||||||||||||||||||||||
543/2189 | diffHic 1.31.0 (landing page) | Aaron Lun | WARNINGS | |||||||||||||||||||||||||||||||||
544/2189 | DiffLogo 2.23.0 (landing page) | Hendrik Treutler | WARNINGS | |||||||||||||||||||||||||||||||||
545/2189 | diffuStats 1.19.0 (landing page) | Sergio Picart-Armada | OK | |||||||||||||||||||||||||||||||||
546/2189 | diffUTR 1.7.0 (landing page) | Pierre-Luc Germain | OK | |||||||||||||||||||||||||||||||||
547/2189 | diggit 1.31.0 (landing page) | Mariano J Alvarez | WARNINGS | |||||||||||||||||||||||||||||||||
548/2189 | Dino 1.5.0 (landing page) | Jared Brown | OK | |||||||||||||||||||||||||||||||||
549/2189 | dir.expiry 1.7.0 (landing page) | Aaron Lun | OK | |||||||||||||||||||||||||||||||||
550/2189 | Director 1.25.0 (landing page) | Katherine Icay | TIMEOUT | |||||||||||||||||||||||||||||||||
551/2189 | DirichletMultinomial 1.41.0 (landing page) | Martin Morgan | WARNINGS | |||||||||||||||||||||||||||||||||
552/2189 | discordant 1.23.0 (landing page) | McGrath Max | OK | |||||||||||||||||||||||||||||||||
553/2189 | DiscoRhythm 1.15.0 (landing page) | Matthew Carlucci | OK | |||||||||||||||||||||||||||||||||
554/2189 | distinct 1.11.0 (landing page) | Simone Tiberi | OK | |||||||||||||||||||||||||||||||||
555/2189 | dittoSeq 1.11.0 (landing page) | Daniel Bunis | OK | |||||||||||||||||||||||||||||||||
556/2189 | divergence 1.15.0 (landing page) | Wikum Dinalankara | OK | |||||||||||||||||||||||||||||||||
557/2189 | dks 1.45.0 (landing page) | Jeffrey T. Leek | OK | |||||||||||||||||||||||||||||||||
558/2189 | DMCFB 1.13.0 (landing page) | Farhad Shokoohi | OK | |||||||||||||||||||||||||||||||||
559/2189 | DMCHMM 1.21.0 (landing page) | Farhad Shokoohi | WARNINGS | |||||||||||||||||||||||||||||||||
560/2189 | DMRcaller 1.31.0 (landing page) | Nicolae Radu Zabet | OK | |||||||||||||||||||||||||||||||||
561/2189 | DMRcate 2.13.0 (landing page) | Tim Peters | TIMEOUT | |||||||||||||||||||||||||||||||||
562/2189 | DMRforPairs 1.35.0 (landing page) | Martin Rijlaarsdam | ERROR | |||||||||||||||||||||||||||||||||
563/2189 | DMRScan 1.21.0 (landing page) | Christian M Page | OK | |||||||||||||||||||||||||||||||||
564/2189 | dmrseq 1.19.0 (landing page) | Keegan Korthauer | OK | |||||||||||||||||||||||||||||||||
565/2189 | DNABarcodeCompatibility 1.15.0 (landing page) | Céline Trébeau | ERROR | |||||||||||||||||||||||||||||||||
566/2189 | DNABarcodes 1.29.0 (landing page) | Tilo Buschmann | ERROR | |||||||||||||||||||||||||||||||||
567/2189 | DNAcopy 1.73.0 (landing page) | Venkatraman E. Seshan | OK | |||||||||||||||||||||||||||||||||
568/2189 | DNAfusion 1.1.1 (landing page) | Christoffer Trier Maansson | OK | |||||||||||||||||||||||||||||||||
569/2189 | DNAshapeR 1.27.0 (landing page) | Tsu-Pei Chiu | OK | |||||||||||||||||||||||||||||||||
570/2189 | DominoEffect 1.19.0 (landing page) | Marija Buljan | OK | |||||||||||||||||||||||||||||||||
571/2189 | doppelgangR 1.27.0 (landing page) | Levi Waldron | ERROR | |||||||||||||||||||||||||||||||||
572/2189 | Doscheda 1.21.0 (landing page) | Bruno Contrino | OK | |||||||||||||||||||||||||||||||||
573/2189 | DOSE 3.25.0 (landing page) | Guangchuang Yu | OK | |||||||||||||||||||||||||||||||||
574/2189 | doseR 1.15.0 (landing page) | ake.vastermark | OK | |||||||||||||||||||||||||||||||||
575/2189 | doubletrouble 0.99.2 (landing page) | Fabrício Almeida-Silva | ERROR | |||||||||||||||||||||||||||||||||
576/2189 | dpeak 1.11.0 (landing page) | Dongjun Chung | OK | |||||||||||||||||||||||||||||||||
577/2189 | drawProteins 1.19.0 (landing page) | Paul Brennan | OK | |||||||||||||||||||||||||||||||||
578/2189 | DRIMSeq 1.27.0 (landing page) | Malgorzata Nowicka | WARNINGS | |||||||||||||||||||||||||||||||||
579/2189 | DriverNet 1.39.0 (landing page) | Jiarui Ding | OK | |||||||||||||||||||||||||||||||||
580/2189 | DropletUtils 1.19.3 (landing page) | Jonathan Griffiths | WARNINGS | |||||||||||||||||||||||||||||||||
581/2189 | drugTargetInteractions 1.7.0 (landing page) | Thomas Girke | OK | |||||||||||||||||||||||||||||||||
582/2189 | DrugVsDisease 2.41.0 (landing page) | j. Saez-Rodriguez | OK | |||||||||||||||||||||||||||||||||
583/2189 | DSS 2.47.1 (landing page) | Hao Wu | WARNINGS | |||||||||||||||||||||||||||||||||
584/2189 | dStruct 1.5.0 (landing page) | Krishna Choudhary | OK | |||||||||||||||||||||||||||||||||
585/2189 | DTA 2.45.0 (landing page) | Bjoern Schwalb | OK | |||||||||||||||||||||||||||||||||
586/2189 | Dune 1.11.0 (landing page) | Hector Roux de Bezieux | OK | |||||||||||||||||||||||||||||||||
587/2189 | dupRadar 1.29.0 (landing page) | Sergi Sayols | WARNINGS | |||||||||||||||||||||||||||||||||
588/2189 | dyebias 1.59.0 (landing page) | Philip Lijnzaad | OK | |||||||||||||||||||||||||||||||||
589/2189 | DynDoc 1.77.0 (landing page) | Bioconductor Package Maintainer | OK | |||||||||||||||||||||||||||||||||
|
| |||||||||||||||||||||||||||||||||||
Package | Maintainer | INSTALL/BUILD/CHECK | ||||||||||||||||||||||||||||||||||
590/2189 | easier 1.5.0 (landing page) | Oscar Lapuente-Santana | OK | |||||||||||||||||||||||||||||||||
591/2189 | EasyCellType 1.1.0 (landing page) | Ruoxing Li | OK | |||||||||||||||||||||||||||||||||
592/2189 | easyreporting 1.11.0 (landing page) | Dario Righelli | OK | |||||||||||||||||||||||||||||||||
593/2189 | easyRNASeq 2.35.0 (landing page) | Nicolas Delhomme | OK | |||||||||||||||||||||||||||||||||
594/2189 | EBarrays 2.63.0 (landing page) | Ming Yuan | OK | |||||||||||||||||||||||||||||||||
595/2189 | EBcoexpress 1.43.0 (landing page) | John A. Dawson | WARNINGS | |||||||||||||||||||||||||||||||||
596/2189 | EBImage 4.41.1 (landing page) | Andrzej Oleś | WARNINGS | |||||||||||||||||||||||||||||||||
597/2189 | EBSEA 1.27.0 (landing page) | Arfa Mehmood | OK | |||||||||||||||||||||||||||||||||
598/2189 | EBSeq 1.39.0 (landing page) | Ning Leng | OK | |||||||||||||||||||||||||||||||||
599/2189 | EBSeqHMM 1.33.0 (landing page) | Ning Leng | OK | |||||||||||||||||||||||||||||||||
600/2189 | ecolitk 1.71.0 (landing page) | Laurent Gautier | WARNINGS | |||||||||||||||||||||||||||||||||
601/2189 | EDASeq 2.33.0 (landing page) | Davide Risso | OK | |||||||||||||||||||||||||||||||||
602/2189 | edge 2.31.0 (landing page) | John D. Storey | WARNINGS | |||||||||||||||||||||||||||||||||
603/2189 | edgeR 3.41.6 (landing page) | Yunshun Chen | OK | |||||||||||||||||||||||||||||||||
604/2189 | eds 1.1.0 (landing page) | Avi Srivastava | OK | |||||||||||||||||||||||||||||||||
605/2189 | eegc 1.25.0 (landing page) | Xiaoyuan Zhou | WARNINGS | |||||||||||||||||||||||||||||||||
606/2189 | EGAD 1.27.0 (landing page) | Sara Ballouz | WARNINGS | |||||||||||||||||||||||||||||||||
607/2189 | EGSEA 1.27.0 (landing page) | Monther Alhamdoosh | ERROR | |||||||||||||||||||||||||||||||||
608/2189 | eiR 1.39.0 (landing page) | Thomas Girke | OK | |||||||||||||||||||||||||||||||||
609/2189 | eisaR 1.11.0 (landing page) | Michael Stadler | OK | |||||||||||||||||||||||||||||||||
610/2189 | ELMER 2.23.0 (landing page) | Tiago Chedraoui Silva | ERROR | |||||||||||||||||||||||||||||||||
611/2189 | EMDomics 2.29.0 (landing page) | Sadhika Malladi | OK | |||||||||||||||||||||||||||||||||
612/2189 | EmpiricalBrownsMethod 1.27.0 (landing page) | David Gibbs | OK | |||||||||||||||||||||||||||||||||
613/2189 | EnhancedVolcano 1.17.0 (landing page) | Kevin Blighe | OK | |||||||||||||||||||||||||||||||||
614/2189 | enhancerHomologSearch 1.5.3 (landing page) | Jianhong Ou | WARNINGS | |||||||||||||||||||||||||||||||||
615/2189 | EnMCB 1.11.2 (landing page) | Xin Yu | OK | |||||||||||||||||||||||||||||||||
616/2189 | ENmix 1.35.02 (landing page) | Zongli Xu | OK | |||||||||||||||||||||||||||||||||
617/2189 | EnrichedHeatmap 1.29.3 (landing page) | Zuguang Gu | OK | |||||||||||||||||||||||||||||||||
618/2189 | EnrichmentBrowser 2.29.2 (landing page) | Ludwig Geistlinger | OK | |||||||||||||||||||||||||||||||||
619/2189 | enrichplot 1.19.1 (landing page) | Guangchuang Yu | WARNINGS | |||||||||||||||||||||||||||||||||
620/2189 | enrichTF 1.15.0 (landing page) | Zheng Wei | OK | |||||||||||||||||||||||||||||||||
621/2189 | ensembldb 2.23.2 (landing page) | Johannes Rainer | OK | |||||||||||||||||||||||||||||||||
622/2189 | ensemblVEP 1.41.1 (landing page) | Bioconductor Package Maintainer | ERROR | |||||||||||||||||||||||||||||||||
623/2189 | epialleleR 1.7.1 (landing page) | Oleksii Nikolaienko | WARNINGS | |||||||||||||||||||||||||||||||||
624/2189 | EpiCompare 1.3.4 (landing page) | Sera Choi | ERROR | |||||||||||||||||||||||||||||||||
625/2189 | epidecodeR 1.7.0 (landing page) | Kandarp Joshi | OK | |||||||||||||||||||||||||||||||||
626/2189 | EpiDISH 2.15.1 (landing page) | Shijie C. Zheng | OK | |||||||||||||||||||||||||||||||||
627/2189 | epigenomix 1.39.0 (landing page) | Hans-Ulrich Klein | OK | |||||||||||||||||||||||||||||||||
628/2189 | epigraHMM 1.7.1 (landing page) | Pedro Baldoni | ERROR | |||||||||||||||||||||||||||||||||
629/2189 | Xiaowen Chen | ERROR | ||||||||||||||||||||||||||||||||||
630/2189 | EpiMix 1.1.2 (landing page) | Yuanning Zheng | ERROR | |||||||||||||||||||||||||||||||||
631/2189 | epimutacions 1.3.0 (landing page) | Dolors Pelegri-Siso | ERROR | |||||||||||||||||||||||||||||||||
632/2189 | epiNEM 1.23.0 (landing page) | Martin Pirkl | OK | |||||||||||||||||||||||||||||||||
633/2189 | epistack 1.5.0 (landing page) | DEVAILLY Guillaume | OK | |||||||||||||||||||||||||||||||||
634/2189 | epistasisGA 1.1.4 (landing page) | Michael Nodzenski | ERROR | |||||||||||||||||||||||||||||||||
635/2189 | EpiTxDb 1.11.0 (landing page) | Felix G.M. Ernst | OK | |||||||||||||||||||||||||||||||||
636/2189 | epivizr 2.29.0 (landing page) | Hector Corrada Bravo | OK | |||||||||||||||||||||||||||||||||
637/2189 | epivizrChart 1.21.0 (landing page) | Hector Corrada Bravo | OK | |||||||||||||||||||||||||||||||||
638/2189 | epivizrData 1.27.0 (landing page) | Hector Corrada Bravo | OK | |||||||||||||||||||||||||||||||||
639/2189 | epivizrServer 1.27.0 (landing page) | Hector Corrada Bravo | OK | |||||||||||||||||||||||||||||||||
640/2189 | epivizrStandalone 1.27.0 (landing page) | Hector Corrada Bravo | WARNINGS | |||||||||||||||||||||||||||||||||
641/2189 | erccdashboard 1.33.0 (landing page) | Sarah Munro | OK | |||||||||||||||||||||||||||||||||
642/2189 | erma 1.15.0 (landing page) | VJ Carey | OK | |||||||||||||||||||||||||||||||||
643/2189 | ERSSA 1.17.0 (landing page) | Zixuan Shao | ERROR | |||||||||||||||||||||||||||||||||
644/2189 | esATAC 1.21.0 (landing page) | Zheng Wei | WARNINGS | |||||||||||||||||||||||||||||||||
645/2189 | escape 1.9.0 (landing page) | Nick Borcherding | OK | |||||||||||||||||||||||||||||||||
646/2189 | esetVis 1.25.0 (landing page) | Laure Cougnaud | OK | |||||||||||||||||||||||||||||||||
647/2189 | eudysbiome 1.29.0 (landing page) | Xiaoyuan Zhou | OK | |||||||||||||||||||||||||||||||||
648/2189 | evaluomeR 1.15.0 (landing page) | José Antonio Bernabé-Díaz | OK | |||||||||||||||||||||||||||||||||
649/2189 | EventPointer 3.7.0 (landing page) | Juan A. Ferrer-Bonsoms | OK | |||||||||||||||||||||||||||||||||
650/2189 | EWCE 1.7.2 (landing page) | Alan Murphy | OK | |||||||||||||||||||||||||||||||||
651/2189 | ExCluster 1.17.0 (landing page) | R. Matthew Tanner | OK | |||||||||||||||||||||||||||||||||
652/2189 | ExiMiR 2.41.0 (landing page) | Sylvain Gubian | OK | |||||||||||||||||||||||||||||||||
653/2189 | exomeCopy 1.45.0 (landing page) | Michael Love | OK | |||||||||||||||||||||||||||||||||
654/2189 | exomePeak2 1.11.0 (landing page) | Zhen Wei | OK | |||||||||||||||||||||||||||||||||
655/2189 | ExperimentHub 2.7.1 (landing page) | Bioconductor Package Maintainer | WARNINGS | |||||||||||||||||||||||||||||||||
656/2189 | ExperimentHubData 1.25.0 (landing page) | Bioconductor Package Maintainer | OK | |||||||||||||||||||||||||||||||||
657/2189 | ExperimentSubset 1.9.0 (landing page) | Irzam Sarfraz | OK | |||||||||||||||||||||||||||||||||
658/2189 | ExploreModelMatrix 1.11.0 (landing page) | Charlotte Soneson | OK | |||||||||||||||||||||||||||||||||
659/2189 | ExpressionAtlas 1.27.0 (landing page) | Pedro Madrigal | OK | |||||||||||||||||||||||||||||||||
660/2189 | extraChIPs 1.3.5 (landing page) | Stephen Pederson | OK | |||||||||||||||||||||||||||||||||
|
| |||||||||||||||||||||||||||||||||||
Package | Maintainer | INSTALL/BUILD/CHECK | ||||||||||||||||||||||||||||||||||
661/2189 | fabia 2.45.0 (landing page) | Andreas Mitterecker | WARNINGS | |||||||||||||||||||||||||||||||||
662/2189 | factDesign 1.75.0 (landing page) | Denise Scholtens | OK | |||||||||||||||||||||||||||||||||
663/2189 | factR 1.1.0 (landing page) | Fursham Hamid | OK | |||||||||||||||||||||||||||||||||
664/2189 | FamAgg 1.27.0 (landing page) | Johannes Rainer | OK | |||||||||||||||||||||||||||||||||
665/2189 | famat 1.9.0 (landing page) | Mathieu Charles | ERROR | |||||||||||||||||||||||||||||||||
666/2189 | farms 1.51.0 (landing page) | Djork-Arne Clevert | OK | |||||||||||||||||||||||||||||||||
667/2189 | fastLiquidAssociation 1.35.0 (landing page) | Tina Gunderson | WARNINGS | |||||||||||||||||||||||||||||||||
668/2189 | FastqCleaner 1.17.0 (landing page) | Leandro Roser | OK | |||||||||||||||||||||||||||||||||
669/2189 | fastreeR 1.3.0 (landing page) | Anestis Gkanogiannis | OK | |||||||||||||||||||||||||||||||||
670/2189 | fastseg 1.45.0 (landing page) | Alexander Blume | OK | |||||||||||||||||||||||||||||||||
671/2189 | FCBF 2.7.0 (landing page) | Tiago Lubiana | OK | |||||||||||||||||||||||||||||||||
672/2189 | fCCAC 1.25.0 (landing page) | Pedro Madrigal | OK | |||||||||||||||||||||||||||||||||
673/2189 | fCI 1.29.0 (landing page) | Shaojun Tang | OK | |||||||||||||||||||||||||||||||||
674/2189 | fcoex 1.13.0 (landing page) | Tiago Lubiana | ERROR | |||||||||||||||||||||||||||||||||
675/2189 | fcScan 1.13.0 (landing page) | Pierre Khoueiry | OK | |||||||||||||||||||||||||||||||||
676/2189 | fdrame 1.71.0 (landing page) | Effi Kenigsberg | OK | |||||||||||||||||||||||||||||||||
677/2189 | FEAST 1.7.0 (landing page) | Kenong Su | OK | |||||||||||||||||||||||||||||||||
678/2189 | fedup 1.7.0 (landing page) | Catherine Ross | OK | |||||||||||||||||||||||||||||||||
679/2189 | FELLA 1.19.0 (landing page) | Sergio Picart-Armada | OK | |||||||||||||||||||||||||||||||||
680/2189 | ffpe 1.43.0 (landing page) | Levi Waldron | OK | |||||||||||||||||||||||||||||||||
681/2189 | fgga 1.7.0 (landing page) | Flavio Spetale | OK | |||||||||||||||||||||||||||||||||
682/2189 | FGNet 3.33.0 (landing page) | Sara Aibar | WARNINGS | |||||||||||||||||||||||||||||||||
683/2189 | fgsea 1.25.0 (landing page) | Alexey Sergushichev | ERROR | |||||||||||||||||||||||||||||||||
684/2189 | FilterFFPE 1.9.0 (landing page) | Lanying Wei | OK | |||||||||||||||||||||||||||||||||
685/2189 | FindIT2 1.5.0 (landing page) | Guandong Shang | OK | |||||||||||||||||||||||||||||||||
686/2189 | FISHalyseR 1.33.0 (landing page) | Karesh Arunakirinathan | WARNINGS | |||||||||||||||||||||||||||||||||
687/2189 | fishpond 2.5.4 (landing page) | Michael Love | ERROR | |||||||||||||||||||||||||||||||||
688/2189 | FitHiC 1.25.0 (landing page) | Ruyu Tan | OK | |||||||||||||||||||||||||||||||||
689/2189 | flagme 1.55.1 (landing page) | Mark Robinson | WARNINGS | |||||||||||||||||||||||||||||||||
690/2189 | FLAMES 1.5.5 (landing page) | Oliver Voogd | ERROR | |||||||||||||||||||||||||||||||||
691/2189 | flowAI 1.29.0 (landing page) | Gianni Monaco | OK | |||||||||||||||||||||||||||||||||
692/2189 | flowBeads 1.37.0 (landing page) | Nikolas Pontikos | WARNINGS | |||||||||||||||||||||||||||||||||
693/2189 | flowBin 1.35.0 (landing page) | Kieran O'Neill | OK | |||||||||||||||||||||||||||||||||
694/2189 | flowcatchR 1.33.0 (landing page) | Federico Marini | OK | |||||||||||||||||||||||||||||||||
695/2189 | flowCHIC 1.33.0 (landing page) | Author: Joachim Schumann | OK | |||||||||||||||||||||||||||||||||
696/2189 | flowClean 1.37.0 (landing page) | Kipper Fletez-Brant | WARNINGS | |||||||||||||||||||||||||||||||||
697/2189 | flowClust 3.37.0 (landing page) | Greg Finak | WARNINGS | |||||||||||||||||||||||||||||||||
698/2189 | flowCore 2.11.0 (landing page) | Mike Jiang | WARNINGS | |||||||||||||||||||||||||||||||||
699/2189 | flowCut 1.9.0 (landing page) | Justin Meskas | OK | |||||||||||||||||||||||||||||||||
700/2189 | flowCyBar 1.35.0 (landing page) | Joachim Schumann | OK | |||||||||||||||||||||||||||||||||
701/2189 | flowDensity 1.33.0 (landing page) | Mehrnoush Malek | WARNINGS | |||||||||||||||||||||||||||||||||
702/2189 | flowFP 1.57.3 (landing page) | Herb Holyst | OK | |||||||||||||||||||||||||||||||||
703/2189 | flowGraph 1.7.0 (landing page) | Alice Yue | OK | |||||||||||||||||||||||||||||||||
704/2189 | flowMap 1.37.0 (landing page) | Chiaowen Joyce Hsiao | WARNINGS | |||||||||||||||||||||||||||||||||
705/2189 | flowMatch 1.35.0 (landing page) | Ariful Azad | OK | |||||||||||||||||||||||||||||||||
706/2189 | flowMeans 1.59.0 (landing page) | Nima Aghaeepour | OK | |||||||||||||||||||||||||||||||||
707/2189 | flowMerge 2.47.0 (landing page) | Greg Finak | WARNINGS | |||||||||||||||||||||||||||||||||
708/2189 | flowPeaks 1.45.0 (landing page) | Yongchao Ge | WARNINGS | |||||||||||||||||||||||||||||||||
709/2189 | flowPloidy 1.25.2 (landing page) | Tyler Smith | OK | |||||||||||||||||||||||||||||||||
710/2189 | flowPlots 1.47.0 (landing page) | N. Hawkins | OK | |||||||||||||||||||||||||||||||||
711/2189 | FlowSOM 2.7.7 (landing page) | Sofie Van Gassen | WARNINGS | |||||||||||||||||||||||||||||||||
712/2189 | flowSpecs 1.13.0 (landing page) | Jakob Theorell | OK | |||||||||||||||||||||||||||||||||
713/2189 | flowStats 4.11.0 (landing page) | Greg Finak | WARNINGS | |||||||||||||||||||||||||||||||||
714/2189 | flowTime 1.23.1 (landing page) | R. Clay Wright | OK | |||||||||||||||||||||||||||||||||
715/2189 | flowTrans 1.51.0 (landing page) | Greg Finak | OK | |||||||||||||||||||||||||||||||||
716/2189 | flowViz 1.63.0 (landing page) | Mike Jiang | OK | |||||||||||||||||||||||||||||||||
717/2189 | flowVS 1.31.0 (landing page) | Ariful Azad | OK | |||||||||||||||||||||||||||||||||
718/2189 | flowWorkspace 4.11.1 (landing page) | Greg Finak | WARNINGS | |||||||||||||||||||||||||||||||||
719/2189 | fmcsR 1.41.0 (landing page) | Thomas Girke | WARNINGS | |||||||||||||||||||||||||||||||||
720/2189 | fmrs 1.9.0 (landing page) | Farhad Shokoohi | OK | |||||||||||||||||||||||||||||||||
721/2189 | fobitools 1.7.0 (landing page) | Pol Castellano-Escuder | OK | |||||||||||||||||||||||||||||||||
722/2189 | FoldGO 1.17.0 (landing page) | Daniil Wiebe | WARNINGS | |||||||||||||||||||||||||||||||||
723/2189 | FRASER 1.11.0 (landing page) | Christian Mertes | OK | |||||||||||||||||||||||||||||||||
724/2189 | frenchFISH 1.11.0 (landing page) | Adam Berman | OK | |||||||||||||||||||||||||||||||||
725/2189 | FRGEpistasis 1.35.0 (landing page) | Futao Zhang | OK | |||||||||||||||||||||||||||||||||
726/2189 | frma 1.51.0 (landing page) | Matthew N. McCall | OK | |||||||||||||||||||||||||||||||||
727/2189 | frmaTools 1.51.0 (landing page) | Matthew N. McCall | OK | |||||||||||||||||||||||||||||||||
728/2189 | FScanR 1.9.0 (landing page) | Xiao Chen | OK | |||||||||||||||||||||||||||||||||
729/2189 | FunChIP 1.25.0 (landing page) | Alice Parodi | WARNINGS | |||||||||||||||||||||||||||||||||
730/2189 | funtooNorm 1.23.0 (landing page) | Kathleen Klein | WARNINGS | |||||||||||||||||||||||||||||||||
731/2189 | FuseSOM 1.1.2 (landing page) | Elijah Willie | OK | |||||||||||||||||||||||||||||||||
|
| |||||||||||||||||||||||||||||||||||
Package | Maintainer | INSTALL/BUILD/CHECK | ||||||||||||||||||||||||||||||||||
732/2189 | GA4GHclient 1.23.0 (landing page) | Welliton Souza | OK | |||||||||||||||||||||||||||||||||
733/2189 | GA4GHshiny 1.21.0 (landing page) | Welliton Souza | OK | |||||||||||||||||||||||||||||||||
734/2189 | gaga 2.45.0 (landing page) | David Rossell | WARNINGS | |||||||||||||||||||||||||||||||||
735/2189 | gage 2.49.0 (landing page) | Weijun Luo | WARNINGS | |||||||||||||||||||||||||||||||||
736/2189 | gaggle 1.67.0 (landing page) | Christopher Bare | OK | |||||||||||||||||||||||||||||||||
737/2189 | GAPGOM 1.15.0 (landing page) | Rezvan Ehsani | ERROR | |||||||||||||||||||||||||||||||||
738/2189 | GAprediction 1.25.0 (landing page) | Jon Bohlin | OK | |||||||||||||||||||||||||||||||||
739/2189 | garfield 1.27.0 (landing page) | Valentina Iotchkova | WARNINGS | |||||||||||||||||||||||||||||||||
740/2189 | GARS 1.19.0 (landing page) | Mattia Chiesa | WARNINGS | |||||||||||||||||||||||||||||||||
741/2189 | GateFinder 1.19.0 (landing page) | Nima Aghaeepour | WARNINGS | |||||||||||||||||||||||||||||||||
742/2189 | GBScleanR 1.3.9 (landing page) | Tomoyuki Furuta | OK | |||||||||||||||||||||||||||||||||
743/2189 | gcapc 1.23.0 (landing page) | Mingxiang Teng | OK | |||||||||||||||||||||||||||||||||
744/2189 | gcatest 1.29.0 (landing page) | Wei Hao | ERROR | |||||||||||||||||||||||||||||||||
745/2189 | gCrisprTools 2.5.0 (landing page) | Russell Bainer | OK | |||||||||||||||||||||||||||||||||
746/2189 | gcrma 2.71.0 (landing page) | Z. Wu | OK | |||||||||||||||||||||||||||||||||
747/2189 | GCSscore 1.13.0 (landing page) | Guy M. Harris | ERROR | |||||||||||||||||||||||||||||||||
748/2189 | GDCRNATools 1.19.0 (landing page) | Ruidong Li | OK | |||||||||||||||||||||||||||||||||
749/2189 | GDSArray 1.19.0 (landing page) | Qian Liu | OK | |||||||||||||||||||||||||||||||||
750/2189 | gdsfmt 1.35.7 (landing page) | Xiuwen Zheng | OK | |||||||||||||||||||||||||||||||||
751/2189 | GEM 1.25.0 (landing page) | Hong Pan | ERROR | |||||||||||||||||||||||||||||||||
752/2189 | gemini 1.13.0 (landing page) | Sidharth Jain | OK | |||||||||||||||||||||||||||||||||
753/2189 | gemma.R 1.1.1 (landing page) | Ogan Mancarci | OK | |||||||||||||||||||||||||||||||||
754/2189 | genArise 1.75.0 (landing page) | IFC Development Team | WARNINGS | |||||||||||||||||||||||||||||||||
755/2189 | genbankr 1.27.1 (landing page) | Gabriel Becker | ERROR | |||||||||||||||||||||||||||||||||
756/2189 | GeneAccord 1.17.0 (landing page) | Ariane L. Moore | ERROR | |||||||||||||||||||||||||||||||||
757/2189 | geneAttribution 1.25.0 (landing page) | Arthur Wuster | OK | |||||||||||||||||||||||||||||||||
758/2189 | GeneBreak 1.29.0 (landing page) | Evert van den Broek | OK | |||||||||||||||||||||||||||||||||
759/2189 | geneClassifiers 1.23.0 (landing page) | R Kuiper | OK | |||||||||||||||||||||||||||||||||
760/2189 | GeneExpressionSignature 1.45.0 (landing page) | Yang Cao | OK | |||||||||||||||||||||||||||||||||
761/2189 | genefilter 1.81.1 (landing page) | Bioconductor Package Maintainer | WARNINGS | |||||||||||||||||||||||||||||||||
762/2189 | genefu 2.31.0 (landing page) | Benjamin Haibe-Kains | OK | |||||||||||||||||||||||||||||||||
763/2189 | GeneGA 1.49.0 (landing page) | Zhenpeng Li | ERROR | |||||||||||||||||||||||||||||||||
764/2189 | GeneGeneInteR 1.25.0 (landing page) | Mathieu Emily | OK | |||||||||||||||||||||||||||||||||
765/2189 | GeneMeta 1.71.0 (landing page) | Bioconductor Package Maintainer | OK | |||||||||||||||||||||||||||||||||
766/2189 | GeneNetworkBuilder 1.41.0 (landing page) | Jianhong Ou | OK | |||||||||||||||||||||||||||||||||
767/2189 | GeneOverlap 1.35.0 (landing page) | António Miguel de Jesus Domingues, Max-Planck Institute for Cell Biology and Genetics | OK | |||||||||||||||||||||||||||||||||
768/2189 | geneplast 1.25.1 (landing page) | Mauro Castro | OK | |||||||||||||||||||||||||||||||||
769/2189 | geneplotter 1.77.0 (landing page) | Bioconductor Package Maintainer | OK | |||||||||||||||||||||||||||||||||
770/2189 | geneRecommender 1.71.0 (landing page) | Greg Hather | OK | |||||||||||||||||||||||||||||||||
771/2189 | GeneRegionScan 1.55.0 (landing page) | Lasse Folkersen | OK | |||||||||||||||||||||||||||||||||
772/2189 | geneRxCluster 1.35.0 (landing page) | Charles Berry | OK | |||||||||||||||||||||||||||||||||
773/2189 | GeneSelectMMD 2.43.0 (landing page) | Weiliang Qiu | WARNINGS | |||||||||||||||||||||||||||||||||
774/2189 | GENESIS 2.29.0 (landing page) | Stephanie M. Gogarten | OK | |||||||||||||||||||||||||||||||||
775/2189 | GeneStructureTools 1.19.0 (landing page) | Beth Signal | OK | |||||||||||||||||||||||||||||||||
776/2189 | geNetClassifier 1.39.0 (landing page) | Sara Aibar | OK | |||||||||||||||||||||||||||||||||
777/2189 | GeneticsPed 1.61.0 (landing page) | David Henderson | OK | |||||||||||||||||||||||||||||||||
778/2189 | GeneTonic 2.3.2 (landing page) | Federico Marini | OK | |||||||||||||||||||||||||||||||||
779/2189 | geneXtendeR 1.25.0 (landing page) | Bohdan Khomtchouk | WARNINGS | |||||||||||||||||||||||||||||||||
780/2189 | GENIE3 1.21.0 (landing page) | Van Anh Huynh-Thu | OK | |||||||||||||||||||||||||||||||||
781/2189 | genoCN 1.51.0 (landing page) | Wei Sun | WARNINGS | |||||||||||||||||||||||||||||||||
782/2189 | genomation 1.31.0 (landing page) | Altuna Akalin | WARNINGS | |||||||||||||||||||||||||||||||||
783/2189 | GenomAutomorphism 1.1.3 (landing page) | Robersy Sanchez | OK | |||||||||||||||||||||||||||||||||
784/2189 | GenomeInfoDb 1.35.16 (landing page) | Hervé Pagès | WARNINGS | |||||||||||||||||||||||||||||||||
785/2189 | genomeIntervals 1.55.0 (landing page) | Julien Gagneur | WARNINGS | |||||||||||||||||||||||||||||||||
786/2189 | genomes 3.29.0 (landing page) | Chris Stubben | OK | |||||||||||||||||||||||||||||||||
787/2189 | GenomicAlignments 1.35.1 (landing page) | Hervé Pagès | WARNINGS | |||||||||||||||||||||||||||||||||
788/2189 | GenomicDataCommons 1.23.2 (landing page) | Sean Davis | OK | |||||||||||||||||||||||||||||||||
789/2189 | GenomicDistributions 1.7.0 (landing page) | Kristyna Kupkova | OK | |||||||||||||||||||||||||||||||||
790/2189 | GenomicFeatures 1.51.4 (landing page) | H. Pagès | WARNINGS | |||||||||||||||||||||||||||||||||
791/2189 | GenomicFiles 1.35.1 (landing page) | Bioconductor Package Maintainer | WARNINGS | |||||||||||||||||||||||||||||||||
792/2189 | genomicInstability 1.5.0 (landing page) | Mariano Alvarez | OK | |||||||||||||||||||||||||||||||||
793/2189 | GenomicInteractionNodes 1.3.0 (landing page) | Jianhong Ou | OK | |||||||||||||||||||||||||||||||||
794/2189 | GenomicInteractions 1.33.0 (landing page) | Liz Ing-Simmons | OK | |||||||||||||||||||||||||||||||||
795/2189 | GenomicOZone 1.13.0 (landing page) | Hua Zhong | OK | |||||||||||||||||||||||||||||||||
796/2189 | GenomicRanges 1.51.4 (landing page) | Hervé Pagès | WARNINGS | |||||||||||||||||||||||||||||||||
797/2189 | GenomicScores 2.11.0 (landing page) | Robert Castelo | WARNINGS | |||||||||||||||||||||||||||||||||
798/2189 | GenomicSuperSignature 1.7.0 (landing page) | Sehyun Oh | WARNINGS | |||||||||||||||||||||||||||||||||
799/2189 | GenomicTuples 1.33.0 (landing page) | Peter Hickey | WARNINGS | |||||||||||||||||||||||||||||||||
800/2189 | Jennifer Tom | ERROR | ||||||||||||||||||||||||||||||||||
801/2189 | GenProSeq 1.3.0 (landing page) | Dongmin Jung | OK | |||||||||||||||||||||||||||||||||
802/2189 | GenVisR 1.31.1 (landing page) | Zachary Skidmore | ERROR | |||||||||||||||||||||||||||||||||
803/2189 | GeoDiff 1.5.0 (landing page) | Nicole Ortogero | OK | |||||||||||||||||||||||||||||||||
804/2189 | GEOexplorer 1.5.0 (landing page) | Guy Hunt | OK | |||||||||||||||||||||||||||||||||
805/2189 | GEOfastq 1.7.0 (landing page) | Alex Pickering | OK | |||||||||||||||||||||||||||||||||
806/2189 | GEOmetadb 1.61.0 (landing page) | Jack Zhu | WARNINGS | |||||||||||||||||||||||||||||||||
807/2189 | GeomxTools 3.3.0 (landing page) | Nicole Ortogero | TIMEOUT | |||||||||||||||||||||||||||||||||
808/2189 | GEOquery 2.67.0 (landing page) | Sean Davis | ERROR | |||||||||||||||||||||||||||||||||
809/2189 | GEOsubmission 1.51.0 (landing page) | Alexandre Kuhn | OK | |||||||||||||||||||||||||||||||||
810/2189 | gep2pep 1.19.0 (landing page) | Francesco Napolitano | OK | |||||||||||||||||||||||||||||||||
811/2189 | gespeR 1.31.0 (landing page) | Fabian Schmich | ERROR | |||||||||||||||||||||||||||||||||
812/2189 | getDEE2 1.9.0 (landing page) | Mark Ziemann | ERROR | |||||||||||||||||||||||||||||||||
813/2189 | geva 1.7.0 (landing page) | Itamar José Guimarães Nunes | OK | |||||||||||||||||||||||||||||||||
814/2189 | GEWIST 1.43.0 (landing page) | Wei Q. Deng | OK | |||||||||||||||||||||||||||||||||
815/2189 | ggbio 1.47.0 (landing page) | Michael Lawrence | WARNINGS | |||||||||||||||||||||||||||||||||
816/2189 | ggcyto 1.27.4 (landing page) | Mike Jiang | WARNINGS | |||||||||||||||||||||||||||||||||
817/2189 | ggmanh 1.3.0 (landing page) | John Lee | WARNINGS | |||||||||||||||||||||||||||||||||
818/2189 | ggmsa 1.5.0 (landing page) | Lang Zhou | OK | |||||||||||||||||||||||||||||||||
819/2189 | GGPA 1.11.0 (landing page) | Dongjun Chung | OK | |||||||||||||||||||||||||||||||||
820/2189 | ggspavis 1.5.0 (landing page) | Lukas M. Weber | OK | |||||||||||||||||||||||||||||||||
821/2189 | ggtree 3.7.1 (landing page) | Guangchuang Yu | OK | |||||||||||||||||||||||||||||||||
822/2189 | ggtreeDendro 1.1.3 (landing page) | Guangchuang Yu | OK | |||||||||||||||||||||||||||||||||
823/2189 | ggtreeExtra 1.9.1 (landing page) | Shuangbin Xu | OK | |||||||||||||||||||||||||||||||||
824/2189 | GIGSEA 1.17.0 (landing page) | Shijia Zhu | OK | |||||||||||||||||||||||||||||||||
825/2189 | girafe 1.51.0 (landing page) | J. Toedling | OK | |||||||||||||||||||||||||||||||||
826/2189 | GISPA 1.23.0 (landing page) | Bhakti Dwivedi | OK | |||||||||||||||||||||||||||||||||
827/2189 | GLAD 2.63.0 (landing page) | Philippe Hupe | WARNINGS | |||||||||||||||||||||||||||||||||
828/2189 | GladiaTOX 1.15.0 (landing page) | PMP S.A. R Support | OK | |||||||||||||||||||||||||||||||||
829/2189 | Glimma 2.9.0 (landing page) | Shian Su | OK | |||||||||||||||||||||||||||||||||
830/2189 | glmGamPoi 1.11.7 (landing page) | Constantin Ahlmann-Eltze | ERROR | |||||||||||||||||||||||||||||||||
831/2189 | glmSparseNet 1.17.0 (landing page) | André Veríssimo | OK | |||||||||||||||||||||||||||||||||
832/2189 | GlobalAncova 4.17.0 (landing page) | Manuela Hummel | OK | |||||||||||||||||||||||||||||||||
833/2189 | globalSeq 1.27.0 (landing page) | Armin Rauschenberger | OK | |||||||||||||||||||||||||||||||||
834/2189 | globaltest 5.53.0 (landing page) | Jelle Goeman | ERROR | |||||||||||||||||||||||||||||||||
835/2189 | gmapR 1.41.0 (landing page) | Michael Lawrence | WARNINGS | |||||||||||||||||||||||||||||||||
836/2189 | GmicR 1.13.0 (landing page) | Richard Virgen-Slane | TIMEOUT | |||||||||||||||||||||||||||||||||
837/2189 | gmoviz 1.11.0 (landing page) | Kathleen Zeglinski | OK | |||||||||||||||||||||||||||||||||
838/2189 | GMRP 1.27.0 (landing page) | Yuan-De Tan | WARNINGS | |||||||||||||||||||||||||||||||||
839/2189 | GNET2 1.15.0 (landing page) | Chen Chen | OK | |||||||||||||||||||||||||||||||||
840/2189 | GOexpress 1.33.0 (landing page) | Kevin Rue-Albrecht | OK | |||||||||||||||||||||||||||||||||
841/2189 | GOfuncR 1.19.0 (landing page) | Steffi Grote | ERROR | |||||||||||||||||||||||||||||||||
842/2189 | GOpro 1.25.0 (landing page) | Lidia Chrabaszcz | OK | |||||||||||||||||||||||||||||||||
843/2189 | goProfiles 1.61.0 (landing page) | Alex Sanchez | OK | |||||||||||||||||||||||||||||||||
844/2189 | GOSemSim 2.25.0 (landing page) | Guangchuang Yu | OK | |||||||||||||||||||||||||||||||||
845/2189 | goseq 1.51.0 (landing page) | Matthew Young | OK | |||||||||||||||||||||||||||||||||
846/2189 | GOSim 1.37.0 (landing page) | Holger Froehlich | OK | |||||||||||||||||||||||||||||||||
847/2189 | goSorensen 1.1.0 (landing page) | Pablo Flores | OK | |||||||||||||||||||||||||||||||||
848/2189 | goSTAG 1.23.0 (landing page) | Brian D. Bennett | OK | |||||||||||||||||||||||||||||||||
849/2189 | GOstats 2.65.0 (landing page) | Bioconductor Package Maintainer | OK | |||||||||||||||||||||||||||||||||
850/2189 | GOsummaries 2.35.0 (landing page) | Raivo Kolde | OK | |||||||||||||||||||||||||||||||||
851/2189 | GOTHiC 1.35.0 (landing page) | Borbala Mifsud | OK | |||||||||||||||||||||||||||||||||
852/2189 | goTools 1.73.0 (landing page) | Agnes Paquet | OK | |||||||||||||||||||||||||||||||||
853/2189 | GPA 1.11.0 (landing page) | Dongjun Chung | OK | |||||||||||||||||||||||||||||||||
854/2189 | gpls 1.71.0 (landing page) | Bioconductor Package Maintainer | WARNINGS | |||||||||||||||||||||||||||||||||
855/2189 | gpuMagic 1.15.0 (landing page) | Jiefei Wang | OK | |||||||||||||||||||||||||||||||||
856/2189 | GRaNIE 1.3.32 (landing page) | Christian Arnold | ERROR | |||||||||||||||||||||||||||||||||
857/2189 | granulator 1.7.0 (landing page) | Sabina Pfister | OK | |||||||||||||||||||||||||||||||||
858/2189 | graper 1.15.0 (landing page) | Britta Velten | OK | |||||||||||||||||||||||||||||||||
859/2189 | graph 1.77.2 (landing page) | Bioconductor Package Maintainer | OK | |||||||||||||||||||||||||||||||||
860/2189 | GraphAlignment 1.63.0 (landing page) | Joern P. Meier | WARNINGS | |||||||||||||||||||||||||||||||||
861/2189 | GraphAT 1.71.0 (landing page) | Thomas LaFramboise | OK | |||||||||||||||||||||||||||||||||
862/2189 | graphite 1.45.0 (landing page) | Gabriele Sales | WARNINGS | |||||||||||||||||||||||||||||||||
863/2189 | GraphPAC 1.41.0 (landing page) | Gregory Ryslik | OK | |||||||||||||||||||||||||||||||||
864/2189 | GRENITS 1.51.0 (landing page) | Edward Morrissey | OK | |||||||||||||||||||||||||||||||||
865/2189 | GreyListChIP 1.31.0 (landing page) | Rory Stark | OK | |||||||||||||||||||||||||||||||||
866/2189 | GRmetrics 1.25.0 (landing page) | Nicholas Clark | OK | |||||||||||||||||||||||||||||||||
867/2189 | groHMM 1.33.0 (landing page) | Tulip Nandu | OK | |||||||||||||||||||||||||||||||||
868/2189 | GRridge 1.23.0 (landing page) | Mark A. van de Wiel | ERROR | |||||||||||||||||||||||||||||||||
869/2189 | GSALightning 1.27.0 (landing page) | Billy Heung Wing Chang | OK | |||||||||||||||||||||||||||||||||
870/2189 | GSAR 1.33.1 (landing page) | Yasir Rahmatallah | OK | |||||||||||||||||||||||||||||||||
871/2189 | GSCA 2.29.0 (landing page) | Zhicheng Ji | OK | |||||||||||||||||||||||||||||||||
872/2189 | gscreend 1.13.0 (landing page) | Katharina Imkeller | OK | |||||||||||||||||||||||||||||||||
873/2189 | GSEABase 1.61.1 (landing page) | Bioconductor Package Maintainer | OK | |||||||||||||||||||||||||||||||||
874/2189 | GSEABenchmarkeR 1.19.0 (landing page) | Ludwig Geistlinger | ERROR | |||||||||||||||||||||||||||||||||
875/2189 | GSEAlm 1.59.0 (landing page) | Assaf Oron | OK | |||||||||||||||||||||||||||||||||
876/2189 | GSEAmining 1.9.0 (landing page) | Oriol Arqués | OK | |||||||||||||||||||||||||||||||||
877/2189 | gsean 1.19.0 (landing page) | Dongmin Jung | OK | |||||||||||||||||||||||||||||||||
878/2189 | GSgalgoR 1.9.0 (landing page) | Carlos Catania | OK | |||||||||||||||||||||||||||||||||
879/2189 | GSReg 1.33.0 (landing page) | Bahman Afsari | WARNINGS | |||||||||||||||||||||||||||||||||
880/2189 | GSRI 2.47.0 (landing page) | Julian Gehring | OK | |||||||||||||||||||||||||||||||||
881/2189 | GSVA 1.47.0 (landing page) | Robert Castelo | OK | |||||||||||||||||||||||||||||||||
882/2189 | gtrellis 1.31.0 (landing page) | Zuguang Gu | OK | |||||||||||||||||||||||||||||||||
883/2189 | GUIDEseq 1.29.4 (landing page) | Lihua Julie Zhu | WARNINGS | |||||||||||||||||||||||||||||||||
884/2189 | Guitar 2.15.0 (landing page) | Jia Meng | OK | |||||||||||||||||||||||||||||||||
885/2189 | Gviz 1.43.1 (landing page) | Robert Ivanek | OK | |||||||||||||||||||||||||||||||||
886/2189 | GWAS.BAYES 1.9.5 (landing page) | Jacob Williams | OK | |||||||||||||||||||||||||||||||||
887/2189 | gwascat 2.31.0 (landing page) | VJ Carey | OK | |||||||||||||||||||||||||||||||||
888/2189 | GWASTools 1.45.0 (landing page) | Stephanie M. Gogarten | WARNINGS | |||||||||||||||||||||||||||||||||
889/2189 | gwasurvivr 1.17.0 (landing page) | Abbas Rizvi | OK | |||||||||||||||||||||||||||||||||
890/2189 | GWENA 1.9.0 (landing page) | Gwenaëlle Lemoine | WARNINGS | |||||||||||||||||||||||||||||||||
|
| |||||||||||||||||||||||||||||||||||
Package | Maintainer | INSTALL/BUILD/CHECK | ||||||||||||||||||||||||||||||||||
891/2189 | h5vc 2.33.0 (landing page) | Paul Theodor Pyl | ERROR | |||||||||||||||||||||||||||||||||
892/2189 | hapFabia 1.41.0 (landing page) | Andreas Mitterecker | WARNINGS | |||||||||||||||||||||||||||||||||
893/2189 | Harman 1.27.0 (landing page) | Jason Ross | OK | |||||||||||||||||||||||||||||||||
894/2189 | Harshlight 1.71.0 (landing page) | Maurizio Pellegrino | WARNINGS | |||||||||||||||||||||||||||||||||
895/2189 | hca 1.7.1 (landing page) | Martin Morgan | OK | |||||||||||||||||||||||||||||||||
896/2189 | HDF5Array 1.27.0 (landing page) | Hervé Pagès | WARNINGS | |||||||||||||||||||||||||||||||||
897/2189 | HDTD 1.33.0 (landing page) | Anestis Touloumis | OK | |||||||||||||||||||||||||||||||||
898/2189 | heatmaps 1.23.0 (landing page) | Malcolm Perry | OK | |||||||||||||||||||||||||||||||||
899/2189 | Heatplus 3.7.0 (landing page) | Alexander Ploner | OK | |||||||||||||||||||||||||||||||||
900/2189 | HelloRanges 1.25.0 (landing page) | Michael Lawrence | OK | |||||||||||||||||||||||||||||||||
901/2189 | HELP 1.57.0 (landing page) | Reid F. Thompson | OK | |||||||||||||||||||||||||||||||||
902/2189 | HEM 1.71.0 (landing page) | HyungJun Cho | OK | |||||||||||||||||||||||||||||||||
903/2189 | hermes 1.3.0 (landing page) | Daniel Sabanés Bové | OK | |||||||||||||||||||||||||||||||||
904/2189 | Herper 1.9.0 (landing page) | Thomas Carroll | ERROR | |||||||||||||||||||||||||||||||||
905/2189 | HGC 1.7.0 (landing page) | XGlab | WARNINGS | |||||||||||||||||||||||||||||||||
906/2189 | hiAnnotator 1.33.0 (landing page) | Nirav V Malani | OK | |||||||||||||||||||||||||||||||||
907/2189 | HIBAG 1.35.3 (landing page) | Xiuwen Zheng | OK | |||||||||||||||||||||||||||||||||
908/2189 | HiCBricks 1.17.0 (landing page) | Koustav Pal | OK | |||||||||||||||||||||||||||||||||
909/2189 | HiCcompare 1.21.0 (landing page) | John Stansfield | WARNINGS | |||||||||||||||||||||||||||||||||
910/2189 | HiCDCPlus 1.7.0 (landing page) | Merve Sahin | OK | |||||||||||||||||||||||||||||||||
911/2189 | HiCDOC 1.1.1 (landing page) | Maigné Élise | ERROR | |||||||||||||||||||||||||||||||||
912/2189 | HiCExperiment 0.99.11 (landing page) | Jacques Serizay | OK | |||||||||||||||||||||||||||||||||
913/2189 | HiContacts 1.1.2 (landing page) | Jacques Serizay | ERROR | |||||||||||||||||||||||||||||||||
914/2189 | HiCool 0.99.4 (landing page) | Jacques Serizay | ERROR | |||||||||||||||||||||||||||||||||
915/2189 | hierGWAS 1.29.0 (landing page) | Laura Buzdugan | WARNINGS | |||||||||||||||||||||||||||||||||
916/2189 | hierinf 1.17.0 (landing page) | Claude Renaux | OK | |||||||||||||||||||||||||||||||||
917/2189 | HilbertCurve 1.29.0 (landing page) | Zuguang Gu | OK | |||||||||||||||||||||||||||||||||
918/2189 | HilbertVis 1.57.0 (landing page) | Simon Anders | WARNINGS | |||||||||||||||||||||||||||||||||
919/2189 | HilbertVisGUI 1.57.0 (landing page) | Simon Anders | WARNINGS | |||||||||||||||||||||||||||||||||
920/2189 | HiLDA 1.13.0 (landing page) | Zhi Yang | OK | |||||||||||||||||||||||||||||||||
921/2189 | hipathia 2.99.3 (landing page) | Marta R. Hidalgo | OK | |||||||||||||||||||||||||||||||||
922/2189 | HIPPO 1.11.0 (landing page) | Tae Kim | OK | |||||||||||||||||||||||||||||||||
923/2189 | hiReadsProcessor 1.35.0 (landing page) | Nirav V Malani | OK | |||||||||||||||||||||||||||||||||
924/2189 | HIREewas 1.17.0 (landing page) | Xiangyu Luo | OK | |||||||||||||||||||||||||||||||||
925/2189 | HiTC 1.43.0 (landing page) | Nicolas Servant | WARNINGS | |||||||||||||||||||||||||||||||||
926/2189 | hmdbQuery 1.19.0 (landing page) | VJ Carey | OK | |||||||||||||||||||||||||||||||||
927/2189 | HMMcopy 1.41.0 (landing page) | Daniel Lai | WARNINGS | |||||||||||||||||||||||||||||||||
928/2189 | hopach 2.59.0 (landing page) | Katherine S. Pollard | OK | |||||||||||||||||||||||||||||||||
929/2189 | HPAanalyze 1.17.2 (landing page) | Anh Nhat Tran | OK | |||||||||||||||||||||||||||||||||
930/2189 | hpar 1.41.1 (landing page) | Laurent Gatto | OK | |||||||||||||||||||||||||||||||||
931/2189 | HPAStainR 1.9.0 (landing page) | Tim O. Nieuwenhuis | ERROR | |||||||||||||||||||||||||||||||||
932/2189 | HPiP 1.5.3 (landing page) | Matineh Rahmatbakhsh | OK | |||||||||||||||||||||||||||||||||
933/2189 | HTqPCR 1.53.0 (landing page) | Heidi Dvinge | OK | |||||||||||||||||||||||||||||||||
934/2189 | HTSeqGenie 4.29.1 (landing page) | Jens Reeder | OK | |||||||||||||||||||||||||||||||||
935/2189 | HTSFilter 1.39.0 (landing page) | Andrea Rau | OK | |||||||||||||||||||||||||||||||||
936/2189 | HubPub 1.7.1 (landing page) | Kayla Interdonato | OK | |||||||||||||||||||||||||||||||||
937/2189 | HumanTranscriptomeCompendium 1.15.1 (landing page) | VJ Carey | WARNINGS | |||||||||||||||||||||||||||||||||
938/2189 | hummingbird 1.9.0 (landing page) | Eleni Adam | OK | |||||||||||||||||||||||||||||||||
939/2189 | HybridMTest 1.43.0 (landing page) | Demba Fofana | OK | |||||||||||||||||||||||||||||||||
940/2189 | hypeR 1.15.0 (landing page) | Anthony Federico | ERROR | |||||||||||||||||||||||||||||||||
941/2189 | hyperdraw 1.51.0 (landing page) | Paul Murrell | OK | |||||||||||||||||||||||||||||||||
942/2189 | hypergraph 1.71.0 (landing page) | Bioconductor Package Maintainer | OK | |||||||||||||||||||||||||||||||||
|
| |||||||||||||||||||||||||||||||||||
Package | Maintainer | INSTALL/BUILD/CHECK | ||||||||||||||||||||||||||||||||||
943/2189 | iASeq 1.43.0 (landing page) | Yingying Wei | OK | |||||||||||||||||||||||||||||||||
944/2189 | iasva 1.17.0 (landing page) | Donghyung Lee | OK | |||||||||||||||||||||||||||||||||
945/2189 | iBBiG 1.43.0 (landing page) | Aedin Culhane | OK | |||||||||||||||||||||||||||||||||
946/2189 | ibh 1.47.0 (landing page) | Kircicegi Korkmaz | OK | |||||||||||||||||||||||||||||||||
947/2189 | iBMQ 1.39.0 (landing page) | Greg Imholte | OK | |||||||||||||||||||||||||||||||||
948/2189 | iCARE 1.27.0 (landing page) | Bill Wheeler | WARNINGS | |||||||||||||||||||||||||||||||||
949/2189 | Icens 1.71.0 (landing page) | Bioconductor Package Maintainer | OK | |||||||||||||||||||||||||||||||||
950/2189 | icetea 1.17.0 (landing page) | Vivek Bhardwaj | ERROR | |||||||||||||||||||||||||||||||||
951/2189 | iCheck 1.29.0 (landing page) | Weiliang Qiu | OK | |||||||||||||||||||||||||||||||||
952/2189 | iChip 1.53.0 (landing page) | Qianxing Mo | WARNINGS | |||||||||||||||||||||||||||||||||
953/2189 | iClusterPlus 1.35.1 (landing page) | Qianxing Mo | WARNINGS | |||||||||||||||||||||||||||||||||
954/2189 | iCNV 1.19.0 (landing page) | Zilu Zhou | WARNINGS | |||||||||||||||||||||||||||||||||
955/2189 | iCOBRA 1.27.0 (landing page) | Charlotte Soneson | OK | |||||||||||||||||||||||||||||||||
956/2189 | ideal 1.23.0 (landing page) | Federico Marini | ERROR | |||||||||||||||||||||||||||||||||
957/2189 | IdeoViz 1.35.0 (landing page) | Shraddha Pai | WARNINGS | |||||||||||||||||||||||||||||||||
958/2189 | idiogram 1.75.0 (landing page) | Karl J. Dykema | OK | |||||||||||||||||||||||||||||||||
959/2189 | idpr 1.9.15 (landing page) | William M. McFadden | ERROR | |||||||||||||||||||||||||||||||||
960/2189 | idr2d 1.13.0 (landing page) | Konstantin Krismer | OK | |||||||||||||||||||||||||||||||||
961/2189 | IFAA 1.1.2 (landing page) | Zhigang Li | OK | |||||||||||||||||||||||||||||||||
962/2189 | iGC 1.29.0 (landing page) | Liang-Bo Wang | OK | |||||||||||||||||||||||||||||||||
963/2189 | IgGeneUsage 1.13.1 (landing page) | Simo Kitanovski | TIMEOUT | |||||||||||||||||||||||||||||||||
964/2189 | igvR 1.19.7 (landing page) | Paul Shannon | ERROR | |||||||||||||||||||||||||||||||||
965/2189 | IHW 1.27.0 (landing page) | Nikos Ignatiadis | ERROR | |||||||||||||||||||||||||||||||||
966/2189 | illuminaio 0.41.0 (landing page) | Kasper Daniel Hansen | OK | |||||||||||||||||||||||||||||||||
967/2189 | ILoReg 1.9.0 (landing page) | Johannes Smolander | WARNINGS | |||||||||||||||||||||||||||||||||
968/2189 | imageHTS 1.49.0 (landing page) | Joseph Barry | ERROR | |||||||||||||||||||||||||||||||||
969/2189 | IMAS 1.23.0 (landing page) | Seonggyun Han | OK | |||||||||||||||||||||||||||||||||
970/2189 | imcRtools 1.5.2 (landing page) | Nils Eling | TIMEOUT | |||||||||||||||||||||||||||||||||
971/2189 | IMMAN 1.19.0 (landing page) | Minoo Ashtiani | OK | |||||||||||||||||||||||||||||||||
972/2189 | ImmuneSpaceR 1.27.1 (landing page) | ImmuneSpace Package Maintainer | OK | |||||||||||||||||||||||||||||||||
973/2189 | immunoClust 1.31.10 (landing page) | Till Soerensen | WARNINGS | |||||||||||||||||||||||||||||||||
974/2189 | immunotation 1.7.0 (landing page) | Katharina Imkeller | OK | |||||||||||||||||||||||||||||||||
975/2189 | IMPCdata 1.35.0 (landing page) | Jeremy Mason | OK | |||||||||||||||||||||||||||||||||
976/2189 | impute 1.73.0 (landing page) | Balasubramanian Narasimhan | OK | |||||||||||||||||||||||||||||||||
977/2189 | INDEED 2.13.0 (landing page) | Ressom group | OK | |||||||||||||||||||||||||||||||||
978/2189 | infercnv 1.15.2 (landing page) | Christophe Georgescu | OK | |||||||||||||||||||||||||||||||||
979/2189 | infinityFlow 1.9.0 (landing page) | Etienne Becht | OK | |||||||||||||||||||||||||||||||||
980/2189 | Informeasure 1.9.0 (landing page) | Chu Pan | OK | |||||||||||||||||||||||||||||||||
981/2189 | InPAS 2.7.0 (landing page) | Jianhong Ou | OK | |||||||||||||||||||||||||||||||||
982/2189 | INPower 1.35.0 (landing page) | Bill Wheeler | OK | |||||||||||||||||||||||||||||||||
983/2189 | INSPEcT 1.29.0 (landing page) | Stefano de Pretis | OK | |||||||||||||||||||||||||||||||||
984/2189 | INTACT 0.99.8 (landing page) | Jeffrey Okamoto | OK | |||||||||||||||||||||||||||||||||
985/2189 | InTAD 1.19.0 (landing page) | Konstantin Okonechnikov | OK | |||||||||||||||||||||||||||||||||
986/2189 | intansv 1.39.0 (landing page) | Wen Yao | OK | |||||||||||||||||||||||||||||||||
987/2189 | interacCircos 1.9.0 (landing page) | Zhe Cui | OK | |||||||||||||||||||||||||||||||||
988/2189 | InteractionSet 1.27.0 (landing page) | Aaron Lun | WARNINGS | |||||||||||||||||||||||||||||||||
989/2189 | InteractiveComplexHeatmap 1.7.1 (landing page) | Zuguang Gu | OK | |||||||||||||||||||||||||||||||||
990/2189 | interactiveDisplay 1.37.0 (landing page) | Bioconductor Package Maintainer | OK | |||||||||||||||||||||||||||||||||
991/2189 | interactiveDisplayBase 1.37.0 (landing page) | Bioconductor Package Maintainer | OK | |||||||||||||||||||||||||||||||||
992/2189 | InterCellar 2.5.0 (landing page) | Marta Interlandi | OK | |||||||||||||||||||||||||||||||||
993/2189 | IntEREst 1.23.7 (landing page) | Ali Oghabian | OK | |||||||||||||||||||||||||||||||||
994/2189 | InterMineR 1.21.0 (landing page) | InterMine Team | WARNINGS | |||||||||||||||||||||||||||||||||
995/2189 | IntOMICS 0.99.24 (landing page) | Pacinkova Anna | WARNINGS | |||||||||||||||||||||||||||||||||
996/2189 | IntramiRExploreR 1.21.0 (landing page) | Surajit Bhattacharya | WARNINGS | |||||||||||||||||||||||||||||||||
997/2189 | IONiseR 2.23.0 (landing page) | Mike Smith | OK | |||||||||||||||||||||||||||||||||
998/2189 | iPAC 1.43.0 (landing page) | Gregory Ryslik | OK | |||||||||||||||||||||||||||||||||
999/2189 | iPath 1.5.0 (landing page) | Kenong Su | ERROR | |||||||||||||||||||||||||||||||||
1000/2189 | ipdDb 1.17.0 (landing page) | Steffen Klasberg | OK | |||||||||||||||||||||||||||||||||
1001/2189 | IPO 1.25.0 (landing page) | Thomas Lieb | OK | |||||||||||||||||||||||||||||||||
1002/2189 | IRanges 2.33.0 (landing page) | Hervé Pagès | WARNINGS | |||||||||||||||||||||||||||||||||
1003/2189 | IRISFGM 1.7.0 (landing page) | Yuzhou Chang | WARNINGS | |||||||||||||||||||||||||||||||||
1004/2189 | ISAnalytics 1.9.1 (landing page) | Andrea Calabria | ERROR | |||||||||||||||||||||||||||||||||
1005/2189 | iSEE 2.11.4 (landing page) | Kevin Rue-Albrecht | OK | |||||||||||||||||||||||||||||||||
1006/2189 | iSEEhex 1.1.0 (landing page) | Kevin Rue-Albrecht | OK | |||||||||||||||||||||||||||||||||
1007/2189 | iSEEhub 1.1.1 (landing page) | Kevin Rue-Albrecht | OK | |||||||||||||||||||||||||||||||||
1008/2189 | iSEEu 1.11.2 (landing page) | Kevin Rue-Albrecht | WARNINGS | |||||||||||||||||||||||||||||||||
1009/2189 | iSeq 1.51.0 (landing page) | Qianxing Mo | OK | |||||||||||||||||||||||||||||||||
1010/2189 | ISLET 1.1.0 (landing page) | Hao Feng | WARNINGS | |||||||||||||||||||||||||||||||||
1011/2189 | isobar 1.45.0 (landing page) | Florian P Breitwieser | WARNINGS | |||||||||||||||||||||||||||||||||
1012/2189 | IsoCorrectoR 1.17.0 (landing page) | Christian Kohler | ERROR | |||||||||||||||||||||||||||||||||
1013/2189 | IsoCorrectoRGUI 1.15.0 (landing page) | Christian Kohler | OK | |||||||||||||||||||||||||||||||||
1014/2189 | IsoformSwitchAnalyzeR 1.21.0 (landing page) | Kristoffer Vitting-Seerup | ERROR | |||||||||||||||||||||||||||||||||
1015/2189 | ISoLDE 1.27.0 (landing page) | Christelle Reynès | WARNINGS | |||||||||||||||||||||||||||||||||
1016/2189 | isomiRs 1.27.0 (landing page) | Lorena Pantano | OK | |||||||||||||||||||||||||||||||||
1017/2189 | ITALICS 2.59.0 (landing page) | Guillem Rigaill | OK | |||||||||||||||||||||||||||||||||
1018/2189 | iterativeBMA 1.57.0 (landing page) | Ka Yee Yeung | OK | |||||||||||||||||||||||||||||||||
1019/2189 | iterativeBMAsurv 1.57.0 (landing page) | Ka Yee Yeung | WARNINGS | |||||||||||||||||||||||||||||||||
1020/2189 | iterClust 1.21.0 (landing page) | Hongxu Ding | OK | |||||||||||||||||||||||||||||||||
1021/2189 | IVAS 2.19.0 (landing page) | Seonggyun Han | WARNINGS | |||||||||||||||||||||||||||||||||
1022/2189 | ivygapSE 1.21.0 (landing page) | VJ Carey | OK | |||||||||||||||||||||||||||||||||
1023/2189 | IWTomics 1.23.0 (landing page) | Marzia A Cremona | WARNINGS | |||||||||||||||||||||||||||||||||
|
| |||||||||||||||||||||||||||||||||||
Package | Maintainer | INSTALL/BUILD/CHECK | ||||||||||||||||||||||||||||||||||
1024/2189 | karyoploteR 1.25.0 (landing page) | Bernat Gel | OK | |||||||||||||||||||||||||||||||||
1025/2189 | katdetectr 1.1.3 (landing page) | Daan Hazelaar | OK | |||||||||||||||||||||||||||||||||
1026/2189 | KBoost 1.7.0 (landing page) | Luis F. Iglesias-Martinez | OK | |||||||||||||||||||||||||||||||||
1027/2189 | KCsmart 2.57.0 (landing page) | Jorma de Ronde | WARNINGS | |||||||||||||||||||||||||||||||||
1028/2189 | kebabs 1.33.1 (landing page) | Ulrich Bodenhofer | OK | |||||||||||||||||||||||||||||||||
1029/2189 | KEGGgraph 1.59.3 (landing page) | Jitao David Zhang | WARNINGS | |||||||||||||||||||||||||||||||||
1030/2189 | KEGGlincs 1.25.0 (landing page) | Shana White | OK | |||||||||||||||||||||||||||||||||
1031/2189 | keggorthology 2.51.0 (landing page) | VJ Carey | OK | |||||||||||||||||||||||||||||||||
1032/2189 | KEGGREST 1.39.0 (landing page) | Bioconductor Package Maintainer | OK | |||||||||||||||||||||||||||||||||
1033/2189 | KinSwingR 1.17.0 (landing page) | Ashley J. Waardenberg | OK | |||||||||||||||||||||||||||||||||
1034/2189 | kissDE 1.19.0 (landing page) | Aurélie Siberchicot | ERROR | |||||||||||||||||||||||||||||||||
1035/2189 | KnowSeq 1.13.0 (landing page) | Daniel Castillo-Secilla | ERROR | |||||||||||||||||||||||||||||||||
|
| |||||||||||||||||||||||||||||||||||
Package | Maintainer | INSTALL/BUILD/CHECK | ||||||||||||||||||||||||||||||||||
1036/2189 | LACE 2.3.0 (landing page) | Davide Maspero | OK | |||||||||||||||||||||||||||||||||
1037/2189 | lapmix 1.65.0 (landing page) | Yann Ruffieux | OK | |||||||||||||||||||||||||||||||||
1038/2189 | LBE 1.67.0 (landing page) | Cyril Dalmasso | OK | |||||||||||||||||||||||||||||||||
1039/2189 | ldblock 1.29.0 (landing page) | VJ Carey | OK | |||||||||||||||||||||||||||||||||
1040/2189 | LEA 3.11.4 (landing page) | Olivier Francois | OK | |||||||||||||||||||||||||||||||||
1041/2189 | LedPred 1.33.0 (landing page) | Aitor Gonzalez | ERROR | |||||||||||||||||||||||||||||||||
1042/2189 | lefser 1.9.0 (landing page) | Asya Khleborodova | OK | |||||||||||||||||||||||||||||||||
1043/2189 | les 1.49.0 (landing page) | Julian Gehring | OK | |||||||||||||||||||||||||||||||||
1044/2189 | levi 1.17.0 (landing page) | Jose Luiz Rybarczyk Filho | OK | |||||||||||||||||||||||||||||||||
1045/2189 | lfa 1.29.0 (landing page) | Wei Hao | ERROR | |||||||||||||||||||||||||||||||||
1046/2189 | limma 3.55.5 (landing page) | Gordon Smyth | OK | |||||||||||||||||||||||||||||||||
1047/2189 | limmaGUI 1.75.0 (landing page) | Gordon Smyth | OK | |||||||||||||||||||||||||||||||||
1048/2189 | LineagePulse 1.19.0 (landing page) | David S Fischer | WARNINGS | |||||||||||||||||||||||||||||||||
1049/2189 | lineagespot 1.3.0 (landing page) | Nikolaos Pechlivanis | OK | |||||||||||||||||||||||||||||||||
1050/2189 | LinkHD 1.13.0 (landing page) | "Laura M Zingaretti" | OK | |||||||||||||||||||||||||||||||||
1051/2189 | Linnorm 2.23.0 (landing page) | Ken Shun Hang Yip | OK | |||||||||||||||||||||||||||||||||
1052/2189 | LinTInd 1.3.0 (landing page) | Luyue Wang | OK | |||||||||||||||||||||||||||||||||
1053/2189 | lionessR 1.13.0 (landing page) | Ping-Han Hsieh | OK | |||||||||||||||||||||||||||||||||
1054/2189 | lipidr 2.13.0 (landing page) | Ahmed Mohamed | WARNINGS | |||||||||||||||||||||||||||||||||
1055/2189 | LiquidAssociation 1.53.0 (landing page) | Yen-Yi Ho | OK | |||||||||||||||||||||||||||||||||
1056/2189 | lisaClust 1.7.3 (landing page) | Ellis Patrick | OK | |||||||||||||||||||||||||||||||||
1057/2189 | lmdme 1.41.0 (landing page) | Cristobal Fresno | WARNINGS | |||||||||||||||||||||||||||||||||
1058/2189 | LOBSTAHS 1.25.0 (landing page) | Henry Holm | WARNINGS | |||||||||||||||||||||||||||||||||
1059/2189 | loci2path 1.19.0 (landing page) | Tianlei Xu | OK | |||||||||||||||||||||||||||||||||
1060/2189 | logicFS 2.19.0 (landing page) | Holger Schwender | OK | |||||||||||||||||||||||||||||||||
1061/2189 | logitT 1.57.0 (landing page) | Tobias Guennel | OK | |||||||||||||||||||||||||||||||||
1062/2189 | LOLA 1.29.0 (landing page) | Nathan Sheffield | OK | |||||||||||||||||||||||||||||||||
1063/2189 | LoomExperiment 1.17.0 (landing page) | Bioconductor Package Maintainer | OK | |||||||||||||||||||||||||||||||||
1064/2189 | LowMACA 1.29.0 (landing page) | Giorgio Melloni | ERROR | |||||||||||||||||||||||||||||||||
1065/2189 | LPE 1.73.0 (landing page) | Nitin Jain | OK | |||||||||||||||||||||||||||||||||
1066/2189 | LPEadj 1.59.0 (landing page) | Carl Murie | OK | |||||||||||||||||||||||||||||||||
1067/2189 | lpNet 2.31.0 (landing page) | Lars Kaderali | WARNINGS | |||||||||||||||||||||||||||||||||
1068/2189 | lpsymphony 1.27.1 (landing page) | Vladislav Kim | ERROR | |||||||||||||||||||||||||||||||||
1069/2189 | LRBaseDbi 2.9.0 (landing page) | Koki Tsuyuzaki | OK | |||||||||||||||||||||||||||||||||
1070/2189 | LRcell 1.7.0 (landing page) | Wenjing Ma | OK | |||||||||||||||||||||||||||||||||
1071/2189 | lumi 2.51.0 (landing page) | Lei Huang | WARNINGS | |||||||||||||||||||||||||||||||||
1072/2189 | LymphoSeq 1.27.0 (landing page) | David Coffey | ERROR | |||||||||||||||||||||||||||||||||
|
| |||||||||||||||||||||||||||||||||||
Package | Maintainer | INSTALL/BUILD/CHECK | ||||||||||||||||||||||||||||||||||
1073/2189 | M3C 1.21.0 (landing page) | Christopher John | OK | |||||||||||||||||||||||||||||||||
1074/2189 | M3Drop 1.25.0 (landing page) | Tallulah Andrews | WARNINGS | |||||||||||||||||||||||||||||||||
1075/2189 | m6Aboost 1.5.0 (landing page) | You Zhou | OK | |||||||||||||||||||||||||||||||||
1076/2189 | maanova 1.69.0 (landing page) | Keith Sheppard | ERROR | |||||||||||||||||||||||||||||||||
1077/2189 | Maaslin2 1.13.0 (landing page) | Lauren McIver | ERROR | |||||||||||||||||||||||||||||||||
1078/2189 | Macarron 1.3.0 (landing page) | Sagun Maharjan | ERROR | |||||||||||||||||||||||||||||||||
1079/2189 | macat 1.73.0 (landing page) | Joern Toedling | OK | |||||||||||||||||||||||||||||||||
1080/2189 | maCorrPlot 1.69.0 (landing page) | Alexander Ploner | OK | |||||||||||||||||||||||||||||||||
1081/2189 | MACSQuantifyR 1.13.0 (landing page) | Raphaël Bonnet | OK | |||||||||||||||||||||||||||||||||
1082/2189 | MACSr 1.7.0 (landing page) | Qiang Hu | ERROR | |||||||||||||||||||||||||||||||||
1083/2189 | made4 1.73.0 (landing page) | Aedin Culhane | OK | |||||||||||||||||||||||||||||||||
1084/2189 | MADSEQ 1.25.0 (landing page) | Yu Kong | OK | |||||||||||||||||||||||||||||||||
1085/2189 | maftools 2.15.0 (landing page) | Anand Mayakonda | WARNINGS | |||||||||||||||||||||||||||||||||
1086/2189 | MAGAR 1.7.0 (landing page) | Michael Scherer | OK | |||||||||||||||||||||||||||||||||
1087/2189 | MAGeCKFlute 2.3.0 (landing page) | Wubing Zhang | OK | |||||||||||||||||||||||||||||||||
1088/2189 | magrene 1.1.0 (landing page) | Fabrício Almeida-Silva | OK | |||||||||||||||||||||||||||||||||
1089/2189 | MAI 1.5.0 (landing page) | Jonathan Dekermanjian | OK | |||||||||||||||||||||||||||||||||
1090/2189 | maigesPack 1.63.0 (landing page) | Gustavo H. Esteves | OK | |||||||||||||||||||||||||||||||||
1091/2189 | MAIT 1.33.0 (landing page) | Pol Sola-Santos | OK | |||||||||||||||||||||||||||||||||
1092/2189 | makecdfenv 1.75.0 (landing page) | James W. MacDonald | WARNINGS | |||||||||||||||||||||||||||||||||
1093/2189 | MANOR 1.71.0 (landing page) | Pierre Neuvial | WARNINGS | |||||||||||||||||||||||||||||||||
1094/2189 | MantelCorr 1.69.0 (landing page) | Brian Steinmeyer | OK | |||||||||||||||||||||||||||||||||
1095/2189 | mAPKL 1.29.0 (landing page) | Argiris Sakellariou | ERROR | |||||||||||||||||||||||||||||||||
1096/2189 | maPredictDSC 1.37.0 (landing page) | Adi Laurentiu Tarca | OK | |||||||||||||||||||||||||||||||||
1097/2189 | mapscape 1.23.0 (landing page) | Maia Smith | WARNINGS | |||||||||||||||||||||||||||||||||
1098/2189 | marr 1.9.0 (landing page) | Tusharkanti Ghosh | OK | |||||||||||||||||||||||||||||||||
1099/2189 | marray 1.77.0 (landing page) | Yee Hwa (Jean) Yang | OK | |||||||||||||||||||||||||||||||||
1100/2189 | martini 1.19.0 (landing page) | Hector Climente-Gonzalez | OK | |||||||||||||||||||||||||||||||||
1101/2189 | maser 1.17.0 (landing page) | Diogo F.T. Veiga | OK | |||||||||||||||||||||||||||||||||
1102/2189 | maSigPro 1.71.0 (landing page) | Maria Jose Nueda | OK | |||||||||||||||||||||||||||||||||
1103/2189 | maskBAD 1.43.0 (landing page) | Michael Dannemann | OK | |||||||||||||||||||||||||||||||||
1104/2189 | MassArray 1.51.0 (landing page) | Reid F. Thompson | OK | |||||||||||||||||||||||||||||||||
1105/2189 | massiR 1.35.0 (landing page) | Sam Buckberry | OK | |||||||||||||||||||||||||||||||||
1106/2189 | MassSpecWavelet 1.65.0 (landing page) | Sergio Oller Moreno | OK | |||||||||||||||||||||||||||||||||
1107/2189 | MAST 1.25.1 (landing page) | Andrew McDavid | OK | |||||||||||||||||||||||||||||||||
1108/2189 | matchBox 1.41.0 (landing page) | Luigi Marchionni | OK | |||||||||||||||||||||||||||||||||
1109/2189 | MatrixGenerics 1.11.0 (landing page) | Peter Hickey | OK | |||||||||||||||||||||||||||||||||
1110/2189 | MatrixQCvis 1.7.4 (landing page) | Thomas Naake | OK | |||||||||||||||||||||||||||||||||
1111/2189 | MatrixRider 1.31.0 (landing page) | Elena Grassi | WARNINGS | |||||||||||||||||||||||||||||||||
1112/2189 | matter 2.1.0 (landing page) | Kylie A. Bemis | OK | |||||||||||||||||||||||||||||||||
1113/2189 | MBAmethyl 1.33.0 (landing page) | Tao Wang | OK | |||||||||||||||||||||||||||||||||
1114/2189 | MBASED 1.33.0 (landing page) | Oleg Mayba | OK | |||||||||||||||||||||||||||||||||
1115/2189 | MBCB 1.53.0 (landing page) | Jeff Allen | OK | |||||||||||||||||||||||||||||||||
1116/2189 | MBECS 1.3.1 (landing page) | Michael Olbrich | OK | |||||||||||||||||||||||||||||||||
1117/2189 | mbkmeans 1.15.0 (landing page) | Davide Risso | OK | |||||||||||||||||||||||||||||||||
1118/2189 | mbOmic 1.3.0 (landing page) | Congcong Gong | OK | |||||||||||||||||||||||||||||||||
1119/2189 | mBPCR 1.53.0 (landing page) | P.M.V. Rancoita | OK | |||||||||||||||||||||||||||||||||
1120/2189 | MBQN 2.11.0 (landing page) | Eva Brombacher | OK | |||||||||||||||||||||||||||||||||
1121/2189 | mbQTL 0.99.5 (landing page) | Mercedeh Movassagh | OK | |||||||||||||||||||||||||||||||||
1122/2189 | MBttest 1.27.0 (landing page) | Yuan-De Tan | OK | |||||||||||||||||||||||||||||||||
1123/2189 | MCbiclust 1.23.0 (landing page) | Robert Bentham | OK | |||||||||||||||||||||||||||||||||
1124/2189 | mCSEA 1.19.0 (landing page) | Jordi Martorell-Marugán | OK | |||||||||||||||||||||||||||||||||
1125/2189 | mdp 1.19.0 (landing page) | Helder Nakaya | OK | |||||||||||||||||||||||||||||||||
1126/2189 | mdqc 1.61.0 (landing page) | Gabriela Cohen-Freue | OK | |||||||||||||||||||||||||||||||||
1127/2189 | MDTS 1.19.0 (landing page) | Jack M.. Fu | OK | |||||||||||||||||||||||||||||||||
1128/2189 | MEAL 1.29.0 (landing page) | Xavier Escribà Montagut | WARNINGS | |||||||||||||||||||||||||||||||||
1129/2189 | MeasurementError.cor 1.71.0 (landing page) | Beiying Ding | OK | |||||||||||||||||||||||||||||||||
1130/2189 | MEAT 1.11.0 (landing page) | Sarah Voisin | WARNINGS | |||||||||||||||||||||||||||||||||
1131/2189 | MEB 1.13.0 (landing page) | Jiadi Zhu | OK | |||||||||||||||||||||||||||||||||
1132/2189 | MEDIPS 1.51.0 (landing page) | Lukas Chavez | OK | |||||||||||||||||||||||||||||||||
1133/2189 | MEDME 1.59.0 (landing page) | Mattia Pelizzola | WARNINGS | |||||||||||||||||||||||||||||||||
1134/2189 | megadepth 1.9.0 (landing page) | David Zhang | ERROR | |||||||||||||||||||||||||||||||||
1135/2189 | MEIGOR 1.33.0 (landing page) | Jose A. Egea | ERROR | |||||||||||||||||||||||||||||||||
1136/2189 | Melissa 1.15.0 (landing page) | C. A. Kapourani | OK | |||||||||||||||||||||||||||||||||
1137/2189 | memes 1.7.0 (landing page) | Spencer Nystrom | WARNINGS | |||||||||||||||||||||||||||||||||
1138/2189 | Mergeomics 1.27.0 (landing page) | Zeyneb Kurt | OK | |||||||||||||||||||||||||||||||||
1139/2189 | MeSHDbi 1.35.0 (landing page) | Koki Tsuyuzaki | OK | |||||||||||||||||||||||||||||||||
1140/2189 | meshes 1.25.0 (landing page) | Guangchuang Yu | OK | |||||||||||||||||||||||||||||||||
1141/2189 | meshr 2.5.0 (landing page) | Koki Tsuyuzaki | OK | |||||||||||||||||||||||||||||||||
1142/2189 | MesKit 1.9.0 (landing page) | Mengni Liu | TIMEOUT | |||||||||||||||||||||||||||||||||
1143/2189 | messina 1.35.0 (landing page) | Mark Pinese | WARNINGS | |||||||||||||||||||||||||||||||||
1144/2189 | Metab 1.33.0 (landing page) | Raphael Aggio | ERROR | |||||||||||||||||||||||||||||||||
1145/2189 | metabCombiner 1.9.0 (landing page) | Hani Habra | OK | |||||||||||||||||||||||||||||||||
1146/2189 | metabinR 1.1.0 (landing page) | Anestis Gkanogiannis | OK | |||||||||||||||||||||||||||||||||
1147/2189 | MetaboAnnotation 1.3.1 (landing page) | Johannes Rainer | OK | |||||||||||||||||||||||||||||||||
1148/2189 | MetaboCoreUtils 1.7.0 (landing page) | Johannes Rainer | OK | |||||||||||||||||||||||||||||||||
1149/2189 | metabolomicsWorkbenchR 1.9.0 (landing page) | Gavin Rhys Lloyd | OK | |||||||||||||||||||||||||||||||||
1150/2189 | metabomxtr 1.33.0 (landing page) | Michael Nodzenski | OK | |||||||||||||||||||||||||||||||||
1151/2189 | MetaboSignal 1.29.0 (landing page) | Andrea Rodriguez-Martinez | OK | |||||||||||||||||||||||||||||||||
1152/2189 | metaCCA 1.27.0 (landing page) | Anna Cichonska | WARNINGS | |||||||||||||||||||||||||||||||||
1153/2189 | MetaCyto 1.21.0 (landing page) | Zicheng Hu | OK | |||||||||||||||||||||||||||||||||
1154/2189 | metagene 2.31.0 (landing page) | Charles Joly Beauparlant | ERROR | |||||||||||||||||||||||||||||||||
1155/2189 | metagene2 1.15.1 (landing page) | Eric Fournier | WARNINGS | |||||||||||||||||||||||||||||||||
1156/2189 | metagenomeSeq 1.41.0 (landing page) | Joseph N. Paulson | ERROR | |||||||||||||||||||||||||||||||||
1157/2189 | metahdep 1.57.0 (landing page) | John R. Stevens | WARNINGS | |||||||||||||||||||||||||||||||||
1158/2189 | metaMS 1.35.0 (landing page) | Yann Guitton | OK | |||||||||||||||||||||||||||||||||
1159/2189 | MetaNeighbor 1.19.0 (landing page) | Stephan Fischer | OK | |||||||||||||||||||||||||||||||||
1160/2189 | MetaPhOR 1.1.0 (landing page) | Emily Isenhart | TIMEOUT | |||||||||||||||||||||||||||||||||
1161/2189 | metapod 1.7.0 (landing page) | Aaron Lun | OK | |||||||||||||||||||||||||||||||||
1162/2189 | metapone 1.5.0 (landing page) | Tianwei Yu | OK | |||||||||||||||||||||||||||||||||
1163/2189 | metaSeq 1.39.0 (landing page) | Koki Tsuyuzaki | OK | |||||||||||||||||||||||||||||||||
1164/2189 | metaseqR2 1.11.0 (landing page) | Panagiotis Moulos | WARNINGS | |||||||||||||||||||||||||||||||||
1165/2189 | metavizr 1.23.0 (landing page) | Hector Corrada Bravo | ERROR | |||||||||||||||||||||||||||||||||
1166/2189 | MetaVolcanoR 1.13.0 (landing page) | Cesar Prada | ERROR | |||||||||||||||||||||||||||||||||
1167/2189 | MetCirc 1.29.1 (landing page) | Thomas Naake | OK | |||||||||||||||||||||||||||||||||
1168/2189 | MethCP 1.13.0 (landing page) | Boying Gong | ERROR | |||||||||||||||||||||||||||||||||
1169/2189 | methimpute 1.21.0 (landing page) | Aaron Taudt | OK | |||||||||||||||||||||||||||||||||
1170/2189 | methInheritSim 1.21.0 (landing page) | Pascal Belleau | OK | |||||||||||||||||||||||||||||||||
1171/2189 | MethPed 1.27.0 (landing page) | Helena Carén | OK | |||||||||||||||||||||||||||||||||
1172/2189 | MethReg 1.9.0 (landing page) | Tiago Silva | WARNINGS | |||||||||||||||||||||||||||||||||
1173/2189 | methrix 1.13.0 (landing page) | Anand Mayakonda | OK | |||||||||||||||||||||||||||||||||
1174/2189 | MethTargetedNGS 1.31.0 (landing page) | Muhammad Ahmer Jamil | OK | |||||||||||||||||||||||||||||||||
1175/2189 | MethylAid 1.33.0 (landing page) | L.J.Sinke | OK | |||||||||||||||||||||||||||||||||
1176/2189 | methylCC 1.13.1 (landing page) | Stephanie C. Hicks | OK | |||||||||||||||||||||||||||||||||
1177/2189 | methylclock 1.5.0 (landing page) | Dolors Pelegri-Siso | OK | |||||||||||||||||||||||||||||||||
1178/2189 | methylGSA 1.17.0 (landing page) | Xu Ren | OK | |||||||||||||||||||||||||||||||||
1179/2189 | methylInheritance 1.23.0 (landing page) | Astrid Deschênes | OK | |||||||||||||||||||||||||||||||||
1180/2189 | methylKit 1.25.0 (landing page) | Altuna Akalin | WARNINGS | |||||||||||||||||||||||||||||||||
1181/2189 | MethylMix 2.29.0 (landing page) | Olivier Gevaert | OK | |||||||||||||||||||||||||||||||||
1182/2189 | methylMnM 1.37.0 (landing page) | Yan Zhou | OK | |||||||||||||||||||||||||||||||||
1183/2189 | methylPipe 1.33.0 (landing page) | Kamal Kishore | WARNINGS | |||||||||||||||||||||||||||||||||
1184/2189 | methylscaper 1.7.0 (landing page) | Bacher Rhonda | OK | |||||||||||||||||||||||||||||||||
1185/2189 | MethylSeekR 1.39.0 (landing page) | Lukas Burger | OK | |||||||||||||||||||||||||||||||||
1186/2189 | methylSig 1.11.0 (landing page) | Raymond G. Cavalcante | OK | |||||||||||||||||||||||||||||||||
1187/2189 | methylumi 2.45.0 (landing page) | Sean Davis | OK | |||||||||||||||||||||||||||||||||
1188/2189 | MetID 1.17.0 (landing page) | Zhenzhi Li | OK | |||||||||||||||||||||||||||||||||
1189/2189 | MetNet 1.17.1 (landing page) | Thomas Naake | OK | |||||||||||||||||||||||||||||||||
1190/2189 | mfa 1.21.0 (landing page) | Kieran Campbell | OK | |||||||||||||||||||||||||||||||||
1191/2189 | Mfuzz 2.59.0 (landing page) | Matthias Futschik | WARNINGS | |||||||||||||||||||||||||||||||||
1192/2189 | MGFM 1.33.0 (landing page) | Khadija El Amrani | OK | |||||||||||||||||||||||||||||||||
1193/2189 | MGFR 1.25.0 (landing page) | Khadija El Amrani | OK | |||||||||||||||||||||||||||||||||
1194/2189 | mgsa 1.47.0 (landing page) | Sebastian Bauer | ERROR | |||||||||||||||||||||||||||||||||
1195/2189 | mia 1.7.9 (landing page) | Tuomas Borman | TIMEOUT | |||||||||||||||||||||||||||||||||
1196/2189 | miaSim 1.5.4 (landing page) | Yagmur Simsek | ERROR | |||||||||||||||||||||||||||||||||
1197/2189 | miaViz 1.7.4 (landing page) | Tuomas Borman | ERROR | |||||||||||||||||||||||||||||||||
1198/2189 | MiChip 1.53.0 (landing page) | Jonathon Blake | OK | |||||||||||||||||||||||||||||||||
1199/2189 | microbiome 1.21.0 (landing page) | Leo Lahti | OK | |||||||||||||||||||||||||||||||||
1200/2189 | microbiomeDASim 1.13.0 (landing page) | Justin Williams | OK | |||||||||||||||||||||||||||||||||
1201/2189 | microbiomeExplorer 1.9.0 (landing page) | Janina Reeder | OK | |||||||||||||||||||||||||||||||||
1202/2189 | microbiomeMarker 1.5.0 (landing page) | Yang Cao | OK | |||||||||||||||||||||||||||||||||
1203/2189 | MicrobiomeProfiler 1.5.0 (landing page) | Meijun Chen | OK | |||||||||||||||||||||||||||||||||
1204/2189 | MicrobiotaProcess 1.11.4 (landing page) | Shuangbin Xu | OK | |||||||||||||||||||||||||||||||||
1205/2189 | microRNA 1.57.0 (landing page) | "James F. Reid" | OK | |||||||||||||||||||||||||||||||||
1206/2189 | microSTASIS 0.99.2 (landing page) | Pedro Sánchez-Sánchez | ERROR | |||||||||||||||||||||||||||||||||
1207/2189 | midasHLA 1.7.0 (landing page) | Maciej Migdał | OK | |||||||||||||||||||||||||||||||||
1208/2189 | Juan C. Rodriguez | ERROR | ||||||||||||||||||||||||||||||||||
1209/2189 | miloR 1.7.1 (landing page) | Mike Morgan | OK | |||||||||||||||||||||||||||||||||
1210/2189 | mimager 1.23.0 (landing page) | Aaron Wolen | OK | |||||||||||||||||||||||||||||||||
1211/2189 | Greg Finak | ERROR | ||||||||||||||||||||||||||||||||||
1212/2189 | mina 1.7.0 (landing page) | Rui Guan | WARNINGS | |||||||||||||||||||||||||||||||||
1213/2189 | MineICA 1.39.0 (landing page) | Anne Biton | ERROR | |||||||||||||||||||||||||||||||||
1214/2189 | minet 3.57.0 (landing page) | Patrick E. Meyer | OK | |||||||||||||||||||||||||||||||||
1215/2189 | minfi 1.45.0 (landing page) | Kasper Daniel Hansen | OK | |||||||||||||||||||||||||||||||||
1216/2189 | MinimumDistance 1.43.0 (landing page) | Robert Scharpf | WARNINGS | |||||||||||||||||||||||||||||||||
1217/2189 | MiPP 1.71.0 (landing page) | Sukwoo Kim | OK | |||||||||||||||||||||||||||||||||
1218/2189 | miQC 1.7.1 (landing page) | Ariel Hippen | OK | |||||||||||||||||||||||||||||||||
1219/2189 | MIRA 1.21.0 (landing page) | John Lawson | OK | |||||||||||||||||||||||||||||||||
1220/2189 | MiRaGE 1.41.0 (landing page) | Y-h. Taguchi | WARNINGS | |||||||||||||||||||||||||||||||||
1221/2189 | miRBaseConverter 1.23.0 (landing page) | Taosheng Xu | OK | |||||||||||||||||||||||||||||||||
1222/2189 | miRcomp 1.29.0 (landing page) | Matthew N. McCall | WARNINGS | |||||||||||||||||||||||||||||||||
1223/2189 | mirIntegrator 1.29.0 (landing page) | Diana Diaz | OK | |||||||||||||||||||||||||||||||||
1224/2189 | miRLAB 1.29.0 (landing page) | Thuc Duy Le | OK | |||||||||||||||||||||||||||||||||
1225/2189 | miRmine 1.21.0 (landing page) | Dusan Randjelovic | OK | |||||||||||||||||||||||||||||||||
1226/2189 | miRNAmeConverter 1.27.0 (landing page) | Stefan J. Haunsberger | WARNINGS | |||||||||||||||||||||||||||||||||
1227/2189 | miRNApath 1.59.0 (landing page) | James M. Ward | OK | |||||||||||||||||||||||||||||||||
1228/2189 | miRNAtap 1.33.0 (landing page) | T. Ian Simpson | OK | |||||||||||||||||||||||||||||||||
1229/2189 | miRSM 1.17.0 (landing page) | Junpeng Zhang | OK | |||||||||||||||||||||||||||||||||
1230/2189 | miRspongeR 2.3.0 (landing page) | Junpeng Zhang | OK | |||||||||||||||||||||||||||||||||
1231/2189 | mirTarRnaSeq 1.7.0 (landing page) | Mercedeh Movassagh | WARNINGS | |||||||||||||||||||||||||||||||||
1232/2189 | missMethyl 1.33.1 (landing page) | Belinda Phipson | TIMEOUT | |||||||||||||||||||||||||||||||||
1233/2189 | missRows 1.19.0 (landing page) | Gonzalez Ignacio | OK | |||||||||||||||||||||||||||||||||
1234/2189 | mistyR 1.7.2 (landing page) | Jovan Tanevski | TIMEOUT | |||||||||||||||||||||||||||||||||
1235/2189 | mitch 1.11.4 (landing page) | Mark Ziemann | ERROR | |||||||||||||||||||||||||||||||||
1236/2189 | mitoClone2 1.5.0 (landing page) | Benjamin Story | ERROR | |||||||||||||||||||||||||||||||||
1237/2189 | mixOmics 6.23.4 (landing page) | Max Bladen | OK | |||||||||||||||||||||||||||||||||
1238/2189 | MLInterfaces 1.79.1 (landing page) | Vincent Carey | OK | |||||||||||||||||||||||||||||||||
1239/2189 | MLP 1.47.0 (landing page) | Tobias Verbeke | OK | |||||||||||||||||||||||||||||||||
1240/2189 | MLSeq 2.17.0 (landing page) | Gokmen Zararsiz | OK | |||||||||||||||||||||||||||||||||
1241/2189 | MMAPPR2 1.13.0 (landing page) | Jonathon Hill | OK | |||||||||||||||||||||||||||||||||
1242/2189 | MMDiff2 1.27.0 (landing page) | Gabriele Schweikert | WARNINGS | |||||||||||||||||||||||||||||||||
1243/2189 | MMUPHin 1.13.1 (landing page) | Siyuan MA | ERROR | |||||||||||||||||||||||||||||||||
1244/2189 | mnem 1.15.0 (landing page) | Martin Pirkl | OK | |||||||||||||||||||||||||||||||||
1245/2189 | moanin 1.7.0 (landing page) | Nelle Varoquaux | OK | |||||||||||||||||||||||||||||||||
1246/2189 | MobilityTransformR 1.3.0 (landing page) | Liesa Salzer | OK | |||||||||||||||||||||||||||||||||
1247/2189 | MODA 1.25.0 (landing page) | Dong Li | OK | |||||||||||||||||||||||||||||||||
1248/2189 | ModCon 1.7.0 (landing page) | Johannes Ptok | OK | |||||||||||||||||||||||||||||||||
1249/2189 | Modstrings 1.15.0 (landing page) | Felix G.M. Ernst | OK | |||||||||||||||||||||||||||||||||
1250/2189 | MOFA2 1.9.2 (landing page) | Ricard Argelaguet | OK | |||||||||||||||||||||||||||||||||
1251/2189 | MOGAMUN 1.9.0 (landing page) | Elva-María Novoa-del-Toro | OK | |||||||||||||||||||||||||||||||||
1252/2189 | mogsa 1.33.0 (landing page) | Chen Meng | OK | |||||||||||||||||||||||||||||||||
1253/2189 | MOMA 1.11.0 (landing page) | Sunny Jones | OK | |||||||||||||||||||||||||||||||||
1254/2189 | monaLisa 1.5.0 (landing page) | Michael Stadler | OK | |||||||||||||||||||||||||||||||||
1255/2189 | monocle 2.27.0 (landing page) | Cole Trapnell | OK | |||||||||||||||||||||||||||||||||
1256/2189 | MoonlightR 1.25.0 (landing page) | Matteo Tiberti | ERROR | |||||||||||||||||||||||||||||||||
1257/2189 | mosaics 2.37.0 (landing page) | Dongjun Chung | OK | |||||||||||||||||||||||||||||||||
1258/2189 | mosbi 1.5.0 (landing page) | Tim Daniel Rose | WARNINGS | |||||||||||||||||||||||||||||||||
1259/2189 | MOSim 1.13.0 (landing page) | Carlos Martínez | OK | |||||||||||||||||||||||||||||||||
1260/2189 | Motif2Site 1.3.0 (landing page) | Peyman Zarrineh | OK | |||||||||||||||||||||||||||||||||
1261/2189 | motifbreakR 2.13.7 (landing page) | Simon Gert Coetzee | WARNINGS | |||||||||||||||||||||||||||||||||
1262/2189 | motifcounter 1.23.0 (landing page) | Wolfgang Kopp | OK | |||||||||||||||||||||||||||||||||
1263/2189 | MotifDb 1.41.0 (landing page) | Paul Shannon | WARNINGS | |||||||||||||||||||||||||||||||||
1264/2189 | motifmatchr 1.21.0 (landing page) | Alicia Schep | OK | |||||||||||||||||||||||||||||||||
1265/2189 | motifStack 1.43.0 (landing page) | Jianhong Ou | OK | |||||||||||||||||||||||||||||||||
1266/2189 | MouseFM 1.9.0 (landing page) | Matthias Munz | OK | |||||||||||||||||||||||||||||||||
1267/2189 | MPFE 1.35.0 (landing page) | Conrad Burden | OK | |||||||||||||||||||||||||||||||||
1268/2189 | mpra 1.21.0 (landing page) | Leslie Myint | OK | |||||||||||||||||||||||||||||||||
1269/2189 | MPRAnalyze 1.17.0 (landing page) | Tal Ashuach | OK | |||||||||||||||||||||||||||||||||
1270/2189 | MQmetrics 1.7.0 (landing page) | Alvaro Sanchez-Villalba | OK | |||||||||||||||||||||||||||||||||
1271/2189 | msa 1.31.4 (landing page) | Ulrich Bodenhofer | ERROR | |||||||||||||||||||||||||||||||||
1272/2189 | MSA2dist 1.3.1 (landing page) | Kristian K Ullrich | OK | |||||||||||||||||||||||||||||||||
1273/2189 | MsBackendMassbank 1.7.4 (landing page) | RforMassSpectrometry Package Maintainer | OK | |||||||||||||||||||||||||||||||||
1274/2189 | MsBackendMgf 1.7.5 (landing page) | RforMassSpectrometry Package Maintainer | OK | |||||||||||||||||||||||||||||||||
1275/2189 | MsBackendMsp 1.3.1 (landing page) | Johannes Rainer | OK | |||||||||||||||||||||||||||||||||
1276/2189 | MsBackendRawFileReader 1.5.4 (landing page) | Christian Panse | OK | |||||||||||||||||||||||||||||||||
1277/2189 | MsBackendSql 0.99.4 (landing page) | Johannes Rainer | OK | |||||||||||||||||||||||||||||||||
1278/2189 | MsCoreUtils 1.11.5 (landing page) | RforMassSpectrometry Package Maintainer | ERROR | |||||||||||||||||||||||||||||||||
1279/2189 | MsExperiment 1.1.3 (landing page) | Laurent Gatto | OK | |||||||||||||||||||||||||||||||||
1280/2189 | MsFeatures 1.7.0 (landing page) | Johannes Rainer | OK | |||||||||||||||||||||||||||||||||
1281/2189 | msgbsR 1.23.0 (landing page) | Benjamin Mayne | OK | |||||||||||||||||||||||||||||||||
1282/2189 | msImpute 1.9.0 (landing page) | Soroor Hediyeh-zadeh | OK | |||||||||||||||||||||||||||||||||
1283/2189 | mslp 1.1.3 (landing page) | Chunxuan Shao | OK | |||||||||||||||||||||||||||||||||
1284/2189 | msmsEDA 1.37.0 (landing page) | Josep Gregori | OK | |||||||||||||||||||||||||||||||||
1285/2189 | msmsTests 1.37.0 (landing page) | Josep Gregori i Font | OK | |||||||||||||||||||||||||||||||||
1286/2189 | MSnbase 2.25.2 (landing page) | Laurent Gatto | OK | |||||||||||||||||||||||||||||||||
1287/2189 | MSnID 1.33.0 (landing page) | Vlad Petyuk | OK | |||||||||||||||||||||||||||||||||
1288/2189 | MSPrep 1.9.0 (landing page) | Max McGrath | OK | |||||||||||||||||||||||||||||||||
1289/2189 | msPurity 1.25.0 (landing page) | Thomas N. Lawson | OK | |||||||||||||||||||||||||||||||||
1290/2189 | msqrob2 1.7.1 (landing page) | Lieven Clement | OK | |||||||||||||||||||||||||||||||||
1291/2189 | MsQuality 0.99.8 (landing page) | Thomas Naake | OK | |||||||||||||||||||||||||||||||||
1292/2189 | MSstats 4.7.1 (landing page) | Meena Choi | OK | |||||||||||||||||||||||||||||||||
1293/2189 | MSstatsConvert 1.9.2 (landing page) | Mateusz Staniak | WARNINGS | |||||||||||||||||||||||||||||||||
1294/2189 | MSstatsLiP 1.5.1 (landing page) | Devon Kohler | OK | |||||||||||||||||||||||||||||||||
1295/2189 | MSstatsLOBD 1.7.0 (landing page) | Devon Kohler | OK | |||||||||||||||||||||||||||||||||
1296/2189 | MSstatsPTM 2.1.3 (landing page) | Devon Kohler | OK | |||||||||||||||||||||||||||||||||
1297/2189 | MSstatsQC 2.17.0 (landing page) | Eralp Dogu | ERROR | |||||||||||||||||||||||||||||||||
1298/2189 | MSstatsQCgui 1.19.0 (landing page) | Eralp Dogu | OK | |||||||||||||||||||||||||||||||||
1299/2189 | MSstatsSampleSize 1.13.0 (landing page) | Ting Huang | ERROR | |||||||||||||||||||||||||||||||||
1300/2189 | MSstatsShiny 1.1.10 (landing page) | Devon Kohler | OK | |||||||||||||||||||||||||||||||||
1301/2189 | MSstatsTMT 2.7.1 (landing page) | Ting Huang | OK | |||||||||||||||||||||||||||||||||
1302/2189 | MuData 1.3.0 (landing page) | Danila Bredikhin | OK | |||||||||||||||||||||||||||||||||
1303/2189 | Mulcom 1.49.0 (landing page) | Claudio Isella | WARNINGS | |||||||||||||||||||||||||||||||||
1304/2189 | MultiAssayExperiment 1.25.7 (landing page) | Marcel Ramos | OK | |||||||||||||||||||||||||||||||||
1305/2189 | MultiBaC 1.9.0 (landing page) | The package maintainer | OK | |||||||||||||||||||||||||||||||||
1306/2189 | multiClust 1.29.0 (landing page) | Nathan Lawlor | OK | |||||||||||||||||||||||||||||||||
1307/2189 | multicrispr 1.9.0 (landing page) | Aditya Bhagwat | OK | |||||||||||||||||||||||||||||||||
1308/2189 | MultiDataSet 1.27.0 (landing page) | Xavier Escribà Montagut | WARNINGS | |||||||||||||||||||||||||||||||||
1309/2189 | multiGSEA 1.9.1 (landing page) | Sebastian Canzler | ERROR | |||||||||||||||||||||||||||||||||
1310/2189 | multiHiCcompare 1.17.0 (landing page) | John Stansfield | OK | |||||||||||||||||||||||||||||||||
1311/2189 | MultiMed 2.21.0 (landing page) | Simina M. Boca | OK | |||||||||||||||||||||||||||||||||
1312/2189 | multiMiR 1.21.0 (landing page) | Matt Mulvahill | OK | |||||||||||||||||||||||||||||||||
1313/2189 | multiOmicsViz 1.23.0 (landing page) | Jing Wang | OK | |||||||||||||||||||||||||||||||||
1314/2189 | multiscan 1.59.0 (landing page) | Mizanur Khondoker | OK | |||||||||||||||||||||||||||||||||
1315/2189 | multiSight 1.7.0 (landing page) | Florian Jeanneret | ERROR | |||||||||||||||||||||||||||||||||
1316/2189 | multtest 2.55.0 (landing page) | Katherine S. Pollard | WARNINGS | |||||||||||||||||||||||||||||||||
1317/2189 | mumosa 1.7.1 (landing page) | Aaron Lun | OK | |||||||||||||||||||||||||||||||||
1318/2189 | MungeSumstats 1.7.19 (landing page) | Alan Murphy | OK | |||||||||||||||||||||||||||||||||
1319/2189 | muscat 1.13.1 (landing page) | Helena L. Crowell | OK | |||||||||||||||||||||||||||||||||
1320/2189 | muscle 3.41.0 (landing page) | Alex T. Kalinka | WARNINGS | |||||||||||||||||||||||||||||||||
1321/2189 | musicatk 1.9.0 (landing page) | Aaron Chevalier | OK | |||||||||||||||||||||||||||||||||
1322/2189 | MutationalPatterns 3.9.1 (landing page) | Mark van Roosmalen | OK | |||||||||||||||||||||||||||||||||
1323/2189 | MVCClass 1.73.0 (landing page) | Elizabeth Whalen | OK | |||||||||||||||||||||||||||||||||
1324/2189 | MWASTools 1.23.0 (landing page) | Andrea Rodriguez-Martinez | OK | |||||||||||||||||||||||||||||||||
1325/2189 | mygene 1.35.0 (landing page) | Adam Mark, Cyrus Afrasiabi, Chunlei Wu | OK | |||||||||||||||||||||||||||||||||
1326/2189 | myvariant 1.29.0 (landing page) | Adam Mark, Chunlei Wu | OK | |||||||||||||||||||||||||||||||||
1327/2189 | mzID 1.37.0 (landing page) | Laurent Gatto | OK | |||||||||||||||||||||||||||||||||
1328/2189 | mzR 2.33.0 (landing page) | Steffen Neumann | WARNINGS | |||||||||||||||||||||||||||||||||
|
| |||||||||||||||||||||||||||||||||||
Package | Maintainer | INSTALL/BUILD/CHECK | ||||||||||||||||||||||||||||||||||
1329/2189 | NADfinder 1.23.0 (landing page) | Jianhong Ou | ERROR | |||||||||||||||||||||||||||||||||
1330/2189 | NanoMethViz 2.5.3 (landing page) | Shian Su | OK | |||||||||||||||||||||||||||||||||
1331/2189 | NanoStringDiff 1.29.0 (landing page) | tingting zhai | WARNINGS | |||||||||||||||||||||||||||||||||
1332/2189 | NanoStringNCTools 1.7.1 (landing page) | Nicole Ortogero | WARNINGS | |||||||||||||||||||||||||||||||||
1333/2189 | Robert Ziman | ERROR | ||||||||||||||||||||||||||||||||||
1334/2189 | nanotatoR 1.15.0 (landing page) | Surajit Bhattacharya | OK | |||||||||||||||||||||||||||||||||
1335/2189 | NanoTube 1.5.2 (landing page) | Caleb Class | OK | |||||||||||||||||||||||||||||||||
1336/2189 | NBAMSeq 1.15.0 (landing page) | Xu Ren | OK | |||||||||||||||||||||||||||||||||
1337/2189 | NBSplice 1.17.0 (landing page) | Gabriela Merino | ERROR | |||||||||||||||||||||||||||||||||
1338/2189 | ncdfFlow 2.45.0 (landing page) | Mike Jiang | WARNINGS | |||||||||||||||||||||||||||||||||
1339/2189 | ncGTW 1.13.0 (landing page) | Chiung-Ting Wu | OK | |||||||||||||||||||||||||||||||||
1340/2189 | NCIgraph 1.47.0 (landing page) | Laurent Jacob | OK | |||||||||||||||||||||||||||||||||
1341/2189 | ncRNAtools 1.9.0 (landing page) | Lara Selles Vidal | OK | |||||||||||||||||||||||||||||||||
1342/2189 | ndexr (landing page) | ERROR | ||||||||||||||||||||||||||||||||||
1343/2189 | nearBynding 1.9.0 (landing page) | Veronica Busa | OK | |||||||||||||||||||||||||||||||||
1344/2189 | Nebulosa 1.9.0 (landing page) | Jose Alquicira-Hernandez | OK | |||||||||||||||||||||||||||||||||
1345/2189 | NeighborNet 1.17.0 (landing page) | Sahar Ansari | OK | |||||||||||||||||||||||||||||||||
1346/2189 | nempi 1.7.0 (landing page) | Martin Pirkl | OK | |||||||||||||||||||||||||||||||||
1347/2189 | NetActivity 1.1.0 (landing page) | Carlos Ruiz-Arenas | OK | |||||||||||||||||||||||||||||||||
1348/2189 | netbiov 1.33.0 (landing page) | Shailesh tripathi | ERROR | |||||||||||||||||||||||||||||||||
1349/2189 | netboost 2.7.4 (landing page) | Pascal Schlosser | OK | |||||||||||||||||||||||||||||||||
1350/2189 | netboxr 1.11.0 (landing page) | Eirc Minwei Liu | ERROR | |||||||||||||||||||||||||||||||||
1351/2189 | netDx 1.11.0 (landing page) | Shraddha Pai | ERROR | |||||||||||||||||||||||||||||||||
1352/2189 | nethet 1.31.0 (landing page) | Nicolas Staedler | WARNINGS | |||||||||||||||||||||||||||||||||
1353/2189 | netOmics 1.5.0 (landing page) | Antoine Bodein | ERROR | |||||||||||||||||||||||||||||||||
1354/2189 | NetPathMiner 1.35.7 (landing page) | Ahmed Mohamed | ERROR | |||||||||||||||||||||||||||||||||
1355/2189 | netprioR 1.25.0 (landing page) | Fabian Schmich | OK | |||||||||||||||||||||||||||||||||
1356/2189 | netresponse 1.59.0 (landing page) | Leo Lahti | ERROR | |||||||||||||||||||||||||||||||||
1357/2189 | NetSAM 1.39.0 (landing page) | Zhiao Shi | ERROR | |||||||||||||||||||||||||||||||||
1358/2189 | netSmooth 1.19.0 (landing page) | Jonathan Ronen | OK | |||||||||||||||||||||||||||||||||
1359/2189 | netZooR 1.3.6 (landing page) | Marouen Ben Guebila | ERROR | |||||||||||||||||||||||||||||||||
1360/2189 | NeuCA 1.5.0 (landing page) | Hao Feng | OK | |||||||||||||||||||||||||||||||||
1361/2189 | NewWave 1.9.0 (landing page) | Federico Agostinis | OK | |||||||||||||||||||||||||||||||||
1362/2189 | ngsReports 2.1.3 (landing page) | Stephen Pederson | OK | |||||||||||||||||||||||||||||||||
1363/2189 | nnNorm 2.63.0 (landing page) | Adi Laurentiu Tarca | OK | |||||||||||||||||||||||||||||||||
1364/2189 | nnSVG 1.3.10 (landing page) | Lukas M. Weber | OK | |||||||||||||||||||||||||||||||||
1365/2189 | NOISeq 2.43.0 (landing page) | Sonia Tarazona | OK | |||||||||||||||||||||||||||||||||
1366/2189 | nondetects 2.29.0 (landing page) | Valeriia Sherina | OK | |||||||||||||||||||||||||||||||||
1367/2189 | NoRCE 1.11.0 (landing page) | Gulden Olgun | OK | |||||||||||||||||||||||||||||||||
1368/2189 | normalize450K 1.27.0 (landing page) | Jonathan Alexander Heiss | OK | |||||||||||||||||||||||||||||||||
1369/2189 | NormalyzerDE 1.17.0 (landing page) | Jakob Willforss | OK | |||||||||||||||||||||||||||||||||
1370/2189 | NormqPCR 1.45.0 (landing page) | James Perkins | OK | |||||||||||||||||||||||||||||||||
1371/2189 | normr 1.25.0 (landing page) | Johannes Helmuth | WARNINGS | |||||||||||||||||||||||||||||||||
1372/2189 | NPARC 1.11.1 (landing page) | Nils Kurzawa | OK | |||||||||||||||||||||||||||||||||
1373/2189 | npGSEA 1.35.0 (landing page) | Jessica Larson | OK | |||||||||||||||||||||||||||||||||
1374/2189 | NTW 1.49.0 (landing page) | Yuanhua Liu | WARNINGS | |||||||||||||||||||||||||||||||||
1375/2189 | nucleoSim 1.27.0 (landing page) | Astrid Deschênes | OK | |||||||||||||||||||||||||||||||||
1376/2189 | nucleR 2.31.0 (landing page) | Alba Sala | WARNINGS | |||||||||||||||||||||||||||||||||
1377/2189 | nuCpos 1.17.4 (landing page) | Hiroaki Kato | OK | |||||||||||||||||||||||||||||||||
1378/2189 | nullranges 1.5.15 (landing page) | Michael Love | OK | |||||||||||||||||||||||||||||||||
1379/2189 | NuPoP 2.7.2 (landing page) | Ji-Ping Wang | OK | |||||||||||||||||||||||||||||||||
1380/2189 | NxtIRFcore 1.5.0 (landing page) | Alex Chit Hei Wong | OK | |||||||||||||||||||||||||||||||||
|
| |||||||||||||||||||||||||||||||||||
Package | Maintainer | INSTALL/BUILD/CHECK | ||||||||||||||||||||||||||||||||||
1381/2189 | occugene 1.59.0 (landing page) | Oliver Will | OK | |||||||||||||||||||||||||||||||||
1382/2189 | OCplus 1.73.0 (landing page) | Alexander Ploner | OK | |||||||||||||||||||||||||||||||||
1383/2189 | octad 1.1.0 (landing page) | E. Chekalin | OK | |||||||||||||||||||||||||||||||||
1384/2189 | ODER 1.5.0 (landing page) | David Zhang | OK | |||||||||||||||||||||||||||||||||
1385/2189 | odseq 1.27.0 (landing page) | José Jiménez | ERROR | |||||||||||||||||||||||||||||||||
1386/2189 | OGRE 1.3.0 (landing page) | Sven Berres | ERROR | |||||||||||||||||||||||||||||||||
1387/2189 | oligo 1.63.0 (landing page) | Benilton Carvalho | WARNINGS | |||||||||||||||||||||||||||||||||
1388/2189 | oligoClasses 1.61.0 (landing page) | Benilton Carvalho | WARNINGS | |||||||||||||||||||||||||||||||||
1389/2189 | OLIN 1.77.0 (landing page) | Matthias Futschik | OK | |||||||||||||||||||||||||||||||||
1390/2189 | OLINgui 1.73.0 (landing page) | Matthias Futschik | OK | |||||||||||||||||||||||||||||||||
1391/2189 | omada 1.1.0 (landing page) | Sokratis Kariotis | ERROR | |||||||||||||||||||||||||||||||||
1392/2189 | OmaDB 2.15.0 (landing page) | Klara Kaleb | OK | |||||||||||||||||||||||||||||||||
1393/2189 | omicade4 1.39.0 (landing page) | Chen Meng | OK | |||||||||||||||||||||||||||||||||
1394/2189 | OmicCircos 1.37.0 (landing page) | Ying Hu | WARNINGS | |||||||||||||||||||||||||||||||||
1395/2189 | omicplotR 1.19.0 (landing page) | Daniel Giguere | OK | |||||||||||||||||||||||||||||||||
1396/2189 | omicRexposome 1.21.0 (landing page) | Xavier Escribà Montagut | ERROR | |||||||||||||||||||||||||||||||||
1397/2189 | OmicsLonDA 1.15.0 (landing page) | Ahmed A. Metwally | ERROR | |||||||||||||||||||||||||||||||||
1398/2189 | OMICsPCA 1.17.0 (landing page) | Subhadeep Das | OK | |||||||||||||||||||||||||||||||||
1399/2189 | omicsPrint 1.19.0 (landing page) | Davy Cats | WARNINGS | |||||||||||||||||||||||||||||||||
1400/2189 | omicsViewer 1.3.3 (landing page) | Chen Meng | OK | |||||||||||||||||||||||||||||||||
1401/2189 | Omixer 1.9.0 (landing page) | Lucy Sinke | OK | |||||||||||||||||||||||||||||||||
1402/2189 | OmnipathR 3.7.3 (landing page) | Denes Turei | ERROR | |||||||||||||||||||||||||||||||||
1403/2189 | ompBAM 1.3.0 (landing page) | Alex Chit Hei Wong | OK | |||||||||||||||||||||||||||||||||
1404/2189 | oncomix 1.21.0 (landing page) | Daniel Pique | OK | |||||||||||||||||||||||||||||||||
1405/2189 | oncoscanR 1.1.0 (landing page) | Yann Christinat | OK | |||||||||||||||||||||||||||||||||
1406/2189 | OncoScore 1.27.0 (landing page) | Luca De Sano | OK | |||||||||||||||||||||||||||||||||
1407/2189 | OncoSimulR 4.1.4 (landing page) | Ramon Diaz-Uriarte | OK | |||||||||||||||||||||||||||||||||
1408/2189 | oneSENSE 1.21.0 (landing page) | Yong Kee Tan | ERROR | |||||||||||||||||||||||||||||||||
1409/2189 | onlineFDR 2.7.0 (landing page) | David S. Robertson | ERROR | |||||||||||||||||||||||||||||||||
1410/2189 | ontoProc 1.21.0 (landing page) | Vincent Carey | OK | |||||||||||||||||||||||||||||||||
1411/2189 | openCyto 2.11.1 (landing page) | Mike Jiang | WARNINGS | |||||||||||||||||||||||||||||||||
1412/2189 | openPrimeR 1.21.0 (landing page) | Matthias Döring | OK | |||||||||||||||||||||||||||||||||
1413/2189 | openPrimeRui 1.21.0 (landing page) | Matthias Döring | OK | |||||||||||||||||||||||||||||||||
1414/2189 | OpenStats 1.11.0 (landing page) | Hamed Haseli Mashhadi | OK | |||||||||||||||||||||||||||||||||
1415/2189 | oposSOM 2.17.0 (landing page) | Henry Loeffler-Wirth | WARNINGS | |||||||||||||||||||||||||||||||||
1416/2189 | oppar 1.27.0 (landing page) | Soroor Hediyeh zadeh | WARNINGS | |||||||||||||||||||||||||||||||||
1417/2189 | oppti 1.13.0 (landing page) | Abdulkadir Elmas | WARNINGS | |||||||||||||||||||||||||||||||||
1418/2189 | optimalFlow 1.11.0 (landing page) | Hristo Inouzhe | ERROR | |||||||||||||||||||||||||||||||||
1419/2189 | OPWeight 1.21.0 (landing page) | Mohamad Hasan | OK | |||||||||||||||||||||||||||||||||
1420/2189 | OrderedList 1.71.1 (landing page) | Claudio Lottaz | OK | |||||||||||||||||||||||||||||||||
1421/2189 | ORFhunteR 1.7.0 (landing page) | Vasily V. Grinev | WARNINGS | |||||||||||||||||||||||||||||||||
1422/2189 | ORFik 1.19.7 (landing page) | Haakon Tjeldnes | OK | |||||||||||||||||||||||||||||||||
1423/2189 | Organism.dplyr 1.27.1 (landing page) | Martin Morgan | ERROR | |||||||||||||||||||||||||||||||||
1424/2189 | OrganismDbi 1.41.0 (landing page) | Bioconductor Package Maintainer | WARNINGS | |||||||||||||||||||||||||||||||||
1425/2189 | orthogene 1.5.1 (landing page) | Brian Schilder | ERROR | |||||||||||||||||||||||||||||||||
1426/2189 | OSAT 1.47.0 (landing page) | Li Yan | OK | |||||||||||||||||||||||||||||||||
1427/2189 | Oscope 1.29.0 (landing page) | Ning Leng | OK | |||||||||||||||||||||||||||||||||
1428/2189 | OTUbase 1.49.0 (landing page) | Daniel Beck | OK | |||||||||||||||||||||||||||||||||
1429/2189 | OUTRIDER 1.17.1 (landing page) | Christian Mertes | OK | |||||||||||||||||||||||||||||||||
1430/2189 | OVESEG 1.15.0 (landing page) | Lulu Chen | OK | |||||||||||||||||||||||||||||||||
|
| |||||||||||||||||||||||||||||||||||
Package | Maintainer | INSTALL/BUILD/CHECK | ||||||||||||||||||||||||||||||||||
1431/2189 | PAA 1.33.0 (landing page) | Michael Turewicz | OK | |||||||||||||||||||||||||||||||||
1432/2189 | packFinder 1.11.0 (landing page) | Jack Gisby | OK | |||||||||||||||||||||||||||||||||
1433/2189 | padma 1.9.0 (landing page) | Andrea Rau | OK | |||||||||||||||||||||||||||||||||
1434/2189 | PADOG 1.41.0 (landing page) | Adi L. Tarca | OK | |||||||||||||||||||||||||||||||||
1435/2189 | pageRank 1.9.0 (landing page) | Hongxu Ding | OK | |||||||||||||||||||||||||||||||||
1436/2189 | PAIRADISE 1.15.0 (landing page) | Qiang Hu | OK | |||||||||||||||||||||||||||||||||
1437/2189 | paircompviz 1.37.0 (landing page) | Michal Burda | OK | |||||||||||||||||||||||||||||||||
1438/2189 | pairkat 1.5.0 (landing page) | Max McGrath | OK | |||||||||||||||||||||||||||||||||
1439/2189 | pandaR 1.31.0 (landing page) | Joseph N. Paulson | WARNINGS | |||||||||||||||||||||||||||||||||
1440/2189 | panelcn.mops 1.21.0 (landing page) | Gundula Povysil | OK | |||||||||||||||||||||||||||||||||
1441/2189 | PanomiR 1.3.0 (landing page) | Pourya Naderi | ERROR | |||||||||||||||||||||||||||||||||
1442/2189 | panp 1.69.0 (landing page) | Peter Warren | OK | |||||||||||||||||||||||||||||||||
1443/2189 | PANR 1.45.0 (landing page) | Xin Wang | OK | |||||||||||||||||||||||||||||||||
1444/2189 | PanViz 1.1.0 (landing page) | Luca Anholt | OK | |||||||||||||||||||||||||||||||||
1445/2189 | pareg 1.3.0 (landing page) | Kim Philipp Jablonski | ERROR | |||||||||||||||||||||||||||||||||
1446/2189 | parglms 1.31.0 (landing page) | VJ Carey | OK | |||||||||||||||||||||||||||||||||
1447/2189 | parody 1.57.2 (landing page) | Vince Carey | OK | |||||||||||||||||||||||||||||||||
1448/2189 | PAST 1.15.0 (landing page) | Thrash Adam | TIMEOUT | |||||||||||||||||||||||||||||||||
1449/2189 | Path2PPI 1.29.0 (landing page) | Oliver Philipp | OK | |||||||||||||||||||||||||||||||||
1450/2189 | pathifier 1.37.0 (landing page) | Assif Yitzhaky | OK | |||||||||||||||||||||||||||||||||
1451/2189 | PathNet 1.39.0 (landing page) | Ludwig Geistlinger | OK | |||||||||||||||||||||||||||||||||
1452/2189 | PathoStat 1.25.0 (landing page) | Solaiappan Manimaran | OK | |||||||||||||||||||||||||||||||||
1453/2189 | pathRender 1.67.0 (landing page) | Vince Carey | OK | |||||||||||||||||||||||||||||||||
1454/2189 | pathVar 1.29.0 (landing page) | Samuel Zimmerman | OK | |||||||||||||||||||||||||||||||||
1455/2189 | pathview 1.39.0 (landing page) | Weijun Luo | WARNINGS | |||||||||||||||||||||||||||||||||
1456/2189 | pathwayPCA 1.15.0 (landing page) | Gabriel Odom | ERROR | |||||||||||||||||||||||||||||||||
1457/2189 | paxtoolsr 1.33.0 (landing page) | Augustin Luna | ERROR | |||||||||||||||||||||||||||||||||
1458/2189 | pcaExplorer 2.25.0 (landing page) | Federico Marini | OK | |||||||||||||||||||||||||||||||||
1459/2189 | pcaMethods 1.91.0 (landing page) | Henning Redestig | OK | |||||||||||||||||||||||||||||||||
1460/2189 | PCAN 1.27.0 (landing page) | Matthew Page | OK | |||||||||||||||||||||||||||||||||
1461/2189 | PCAtools 2.11.0 (landing page) | Kevin Blighe | OK | |||||||||||||||||||||||||||||||||
1462/2189 | pcxn 2.21.0 (landing page) | Sokratis Kariotis | OK | |||||||||||||||||||||||||||||||||
1463/2189 | PDATK 1.7.0 (landing page) | Benjamin Haibe-Kains | WARNINGS | |||||||||||||||||||||||||||||||||
1464/2189 | pdInfoBuilder 1.63.0 (landing page) | Benilton Carvalho | OK | |||||||||||||||||||||||||||||||||
1465/2189 | PeacoQC 1.9.3 (landing page) | Annelies Emmaneel | ERROR | |||||||||||||||||||||||||||||||||
1466/2189 | peakPantheR 1.13.1 (landing page) | Arnaud Wolfer | ERROR | |||||||||||||||||||||||||||||||||
1467/2189 | PECA 1.35.0 (landing page) | Tomi Suomi | OK | |||||||||||||||||||||||||||||||||
1468/2189 | peco 1.11.0 (landing page) | Chiaowen Joyce Hsiao | OK | |||||||||||||||||||||||||||||||||
1469/2189 | pengls 1.5.0 (landing page) | Stijn Hawinkel | OK | |||||||||||||||||||||||||||||||||
1470/2189 | PepsNMR 1.17.0 (landing page) | Manon Martin | OK | |||||||||||||||||||||||||||||||||
1471/2189 | pepStat 1.33.0 (landing page) | Gregory C Imholte | OK | |||||||||||||||||||||||||||||||||
1472/2189 | pepXMLTab 1.33.0 (landing page) | Xiaojing Wang | OK | |||||||||||||||||||||||||||||||||
1473/2189 | PERFect 1.13.0 (landing page) | Quy Cao | OK | |||||||||||||||||||||||||||||||||
1474/2189 | periodicDNA 1.9.0 (landing page) | Jacques Serizay | WARNINGS | |||||||||||||||||||||||||||||||||
1475/2189 | PFP 1.7.0 (landing page) | XC Zhang | ERROR | |||||||||||||||||||||||||||||||||
1476/2189 | pgca 1.23.0 (landing page) | Gabriela Cohen-Freue | OK | |||||||||||||||||||||||||||||||||
1477/2189 | phantasus 1.19.4 (landing page) | Alexey Sergushichev | ERROR | |||||||||||||||||||||||||||||||||
1478/2189 | PharmacoGx 3.3.3 (landing page) | Benjamin Haibe-Kains | ERROR | |||||||||||||||||||||||||||||||||
1479/2189 | William S Chen | WARNINGS | ||||||||||||||||||||||||||||||||||
1480/2189 | PhenoGeneRanker 1.7.0 (landing page) | Cagatay Dursun | OK | |||||||||||||||||||||||||||||||||
1481/2189 | phenomis 1.1.2 (landing page) | Etienne A. Thevenot | OK | |||||||||||||||||||||||||||||||||
1482/2189 | phenopath 1.23.0 (landing page) | Kieran Campbell | OK | |||||||||||||||||||||||||||||||||
1483/2189 | phenoTest 1.47.0 (landing page) | Evarist Planet | WARNINGS | |||||||||||||||||||||||||||||||||
1484/2189 | PhenStat 2.35.0 (landing page) | Hamed Haselimashhadi | OK | |||||||||||||||||||||||||||||||||
1485/2189 | philr 1.25.1 (landing page) | Justin Silverman | ERROR | |||||||||||||||||||||||||||||||||
1486/2189 | PhIPData 1.7.0 (landing page) | Athena Chen | OK | |||||||||||||||||||||||||||||||||
1487/2189 | phosphonormalizer 1.23.0 (landing page) | Sohrab Saraei | OK | |||||||||||||||||||||||||||||||||
1488/2189 | PhosR 1.9.1 (landing page) | Taiyun Kim | OK | |||||||||||||||||||||||||||||||||
1489/2189 | PhyloProfile 1.13.6 (landing page) | Vinh Tran | OK | |||||||||||||||||||||||||||||||||
1490/2189 | phyloseq 1.43.0 (landing page) | Paul J. McMurdie | WARNINGS | |||||||||||||||||||||||||||||||||
1491/2189 | Pi 2.11.0 (landing page) | Hai Fang | WARNINGS | |||||||||||||||||||||||||||||||||
1492/2189 | piano 2.15.0 (landing page) | Leif Varemo Wigge | OK | |||||||||||||||||||||||||||||||||
1493/2189 | pickgene 1.71.0 (landing page) | Brian S. Yandell | WARNINGS | |||||||||||||||||||||||||||||||||
1494/2189 | PICS 2.43.0 (landing page) | Renan Sauteraud | OK | |||||||||||||||||||||||||||||||||
1495/2189 | Pigengene 1.25.12 (landing page) | Habil Zare | ERROR | |||||||||||||||||||||||||||||||||
1496/2189 | PING 2.43.0 (landing page) | Renan Sauteraud | WARNINGS | |||||||||||||||||||||||||||||||||
1497/2189 | pipeComp 1.9.0 (landing page) | Pierre-Luc Germain | OK | |||||||||||||||||||||||||||||||||
1498/2189 | pipeFrame 1.15.0 (landing page) | Zheng Wei | OK | |||||||||||||||||||||||||||||||||
1499/2189 | Bioconductor Package Maintainer | TIMEOUT | ||||||||||||||||||||||||||||||||||
1500/2189 | planet 1.7.0 (landing page) | Victor Yuan | OK | |||||||||||||||||||||||||||||||||
1501/2189 | planttfhunter 0.99.2 (landing page) | Fabrício Almeida-Silva | OK | |||||||||||||||||||||||||||||||||
1502/2189 | plethy 1.37.0 (landing page) | Daniel Bottomly | ERROR | |||||||||||||||||||||||||||||||||
1503/2189 | plgem 1.71.0 (landing page) | Norman Pavelka | OK | |||||||||||||||||||||||||||||||||
1504/2189 | plier 1.69.0 (landing page) | Crispin Miller | WARNINGS | |||||||||||||||||||||||||||||||||
1505/2189 | PloGO2 1.11.0 (landing page) | Jemma Wu | OK | |||||||||||||||||||||||||||||||||
1506/2189 | plotgardener 1.5.3 (landing page) | Nicole Kramer | OK | |||||||||||||||||||||||||||||||||
1507/2189 | plotGrouper 1.17.0 (landing page) | John D. Gagnon | WARNINGS | |||||||||||||||||||||||||||||||||
1508/2189 | PLPE 1.59.0 (landing page) | Soo-heang Eo | OK | |||||||||||||||||||||||||||||||||
1509/2189 | plyranges 1.19.0 (landing page) | Stuart Lee | WARNINGS | |||||||||||||||||||||||||||||||||
1510/2189 | pmm 1.31.0 (landing page) | Anna Drewek | OK | |||||||||||||||||||||||||||||||||
1511/2189 | pmp 1.11.0 (landing page) | Gavin Rhys Lloyd | OK | |||||||||||||||||||||||||||||||||
1512/2189 | PoDCall 1.7.0 (landing page) | Hans Petter Brodal | OK | |||||||||||||||||||||||||||||||||
1513/2189 | podkat 1.31.1 (landing page) | Ulrich Bodenhofer | WARNINGS | |||||||||||||||||||||||||||||||||
1514/2189 | pogos 1.19.0 (landing page) | VJ Carey | WARNINGS | |||||||||||||||||||||||||||||||||
1515/2189 | polyester 1.35.0 (landing page) | Jack Fu | OK | |||||||||||||||||||||||||||||||||
1516/2189 | POMA 1.9.0 (landing page) | Pol Castellano-Escuder | OK | |||||||||||||||||||||||||||||||||
1517/2189 | powerTCR 1.19.0 (landing page) | Hillary Koch | WARNINGS | |||||||||||||||||||||||||||||||||
1518/2189 | POWSC 1.7.0 (landing page) | Kenong Su | OK | |||||||||||||||||||||||||||||||||
1519/2189 | ppcseq 1.7.0 (landing page) | Stefano Mangiola | OK | |||||||||||||||||||||||||||||||||
1520/2189 | PPInfer 1.25.1 (landing page) | Dongmin Jung | OK | |||||||||||||||||||||||||||||||||
1521/2189 | pqsfinder 2.15.1 (landing page) | Jiri Hon | WARNINGS | |||||||||||||||||||||||||||||||||
1522/2189 | pram 1.15.0 (landing page) | Peng Liu | OK | |||||||||||||||||||||||||||||||||
1523/2189 | prebs 1.39.0 (landing page) | Karolis Uziela | OK | |||||||||||||||||||||||||||||||||
1524/2189 | preciseTAD 1.9.0 (landing page) | Mikhail Dozmorov | OK | |||||||||||||||||||||||||||||||||
1525/2189 | Giorgio Melloni | ERROR | ||||||||||||||||||||||||||||||||||
1526/2189 | PREDA 1.45.0 (landing page) | Francesco Ferrari | WARNINGS | |||||||||||||||||||||||||||||||||
1527/2189 | preprocessCore 1.61.0 (landing page) | Ben Bolstad | WARNINGS | |||||||||||||||||||||||||||||||||
1528/2189 | primirTSS 1.17.0 (landing page) | Pumin Li | WARNINGS | |||||||||||||||||||||||||||||||||
1529/2189 | PrInCE 1.15.0 (landing page) | Michael Skinnider | WARNINGS | |||||||||||||||||||||||||||||||||
1530/2189 | proActiv 1.9.0 (landing page) | Joseph Lee | OK | |||||||||||||||||||||||||||||||||
1531/2189 | proBAMr 1.33.0 (landing page) | Xiaojing Wang | OK | |||||||||||||||||||||||||||||||||
1532/2189 | Chloe H. Lee | ERROR | ||||||||||||||||||||||||||||||||||
1533/2189 | PROcess 1.75.0 (landing page) | Xiaochun Li | OK | |||||||||||||||||||||||||||||||||
1534/2189 | procoil 2.27.0 (landing page) | Ulrich Bodenhofer | OK | |||||||||||||||||||||||||||||||||
1535/2189 | proDA 1.13.0 (landing page) | Constantin Ahlmann-Eltze | OK | |||||||||||||||||||||||||||||||||
1536/2189 | Alexis Delabriere | ERROR | ||||||||||||||||||||||||||||||||||
1537/2189 | profileplyr 1.15.1 (landing page) | Tom Carroll | OK | |||||||||||||||||||||||||||||||||
1538/2189 | profileScoreDist 1.27.0 (landing page) | Paal O. Westermark | OK | |||||||||||||||||||||||||||||||||
1539/2189 | progeny 1.21.0 (landing page) | Aurélien Dugourd | OK | |||||||||||||||||||||||||||||||||
1540/2189 | projectR 1.15.0 (landing page) | Genevieve Stein-O'Brien | WARNINGS | |||||||||||||||||||||||||||||||||
1541/2189 | pRoloc 1.39.1 (landing page) | Laurent Gatto | OK | |||||||||||||||||||||||||||||||||
1542/2189 | pRolocGUI 2.9.0 (landing page) | Lisa Breckels | OK | |||||||||||||||||||||||||||||||||
1543/2189 | PROMISE 1.51.0 (landing page) | Stan Pounds | OK | |||||||||||||||||||||||||||||||||
1544/2189 | PROPER 1.31.0 (landing page) | Hao Wu | WARNINGS | |||||||||||||||||||||||||||||||||
1545/2189 | PROPS 1.21.0 (landing page) | Lichy Han | OK | |||||||||||||||||||||||||||||||||
1546/2189 | Prostar 1.31.5 (landing page) | Samuel Wieczorek | WARNINGS | |||||||||||||||||||||||||||||||||
1547/2189 | proteasy 1.1.0 (landing page) | Martin Rydén | OK | |||||||||||||||||||||||||||||||||
1548/2189 | proteinProfiles 1.39.0 (landing page) | Julian Gehring | OK | |||||||||||||||||||||||||||||||||
1549/2189 | ProteoDisco 1.5.0 (landing page) | Job van Riet | WARNINGS | |||||||||||||||||||||||||||||||||
1550/2189 | ProteoMM 1.17.0 (landing page) | Yuliya V Karpievitch | OK | |||||||||||||||||||||||||||||||||
1551/2189 | protGear 1.3.32 (landing page) | Kennedy Mwai | OK | |||||||||||||||||||||||||||||||||
1552/2189 | ProtGenerics 1.31.0 (landing page) | Laurent Gatto | OK | |||||||||||||||||||||||||||||||||
1553/2189 | PSEA 1.33.0 (landing page) | Alexandre Kuhn | OK | |||||||||||||||||||||||||||||||||
1554/2189 | psichomics 1.25.0 (landing page) | Nuno Saraiva-Agostinho | WARNINGS | |||||||||||||||||||||||||||||||||
1555/2189 | PSMatch 1.3.0 (landing page) | Laurent Gatto | OK | |||||||||||||||||||||||||||||||||
1556/2189 | psygenet2r 1.31.0 (landing page) | Alba Gutierrez-Sacristan | ERROR | |||||||||||||||||||||||||||||||||
1557/2189 | ptairMS 1.7.0 (landing page) | camille Roquencourt | ERROR | |||||||||||||||||||||||||||||||||
1558/2189 | Marc Pagès-Gallego | ERROR | ||||||||||||||||||||||||||||||||||
1559/2189 | puma 3.41.0 (landing page) | Xuejun Liu | WARNINGS | |||||||||||||||||||||||||||||||||
1560/2189 | PureCN 2.5.0 (landing page) | Markus Riester | TIMEOUT | |||||||||||||||||||||||||||||||||
1561/2189 | pvac 1.47.0 (landing page) | Jun Lu | OK | |||||||||||||||||||||||||||||||||
1562/2189 | pvca 1.39.0 (landing page) | Jianying LI | OK | |||||||||||||||||||||||||||||||||
1563/2189 | Pviz 1.33.0 (landing page) | Renan Sauteraud | WARNINGS | |||||||||||||||||||||||||||||||||
1564/2189 | PWMEnrich 4.35.0 (landing page) | Diego Diez | OK | |||||||||||||||||||||||||||||||||
1565/2189 | pwOmics 1.31.0 (landing page) | Maren Sitte | WARNINGS | |||||||||||||||||||||||||||||||||
1566/2189 | pwrEWAS 1.13.0 (landing page) | Stefan Graw | ERROR | |||||||||||||||||||||||||||||||||
|
| |||||||||||||||||||||||||||||||||||
Package | Maintainer | INSTALL/BUILD/CHECK | ||||||||||||||||||||||||||||||||||
1567/2189 | qckitfastq 1.15.0 (landing page) | August Guang | ERROR | |||||||||||||||||||||||||||||||||
1568/2189 | qcmetrics 1.37.0 (landing page) | Laurent Gatto | OK | |||||||||||||||||||||||||||||||||
1569/2189 | QDNAseq 1.35.0 (landing page) | Daoud Sie | OK | |||||||||||||||||||||||||||||||||
1570/2189 | QFeatures 1.9.2 (landing page) | Laurent Gatto | OK | |||||||||||||||||||||||||||||||||
1571/2189 | qmtools 1.3.0 (landing page) | Jaehyun Joo | WARNINGS | |||||||||||||||||||||||||||||||||
1572/2189 | qpcrNorm 1.57.0 (landing page) | Jessica Mar | OK | |||||||||||||||||||||||||||||||||
1573/2189 | qpgraph 2.33.0 (landing page) | Robert Castelo | WARNINGS | |||||||||||||||||||||||||||||||||
1574/2189 | qPLEXanalyzer 1.17.1 (landing page) | Ashley Sawle | OK | |||||||||||||||||||||||||||||||||
1575/2189 | qrqc 1.53.0 (landing page) | Vince Buffalo | ERROR | |||||||||||||||||||||||||||||||||
1576/2189 | qsea 1.25.0 (landing page) | Matthias Lienhard | ERROR | |||||||||||||||||||||||||||||||||
1577/2189 | qsmooth 1.15.1 (landing page) | Stephanie C. Hicks | WARNINGS | |||||||||||||||||||||||||||||||||
1578/2189 | QSutils 1.17.0 (landing page) | Mercedes Guerrero-Murillo | OK | |||||||||||||||||||||||||||||||||
1579/2189 | qsvaR 1.3.0 (landing page) | Joshua Stolz | OK | |||||||||||||||||||||||||||||||||
1580/2189 | Qtlizer 1.13.0 (landing page) | Matthias Munz | OK | |||||||||||||||||||||||||||||||||
1581/2189 | quantiseqr 1.7.0 (landing page) | Federico Marini | ERROR | |||||||||||||||||||||||||||||||||
1582/2189 | quantro 1.33.1 (landing page) | Stephanie Hicks | OK | |||||||||||||||||||||||||||||||||
1583/2189 | quantsmooth 1.65.0 (landing page) | Jan Oosting | OK | |||||||||||||||||||||||||||||||||
1584/2189 | QuartPAC 1.31.0 (landing page) | Gregory Ryslik | OK | |||||||||||||||||||||||||||||||||
1585/2189 | QuasR 1.39.2 (landing page) | Michael Stadler | WARNINGS | |||||||||||||||||||||||||||||||||
1586/2189 | QuaternaryProd 1.33.0 (landing page) | Carl Tony Fakhry | OK | |||||||||||||||||||||||||||||||||
1587/2189 | QUBIC 1.27.0 (landing page) | Yu Zhang | OK | |||||||||||||||||||||||||||||||||
1588/2189 | qusage 2.33.0 (landing page) | Christopher Bolen | OK | |||||||||||||||||||||||||||||||||
1589/2189 | qvalue 2.31.1 (landing page) | John D. Storey | OK | |||||||||||||||||||||||||||||||||
|
| |||||||||||||||||||||||||||||||||||
Package | Maintainer | INSTALL/BUILD/CHECK | ||||||||||||||||||||||||||||||||||
1590/2189 | R3CPET 1.31.0 (landing page) | Mohamed Nadhir Djekidel | ERROR | |||||||||||||||||||||||||||||||||
1591/2189 | r3Cseq 1.45.0 (landing page) | Supat Thongjuea | OK | |||||||||||||||||||||||||||||||||
1592/2189 | R453Plus1Toolbox 1.49.0 (landing page) | Hans-Ulrich Klein | OK | |||||||||||||||||||||||||||||||||
1593/2189 | R4RNA 1.27.0 (landing page) | Daniel Lai | OK | |||||||||||||||||||||||||||||||||
1594/2189 | RadioGx 2.3.1 (landing page) | Benjamin Haibe-Kains | WARNINGS | |||||||||||||||||||||||||||||||||
1595/2189 | RaggedExperiment 1.23.0 (landing page) | Marcel Ramos | OK | |||||||||||||||||||||||||||||||||
1596/2189 | rain 1.33.0 (landing page) | Paul F. Thaben | OK | |||||||||||||||||||||||||||||||||
1597/2189 | ramr 1.7.0 (landing page) | Oleksii Nikolaienko | OK | |||||||||||||||||||||||||||||||||
1598/2189 | ramwas 1.23.0 (landing page) | Andrey A Shabalin | OK | |||||||||||||||||||||||||||||||||
1599/2189 | RandomWalkRestartMH 1.19.0 (landing page) | Alberto Valdeolivas | WARNINGS | |||||||||||||||||||||||||||||||||
1600/2189 | randPack 1.45.0 (landing page) | Robert Gentleman | OK | |||||||||||||||||||||||||||||||||
1601/2189 | randRotation 1.11.0 (landing page) | Peter Hettegger | ERROR | |||||||||||||||||||||||||||||||||
1602/2189 | RankProd 3.25.0 (landing page) | Francesco Del Carratore | OK | |||||||||||||||||||||||||||||||||
1603/2189 | RAREsim 1.3.0 (landing page) | Ryan Barnard | OK | |||||||||||||||||||||||||||||||||
1604/2189 | RareVariantVis 2.27.0 (landing page) | Tomasz Stokowy | OK | |||||||||||||||||||||||||||||||||
1605/2189 | rawrr 1.7.14 (landing page) | Christian Panse | OK | |||||||||||||||||||||||||||||||||
1606/2189 | RbcBook1 1.67.0 (landing page) | Vince Carey | OK | |||||||||||||||||||||||||||||||||
1607/2189 | Rbec 1.7.0 (landing page) | Pengfan Zhang | OK | |||||||||||||||||||||||||||||||||
1608/2189 | RBGL 1.75.0 (landing page) | Bioconductor Package Maintainer | WARNINGS | |||||||||||||||||||||||||||||||||
1609/2189 | RBioFormats 0.99.10 (landing page) | Andrzej Oleś | ERROR | |||||||||||||||||||||||||||||||||
1610/2189 | RBioinf 1.59.0 (landing page) | Robert Gentleman | OK | |||||||||||||||||||||||||||||||||
1611/2189 | rBiopaxParser 2.39.0 (landing page) | Frank Kramer | OK | |||||||||||||||||||||||||||||||||
1612/2189 | RBM 1.31.0 (landing page) | Dongmei Li | OK | |||||||||||||||||||||||||||||||||
1613/2189 | Rbowtie 1.39.1 (landing page) | Michael Stadler | OK | |||||||||||||||||||||||||||||||||
1614/2189 | Rbowtie2 2.5.2 (landing page) | Zheng Wei | OK | |||||||||||||||||||||||||||||||||
1615/2189 | rbsurv 2.57.0 (landing page) | Soo-heang Eo | OK | |||||||||||||||||||||||||||||||||
1616/2189 | Rbwa 1.3.2 (landing page) | Jean-Philippe Fortin | WARNINGS | |||||||||||||||||||||||||||||||||
1617/2189 | RCAS 1.25.0 (landing page) | Bora Uyar | OK | |||||||||||||||||||||||||||||||||
1618/2189 | RCASPAR 1.45.0 (landing page) | Douaa Mugahid | OK | |||||||||||||||||||||||||||||||||
1619/2189 | rcellminer 2.21.0 (landing page) | Augustin Luna | WARNINGS | |||||||||||||||||||||||||||||||||
1620/2189 | rCGH 1.29.0 (landing page) | Frederic Commo | OK | |||||||||||||||||||||||||||||||||
1621/2189 | RcisTarget 1.19.2 (landing page) | Sara Aibar | OK | |||||||||||||||||||||||||||||||||
1622/2189 | RCM 1.15.0 (landing page) | Stijn Hawinkel | OK | |||||||||||||||||||||||||||||||||
1623/2189 | Rcpi 1.35.0 (landing page) | Nan Xiao | OK | |||||||||||||||||||||||||||||||||
1624/2189 | RCSL 1.7.0 (landing page) | Qinglin Mei | OK | |||||||||||||||||||||||||||||||||
1625/2189 | Rcwl 1.15.6 (landing page) | Qiang Hu | OK | |||||||||||||||||||||||||||||||||
1626/2189 | RcwlPipelines 1.15.0 (landing page) | Qiang Hu | OK | |||||||||||||||||||||||||||||||||
1627/2189 | RCX 1.3.2 (landing page) | Florian Auer | OK | |||||||||||||||||||||||||||||||||
1628/2189 | RCy3 2.19.0 (landing page) | Alex Pico | OK | |||||||||||||||||||||||||||||||||
1629/2189 | RCyjs 2.21.0 (landing page) | Paul Shannon | WARNINGS | |||||||||||||||||||||||||||||||||
1630/2189 | rDGIdb 1.25.0 (landing page) | Lars Bosshard | OK | |||||||||||||||||||||||||||||||||
1631/2189 | Rdisop 1.59.1 (landing page) | Steffen Neumann | WARNINGS | |||||||||||||||||||||||||||||||||
1632/2189 | RDRToolbox 1.49.0 (landing page) | Christoph Bartenhagen | OK | |||||||||||||||||||||||||||||||||
1633/2189 | ReactomeContentService4R 1.7.0 (landing page) | Chi-Lam Poon | OK | |||||||||||||||||||||||||||||||||
1634/2189 | ReactomeGraph4R 1.7.0 (landing page) | Chi-Lam Poon | OK | |||||||||||||||||||||||||||||||||
1635/2189 | ReactomeGSA 1.13.0 (landing page) | Johannes Griss | WARNINGS | |||||||||||||||||||||||||||||||||
1636/2189 | ReactomePA 1.43.0 (landing page) | Guangchuang Yu | OK | |||||||||||||||||||||||||||||||||
1637/2189 | ReadqPCR 1.45.0 (landing page) | James Perkins | OK | |||||||||||||||||||||||||||||||||
1638/2189 | REBET 1.17.0 (landing page) | Bill Wheeler | OK | |||||||||||||||||||||||||||||||||
1639/2189 | rebook 1.9.0 (landing page) | Aaron Lun | ERROR | |||||||||||||||||||||||||||||||||
1640/2189 | receptLoss 1.11.0 (landing page) | Daniel Pique | OK | |||||||||||||||||||||||||||||||||
1641/2189 | reconsi 1.11.0 (landing page) | Stijn Hawinkel | OK | |||||||||||||||||||||||||||||||||
1642/2189 | recount 1.25.1 (landing page) | Leonardo Collado-Torres | OK | |||||||||||||||||||||||||||||||||
1643/2189 | recount3 1.9.1 (landing page) | Leonardo Collado-Torres | ERROR | |||||||||||||||||||||||||||||||||
1644/2189 | recountmethylation 1.9.0 (landing page) | Sean K Maden | WARNINGS | |||||||||||||||||||||||||||||||||
1645/2189 | recoup 1.27.0 (landing page) | Panagiotis Moulos | OK | |||||||||||||||||||||||||||||||||
1646/2189 | RedeR 2.3.1 (landing page) | Mauro Castro | OK | |||||||||||||||||||||||||||||||||
1647/2189 | RedisParam 1.1.0 (landing page) | Martin Morgan | OK | |||||||||||||||||||||||||||||||||
1648/2189 | REDseq 1.45.0 (landing page) | Lihua Julie Zhu | OK | |||||||||||||||||||||||||||||||||
1649/2189 | RefPlus 1.69.0 (landing page) | Kai-Ming Chang | OK | |||||||||||||||||||||||||||||||||
1650/2189 | RegEnrich 1.9.0 (landing page) | Weiyang Tao | ERROR | |||||||||||||||||||||||||||||||||
1651/2189 | regioneR 1.31.0 (landing page) | Bernat Gel | WARNINGS | |||||||||||||||||||||||||||||||||
1652/2189 | regioneReloaded 1.1.0 (landing page) | Roberto Malinverni | OK | |||||||||||||||||||||||||||||||||
1653/2189 | regionReport 1.33.0 (landing page) | Leonardo Collado-Torres | OK | |||||||||||||||||||||||||||||||||
1654/2189 | regsplice 1.25.0 (landing page) | Lukas M. Weber | OK | |||||||||||||||||||||||||||||||||
1655/2189 | regutools 1.11.0 (landing page) | Joselyn Chavez | OK | |||||||||||||||||||||||||||||||||
1656/2189 | REMP 1.23.0 (landing page) | Yinan Zheng | OK | |||||||||||||||||||||||||||||||||
1657/2189 | Repitools 1.45.0 (landing page) | Mark Robinson | WARNINGS | |||||||||||||||||||||||||||||||||
1658/2189 | ReportingTools 2.39.0 (landing page) | Jason A. Hackney | ERROR | |||||||||||||||||||||||||||||||||
1659/2189 | RepViz 1.15.0 (landing page) | Thomas Faux, Asta Laiho | WARNINGS | |||||||||||||||||||||||||||||||||
1660/2189 | ReQON 1.45.0 (landing page) | Christopher Cabanski | ERROR | |||||||||||||||||||||||||||||||||
1661/2189 | ResidualMatrix 1.9.0 (landing page) | Aaron Lun | OK | |||||||||||||||||||||||||||||||||
1662/2189 | RESOLVE 1.1.0 (landing page) | Luca De Sano | OK | |||||||||||||||||||||||||||||||||
1663/2189 | restfulSE 1.21.0 (landing page) | Shweta Gopaulakrishnan | OK | |||||||||||||||||||||||||||||||||
1664/2189 | ReUseData 0.99.38 (landing page) | Qian Liu | OK | |||||||||||||||||||||||||||||||||
1665/2189 | rexposome 1.21.1 (landing page) | Xavier Escribà Montagut | WARNINGS | |||||||||||||||||||||||||||||||||
1666/2189 | rfaRm 1.11.2 (landing page) | Lara Selles Vidal | TIMEOUT | |||||||||||||||||||||||||||||||||
1667/2189 | Rfastp 1.9.0 (landing page) | Thomas Carroll | WARNINGS | |||||||||||||||||||||||||||||||||
1668/2189 | rfPred 1.37.0 (landing page) | Hugo Varet | OK | |||||||||||||||||||||||||||||||||
1669/2189 | rGADEM 2.47.0 (landing page) | Arnaud Droit | OK | |||||||||||||||||||||||||||||||||
1670/2189 | rGenomeTracks 1.5.0 (landing page) | Omar Elashkar | OK | |||||||||||||||||||||||||||||||||
1671/2189 | RGMQL 1.19.0 (landing page) | Simone Pallotta | ERROR | |||||||||||||||||||||||||||||||||
1672/2189 | RgnTX 1.1.0 (landing page) | Yue Wang | OK | |||||||||||||||||||||||||||||||||
1673/2189 | rgoslin 1.3.0 (landing page) | Nils Hoffmann | OK | |||||||||||||||||||||||||||||||||
1674/2189 | RGraph2js 1.27.0 (landing page) | Stephane Cano | OK | |||||||||||||||||||||||||||||||||
1675/2189 | Rgraphviz 2.43.0 (landing page) | Kasper Daniel Hansen | WARNINGS | |||||||||||||||||||||||||||||||||
1676/2189 | rGREAT 2.1.4 (landing page) | Zuguang Gu | ERROR | |||||||||||||||||||||||||||||||||
1677/2189 | RGSEA 1.33.0 (landing page) | Chengcheng Ma | OK | |||||||||||||||||||||||||||||||||
1678/2189 | rgsepd 1.31.0 (landing page) | Karl Stamm | OK | |||||||||||||||||||||||||||||||||
1679/2189 | rhdf5 2.43.1 (landing page) | Mike Smith | WARNINGS | |||||||||||||||||||||||||||||||||
1680/2189 | rhdf5client 1.21.3 (landing page) | Vincent Carey | OK | |||||||||||||||||||||||||||||||||
1681/2189 | rhdf5filters 1.11.1 (landing page) | Mike Smith | OK | |||||||||||||||||||||||||||||||||
1682/2189 | Rhdf5lib 1.21.0 (landing page) | Mike Smith | WARNINGS | |||||||||||||||||||||||||||||||||
1683/2189 | Rhisat2 1.15.0 (landing page) | Charlotte Soneson | WARNINGS | |||||||||||||||||||||||||||||||||
1684/2189 | Rhtslib 2.1.0 (landing page) | Hervé Pagès | WARNINGS | |||||||||||||||||||||||||||||||||
1685/2189 | RiboCrypt 1.5.0 (landing page) | Michal Swirski | OK | |||||||||||||||||||||||||||||||||
1686/2189 | RiboDiPA 1.7.0 (landing page) | Ji-Ping Wang | OK | |||||||||||||||||||||||||||||||||
1687/2189 | RiboProfiling 1.29.0 (landing page) | A. Popa | WARNINGS | |||||||||||||||||||||||||||||||||
1688/2189 | ribor 1.11.0 (landing page) | Michael Geng | OK | |||||||||||||||||||||||||||||||||
1689/2189 | riboSeqR 1.33.0 (landing page) | Thomas J. Hardcastle | OK | |||||||||||||||||||||||||||||||||
1690/2189 | ribosomeProfilingQC 1.11.1 (landing page) | Jianhong Ou | OK | |||||||||||||||||||||||||||||||||
1691/2189 | rifi 1.3.2 (landing page) | Jens Georg | WARNINGS | |||||||||||||||||||||||||||||||||
1692/2189 | rifiComparative 0.99.5 (landing page) | Loubna Youssar | OK | |||||||||||||||||||||||||||||||||
1693/2189 | RImmPort 1.27.0 (landing page) | Zicheng Hu | OK | |||||||||||||||||||||||||||||||||
1694/2189 | Ringo 1.63.0 (landing page) | J. Toedling | OK | |||||||||||||||||||||||||||||||||
1695/2189 | RIPAT 1.9.0 (landing page) | Min-Jeong Baek | OK | |||||||||||||||||||||||||||||||||
1696/2189 | Risa 1.41.0 (landing page) | Alejandra Gonzalez-Beltran | OK | |||||||||||||||||||||||||||||||||
1697/2189 | RITAN 1.23.0 (landing page) | Michael Zimmermann | WARNINGS | |||||||||||||||||||||||||||||||||
1698/2189 | RIVER 1.23.0 (landing page) | Yungil Kim | OK | |||||||||||||||||||||||||||||||||
1699/2189 | RJMCMCNucleosomes 1.23.0 (landing page) | Astrid Deschênes | OK | |||||||||||||||||||||||||||||||||
1700/2189 | RLassoCox 1.7.0 (landing page) | Wei Liu | OK | |||||||||||||||||||||||||||||||||
1701/2189 | RLMM 1.61.0 (landing page) | Nusrat Rabbee | OK | |||||||||||||||||||||||||||||||||
1702/2189 | RLSeq 1.5.2 (landing page) | Henry Miller | OK | |||||||||||||||||||||||||||||||||
1703/2189 | Rmagpie 1.55.0 (landing page) | Camille Maumet | OK | |||||||||||||||||||||||||||||||||
1704/2189 | RMassBank 3.9.0 (landing page) | RMassBank at Eawag | WARNINGS | |||||||||||||||||||||||||||||||||
1705/2189 | rmelting 1.15.0 (landing page) | J. Aravind | OK | |||||||||||||||||||||||||||||||||
1706/2189 | Rmmquant 1.17.0 (landing page) | Zytnicki Matthias | OK | |||||||||||||||||||||||||||||||||
1707/2189 | rmspc 1.5.1 (landing page) | Meriem Bahda | OK | |||||||||||||||||||||||||||||||||
1708/2189 | RNAAgeCalc 1.11.0 (landing page) | Xu Ren | OK | |||||||||||||||||||||||||||||||||
1709/2189 | RNAdecay 1.19.0 (landing page) | Reed Sorenson | ERROR | |||||||||||||||||||||||||||||||||
1710/2189 | rnaEditr 1.9.0 (landing page) | Lanyu Zhang | WARNINGS | |||||||||||||||||||||||||||||||||
1711/2189 | RNAinteract 1.47.0 (landing page) | Mike Smith | OK | |||||||||||||||||||||||||||||||||
1712/2189 | RNAmodR 1.13.0 (landing page) | Felix G.M. Ernst | OK | |||||||||||||||||||||||||||||||||
1713/2189 | RNAmodR.AlkAnilineSeq 1.13.0 (landing page) | Felix G.M. Ernst | OK | |||||||||||||||||||||||||||||||||
1714/2189 | RNAmodR.ML 1.13.0 (landing page) | Felix G.M. Ernst | OK | |||||||||||||||||||||||||||||||||
1715/2189 | RNAmodR.RiboMethSeq 1.13.0 (landing page) | Felix G.M. Ernst | OK | |||||||||||||||||||||||||||||||||
1716/2189 | RNAsense 1.13.0 (landing page) | Marcus Rosenblatt | WARNINGS | |||||||||||||||||||||||||||||||||
1717/2189 | rnaseqcomp 1.29.0 (landing page) | Mingxiang Teng | OK | |||||||||||||||||||||||||||||||||
1718/2189 | RNASeqPower 1.39.0 (landing page) | Terry M Therneau | OK | |||||||||||||||||||||||||||||||||
1719/2189 | RnaSeqSampleSize 2.9.0 (landing page) | Shilin Zhao Developer | OK | |||||||||||||||||||||||||||||||||
1720/2189 | RnBeads 2.17.0 (landing page) | Fabian Mueller | TIMEOUT | |||||||||||||||||||||||||||||||||
1721/2189 | Rnits 1.33.2 (landing page) | Dipen P. Sangurdekar | WARNINGS | |||||||||||||||||||||||||||||||||
1722/2189 | roar 1.35.0 (landing page) | Elena Grassi | OK | |||||||||||||||||||||||||||||||||
1723/2189 | ROC 1.75.0 (landing page) | Vince Carey | OK | |||||||||||||||||||||||||||||||||
1724/2189 | ROCpAI 1.11.0 (landing page) | Juan-Pedro Garcia | OK | |||||||||||||||||||||||||||||||||
1725/2189 | RolDE 1.3.0 (landing page) | Tommi Valikangas | OK | |||||||||||||||||||||||||||||||||
1726/2189 | rols 2.27.0 (landing page) | Laurent Gatto | OK | |||||||||||||||||||||||||||||||||
1727/2189 | ROntoTools 2.27.0 (landing page) | Calin Voichita | OK | |||||||||||||||||||||||||||||||||
1728/2189 | ropls 1.31.0 (landing page) | Etienne A. Thevenot | OK | |||||||||||||||||||||||||||||||||
1729/2189 | ROSeq 1.11.0 (landing page) | Krishan Gupta | WARNINGS | |||||||||||||||||||||||||||||||||
1730/2189 | ROTS 1.27.1 (landing page) | Tomi Suomi | OK | |||||||||||||||||||||||||||||||||
1731/2189 | RPA 1.55.0 (landing page) | Leo Lahti | OK | |||||||||||||||||||||||||||||||||
1732/2189 | rprimer 1.3.0 (landing page) | Sofia Persson | OK | |||||||||||||||||||||||||||||||||
1733/2189 | RProtoBufLib 2.11.0 (landing page) | Mike Jiang | WARNINGS | |||||||||||||||||||||||||||||||||
1734/2189 | rpx 2.7.4 (landing page) | Laurent Gatto | ERROR | |||||||||||||||||||||||||||||||||
1735/2189 | Rqc 1.33.0 (landing page) | Welliton Souza | TIMEOUT | |||||||||||||||||||||||||||||||||
1736/2189 | rqt 1.25.0 (landing page) | Ilya Y. Zhbannikov | ERROR | |||||||||||||||||||||||||||||||||
1737/2189 | rqubic 1.45.0 (landing page) | Jitao David Zhang | WARNINGS | |||||||||||||||||||||||||||||||||
1738/2189 | rRDP 1.33.0 (landing page) | Michael Hahsler | OK | |||||||||||||||||||||||||||||||||
1739/2189 | RRHO 1.39.0 (landing page) | Jonathan Rosenblatt | OK | |||||||||||||||||||||||||||||||||
1740/2189 | rrvgo 1.11.0 (landing page) | Sergi Sayols | OK | |||||||||||||||||||||||||||||||||
1741/2189 | Rsamtools 2.15.2 (landing page) | Bioconductor Package Maintainer | WARNINGS | |||||||||||||||||||||||||||||||||
1742/2189 | rsbml 2.57.0 (landing page) | Michael Lawrence | WARNINGS | |||||||||||||||||||||||||||||||||
1743/2189 | rScudo 1.15.0 (landing page) | Matteo Ciciani | OK | |||||||||||||||||||||||||||||||||
1744/2189 | rsemmed 1.9.0 (landing page) | Leslie Myint | OK | |||||||||||||||||||||||||||||||||
1745/2189 | RSeqAn 1.19.0 (landing page) | August Guang | WARNINGS | |||||||||||||||||||||||||||||||||
1746/2189 | Rsubread 2.13.5 (landing page) | Wei Shi | OK | |||||||||||||||||||||||||||||||||
1747/2189 | RSVSim 1.39.0 (landing page) | Christoph Bartenhagen | OK | |||||||||||||||||||||||||||||||||
1748/2189 | rSWeeP 1.11.0 (landing page) | Danrley R. Fernandes | OK | |||||||||||||||||||||||||||||||||
1749/2189 | RTCA 1.51.0 (landing page) | Jitao David Zhang | WARNINGS | |||||||||||||||||||||||||||||||||
1750/2189 | RTCGA 1.29.0 (landing page) | Marcin Kosinski | OK | |||||||||||||||||||||||||||||||||
1751/2189 | RTCGAToolbox 2.29.2 (landing page) | Marcel Ramos | ERROR | |||||||||||||||||||||||||||||||||
1752/2189 | RTN 2.23.1 (landing page) | Mauro Castro | OK | |||||||||||||||||||||||||||||||||
1753/2189 | RTNduals 1.23.0 (landing page) | Mauro Castro | OK | |||||||||||||||||||||||||||||||||
1754/2189 | RTNsurvival 1.23.0 (landing page) | Clarice Groeneveld | OK | |||||||||||||||||||||||||||||||||
1755/2189 | RTopper 1.45.0 (landing page) | Luigi Marchionni | OK | |||||||||||||||||||||||||||||||||
1756/2189 | Rtpca 1.9.0 (landing page) | Nils Kurzawa | OK | |||||||||||||||||||||||||||||||||
1757/2189 | rtracklayer 1.59.1 (landing page) | Michael Lawrence | WARNINGS | |||||||||||||||||||||||||||||||||
1758/2189 | Rtreemix 1.61.0 (landing page) | Jasmina Bogojeska | WARNINGS | |||||||||||||||||||||||||||||||||
1759/2189 | rTRM 1.37.0 (landing page) | Diego Diez | OK | |||||||||||||||||||||||||||||||||
1760/2189 | rTRMui 1.37.0 (landing page) | Diego Diez | OK | |||||||||||||||||||||||||||||||||
1761/2189 | runibic 1.21.0 (landing page) | Patryk Orzechowski | WARNINGS | |||||||||||||||||||||||||||||||||
1762/2189 | RUVcorr 1.31.0 (landing page) | Saskia Freytag | WARNINGS | |||||||||||||||||||||||||||||||||
1763/2189 | RUVnormalize 1.33.0 (landing page) | Laurent Jacob | OK | |||||||||||||||||||||||||||||||||
1764/2189 | RUVSeq 1.33.1 (landing page) | Davide Risso | OK | |||||||||||||||||||||||||||||||||
1765/2189 | RVS 1.21.0 (landing page) | Thomas Sherman | OK | |||||||||||||||||||||||||||||||||
1766/2189 | rWikiPathways 1.19.1 (landing page) | Egon Willighagen | OK | |||||||||||||||||||||||||||||||||
|
| |||||||||||||||||||||||||||||||||||
Package | Maintainer | INSTALL/BUILD/CHECK | ||||||||||||||||||||||||||||||||||
1767/2189 | S4Vectors 0.37.4 (landing page) | Hervé Pagès | WARNINGS | |||||||||||||||||||||||||||||||||
1768/2189 | safe 3.39.0 (landing page) | Ludwig Geistlinger | OK | |||||||||||||||||||||||||||||||||
1769/2189 | sagenhaft 1.69.0 (landing page) | Tim Beissbarth | WARNINGS | |||||||||||||||||||||||||||||||||
1770/2189 | SAIGEgds 1.99.0 (landing page) | Xiuwen Zheng | ERROR | |||||||||||||||||||||||||||||||||
1771/2189 | sampleClassifier 1.23.0 (landing page) | Khadija El Amrani | OK | |||||||||||||||||||||||||||||||||
1772/2189 | SamSPECTRAL 1.53.0 (landing page) | Habil | WARNINGS | |||||||||||||||||||||||||||||||||
1773/2189 | sangeranalyseR 1.9.0 (landing page) | Kuan-Hao Chao | WARNINGS | |||||||||||||||||||||||||||||||||
1774/2189 | sangerseqR 1.35.2 (landing page) | Jonathon Hill | OK | |||||||||||||||||||||||||||||||||
1775/2189 | SANTA 2.35.0 (landing page) | Alex Cornish | OK | |||||||||||||||||||||||||||||||||
1776/2189 | sarks 1.11.0 (landing page) | Dennis Wylie | OK | |||||||||||||||||||||||||||||||||
1777/2189 | satuRn 1.7.0 (landing page) | Jeroen Gilis | OK | |||||||||||||||||||||||||||||||||
1778/2189 | R. Brent Calder | ERROR | ||||||||||||||||||||||||||||||||||
1779/2189 | SBGNview 1.13.0 (landing page) | Weijun Luo | OK | |||||||||||||||||||||||||||||||||
1780/2189 | SBMLR 1.95.0 (landing page) | Tomas Radivoyevitch | OK | |||||||||||||||||||||||||||||||||
1781/2189 | SC3 1.27.0 (landing page) | Vladimir Kiselev | OK | |||||||||||||||||||||||||||||||||
1782/2189 | Scale4C 1.21.0 (landing page) | Carolin Walter | OK | |||||||||||||||||||||||||||||||||
1783/2189 | ScaledMatrix 1.7.0 (landing page) | Aaron Lun | OK | |||||||||||||||||||||||||||||||||
1784/2189 | SCAN.UPC 2.41.0 (landing page) | Stephen R. Piccolo | OK | |||||||||||||||||||||||||||||||||
1785/2189 | scanMiR 1.5.3 (landing page) | Fridolin Gross | WARNINGS | |||||||||||||||||||||||||||||||||
1786/2189 | scanMiRApp 1.5.0 (landing page) | Pierre-Luc Germain | WARNINGS | |||||||||||||||||||||||||||||||||
1787/2189 | scAnnotatR 1.5.3 (landing page) | Johannes Griss | WARNINGS | |||||||||||||||||||||||||||||||||
1788/2189 | SCANVIS 1.13.0 (landing page) | Phaedra Agius | OK | |||||||||||||||||||||||||||||||||
1789/2189 | SCArray 1.7.14 (landing page) | Xiuwen Zheng | OK | |||||||||||||||||||||||||||||||||
1790/2189 | SCATE 1.9.0 (landing page) | Wenpin Hou | TIMEOUT | |||||||||||||||||||||||||||||||||
1791/2189 | scater 1.27.7 (landing page) | Alan O'Callaghan | OK | |||||||||||||||||||||||||||||||||
1792/2189 | scatterHatch 1.5.0 (landing page) | Atul Deshpande | OK | |||||||||||||||||||||||||||||||||
1793/2189 | scBFA 1.13.0 (landing page) | Ruoxin Li | OK | |||||||||||||||||||||||||||||||||
1794/2189 | SCBN 1.17.0 (landing page) | Yan Zhou | OK | |||||||||||||||||||||||||||||||||
1795/2189 | scBubbletree 1.1.9 (landing page) | Simo Kitanovski | OK | |||||||||||||||||||||||||||||||||
1796/2189 | scCB2 1.9.0 (landing page) | Zijian Ni | OK | |||||||||||||||||||||||||||||||||
1797/2189 | scClassify 1.11.0 (landing page) | Yingxin Lin | OK | |||||||||||||||||||||||||||||||||
1798/2189 | sccomp 1.3.5 (landing page) | Stefano Mangiola | TIMEOUT | |||||||||||||||||||||||||||||||||
1799/2189 | scDataviz 1.9.0 (landing page) | Kevin Blighe | OK | |||||||||||||||||||||||||||||||||
1800/2189 | scDblFinder 1.13.8 (landing page) | Pierre-Luc Germain | OK | |||||||||||||||||||||||||||||||||
1801/2189 | scDD 1.23.0 (landing page) | Keegan Korthauer | OK | |||||||||||||||||||||||||||||||||
1802/2189 | scDDboost 1.1.0 (landing page) | Xiuyu Ma | OK | |||||||||||||||||||||||||||||||||
1803/2189 | scde 2.27.0 (landing page) | Jean Fan | ERROR | |||||||||||||||||||||||||||||||||
1804/2189 | scds 1.15.0 (landing page) | Dennis Kostka | OK | |||||||||||||||||||||||||||||||||
1805/2189 | SCFA 1.9.0 (landing page) | Duc Tran | ERROR | |||||||||||||||||||||||||||||||||
1806/2189 | scFeatureFilter 1.19.0 (landing page) | Guillaume Devailly | OK | |||||||||||||||||||||||||||||||||
1807/2189 | scFeatures 0.99.25 (landing page) | Yue Cao | OK | |||||||||||||||||||||||||||||||||
1808/2189 | scGPS 1.13.0 (landing page) | Quan Nguyen | OK | |||||||||||||||||||||||||||||||||
1809/2189 | schex 1.13.0 (landing page) | Saskia Freytag | OK | |||||||||||||||||||||||||||||||||
1810/2189 | scHOT 1.11.0 (landing page) | Shila Ghazanfar | OK | |||||||||||||||||||||||||||||||||
1811/2189 | scifer 1.1.0 (landing page) | Rodrigo Arcoverde Cerveira | OK | |||||||||||||||||||||||||||||||||
1812/2189 | scmap 1.21.0 (landing page) | Vladimir Kiselev | OK | |||||||||||||||||||||||||||||||||
1813/2189 | scMerge 1.15.0 (landing page) | Yingxin Lin | OK | |||||||||||||||||||||||||||||||||
1814/2189 | scMET 1.1.0 (landing page) | Andreas C. Kapourani | OK | |||||||||||||||||||||||||||||||||
1815/2189 | scmeth 1.19.0 (landing page) | Divy Kangeyan | OK | |||||||||||||||||||||||||||||||||
1816/2189 | SCnorm 1.21.0 (landing page) | Rhonda Bacher | OK | |||||||||||||||||||||||||||||||||
1817/2189 | scone 1.23.1 (landing page) | Davide Risso | OK | |||||||||||||||||||||||||||||||||
1818/2189 | Sconify 1.19.0 (landing page) | Tyler J Burns | OK | |||||||||||||||||||||||||||||||||
1819/2189 | SCOPE 1.11.0 (landing page) | Rujin Wang | OK | |||||||||||||||||||||||||||||||||
1820/2189 | scoreInvHap 1.21.0 (landing page) | Dolors Pelegri-Siso | OK | |||||||||||||||||||||||||||||||||
1821/2189 | scp 1.9.0 (landing page) | Christophe Vanderaa | OK | |||||||||||||||||||||||||||||||||
1822/2189 | scPCA 1.13.0 (landing page) | Philippe Boileau | OK | |||||||||||||||||||||||||||||||||
1823/2189 | scPipe 1.99.5 (landing page) | Shian Su | WARNINGS | |||||||||||||||||||||||||||||||||
1824/2189 | scran 1.27.2 (landing page) | Aaron Lun | ERROR | |||||||||||||||||||||||||||||||||
1825/2189 | scReClassify 1.5.1 (landing page) | Taiyun Kim | OK | |||||||||||||||||||||||||||||||||
1826/2189 | scRecover 1.15.1 (landing page) | Zhun Miao | OK | |||||||||||||||||||||||||||||||||
1827/2189 | ScreenR 1.1.0 (landing page) | Emanuel Michele Soda | OK | |||||||||||||||||||||||||||||||||
1828/2189 | scRepertoire 1.9.0 (landing page) | Nick Borcherding | OK |