Back to Multiple platform build/check report for BioC 3.17:   simplified   long
[A]BCDEFGHIJKLMNOPQRSTUVWXYZ

This page was generated on 2023-09-27 11:36:10 -0400 (Wed, 27 Sep 2023).

HostnameOSArch (*)R versionInstalled pkgs
nebbiolo1Linux (Ubuntu 22.04.2 LTS)x86_644.3.1 (2023-06-16) -- "Beagle Scouts" 4625
palomino3Windows Server 2022 Datacenterx644.3.1 (2023-06-16 ucrt) -- "Beagle Scouts" 4378
merida1macOS 12.6.4 Montereyx86_644.3.1 (2023-06-16) -- "Beagle Scouts" 4394
Click on any hostname to see more info about the system (e.g. compilers)      (*) as reported by 'uname -p', except on Windows and Mac OS X

Package 55/2230HostnameOS / ArchINSTALLBUILDCHECKBUILD BIN
AlpsNMR 4.2.0  (landing page)
Sergio Oller Moreno
Snapshot Date: 2023-09-26 14:00:14 -0400 (Tue, 26 Sep 2023)
git_url: https://git.bioconductor.org/packages/AlpsNMR
git_branch: RELEASE_3_17
git_last_commit: 3a59cb7
git_last_commit_date: 2023-04-25 11:24:59 -0400 (Tue, 25 Apr 2023)
nebbiolo1Linux (Ubuntu 22.04.2 LTS) / x86_64  OK    OK    OK  UNNEEDED, same version is already published
palomino3Windows Server 2022 Datacenter / x64  OK    OK    OK    OK  UNNEEDED, same version is already published
merida1macOS 12.6.4 Monterey / x86_64  OK    OK    OK    OK  UNNEEDED, same version is already published

CHECK results for AlpsNMR on palomino3


To the developers/maintainers of the AlpsNMR package:
- Allow up to 24 hours (and sometimes 48 hours) for your latest push to git@git.bioconductor.org:packages/AlpsNMR.git to reflect on this report. See Troubleshooting Build Report for more information.
- Use the following Renviron settings to reproduce errors and warnings.
- If 'R CMD check' started to fail recently on the Linux builder(s) over a missing dependency, add the missing dependency to 'Suggests:' in your DESCRIPTION file. See Renviron.bioc for more information.

raw results


Summary

Package: AlpsNMR
Version: 4.2.0
Command: F:\biocbuild\bbs-3.17-bioc\R\bin\R.exe CMD check --no-multiarch --install=check:AlpsNMR.install-out.txt --library=F:\biocbuild\bbs-3.17-bioc\R\library --no-vignettes --timings AlpsNMR_4.2.0.tar.gz
StartedAt: 2023-09-26 23:25:18 -0400 (Tue, 26 Sep 2023)
EndedAt: 2023-09-26 23:33:03 -0400 (Tue, 26 Sep 2023)
EllapsedTime: 465.3 seconds
RetCode: 0
Status:   OK  
CheckDir: AlpsNMR.Rcheck
Warnings: 0

Command output

##############################################################################
##############################################################################
###
### Running command:
###
###   F:\biocbuild\bbs-3.17-bioc\R\bin\R.exe CMD check --no-multiarch --install=check:AlpsNMR.install-out.txt --library=F:\biocbuild\bbs-3.17-bioc\R\library --no-vignettes --timings AlpsNMR_4.2.0.tar.gz
###
##############################################################################
##############################################################################


* using log directory 'F:/biocbuild/bbs-3.17-bioc/meat/AlpsNMR.Rcheck'
* using R version 4.3.1 (2023-06-16 ucrt)
* using platform: x86_64-w64-mingw32 (64-bit)
* R was compiled by
    gcc.exe (GCC) 12.2.0
    GNU Fortran (GCC) 12.2.0
* running under: Windows Server 2022 x64 (build 20348)
* using session charset: UTF-8
* using option '--no-vignettes'
* checking for file 'AlpsNMR/DESCRIPTION' ... OK
* checking extension type ... Package
* this is package 'AlpsNMR' version '4.2.0'
* package encoding: UTF-8
* checking package namespace information ... OK
* checking package dependencies ... OK
* checking if this is a source package ... OK
* checking if there is a namespace ... OK
* checking for hidden files and directories ... OK
* checking for portable file names ... OK
* checking whether package 'AlpsNMR' can be installed ... OK
* checking installed package size ... OK
* checking package directory ... OK
* checking 'build' directory ... OK
* checking DESCRIPTION meta-information ... OK
* checking top-level files ... OK
* checking for left-over files ... OK
* checking index information ... OK
* checking package subdirectories ... OK
* checking R files for non-ASCII characters ... OK
* checking R files for syntax errors ... OK
* checking whether the package can be loaded ... OK
* checking whether the package can be loaded with stated dependencies ... OK
* checking whether the package can be unloaded cleanly ... OK
* checking whether the namespace can be loaded with stated dependencies ... OK
* checking whether the namespace can be unloaded cleanly ... OK
* checking dependencies in R code ... OK
* checking S3 generic/method consistency ... OK
* checking replacement functions ... OK
* checking foreign function calls ... OK
* checking R code for possible problems ... OK
* checking Rd files ... OK
* checking Rd metadata ... OK
* checking Rd cross-references ... OK
* checking for missing documentation entries ... OK
* checking for code/documentation mismatches ... OK
* checking Rd \usage sections ... OK
* checking Rd contents ... OK
* checking for unstated dependencies in examples ... OK
* checking contents of 'data' directory ... OK
* checking data for non-ASCII characters ... OK
* checking data for ASCII and uncompressed saves ... OK
* checking sizes of PDF files under 'inst/doc' ... OK
* checking files in 'vignettes' ... OK
* checking examples ... OK
Examples with CPU (user + system) or elapsed time > 5s
                                               user system elapsed
nmr_pca_outliers_robust                        4.88   0.25    8.53
SummarizedExperiment_to_nmr_data_1r            4.78   0.23    8.61
plsda_auroc_vip_compare                        2.83   0.01   14.50
Peak_detection                                 2.18   0.20   23.05
nmr_meta_add                                   1.83   0.06    9.00
permutation_test_plot                          1.86   0.03   12.47
bp_VIP_analysis                                1.86   0.00   11.79
permutation_test_model                         1.81   0.04   12.33
nmr_pca_build_model                            1.63   0.03    8.49
nmr_read_samples                               1.61   0.00    8.27
nmr_interpolate_1D                             1.47   0.11    8.41
validate_nmr_dataset                           1.50   0.03    8.39
nmr_data_analysis                              1.30   0.02    7.57
models_stability_plot_plsda                    1.22   0.07    7.22
plot_plsda_samples                             1.26   0.03    7.09
plot_plsda_multimodel                          1.27   0.01    7.06
bp_kfold_VIP_analysis                          1.23   0.01    7.86
nmr_dataset_peak_table_to_SummarizedExperiment 1.13   0.01    5.11
* checking for unstated dependencies in 'tests' ... OK
* checking tests ...
  Running 'testthat.R'
 OK
* checking for unstated dependencies in vignettes ... OK
* checking package vignettes in 'inst/doc' ... OK
* checking running R code from vignettes ... SKIPPED
* checking re-building of vignette outputs ... SKIPPED
* checking PDF version of manual ... OK
* DONE

Status: OK


Installation output

AlpsNMR.Rcheck/00install.out

##############################################################################
##############################################################################
###
### Running command:
###
###   F:\biocbuild\bbs-3.17-bioc\R\bin\R.exe CMD INSTALL AlpsNMR
###
##############################################################################
##############################################################################


* installing to library 'F:/biocbuild/bbs-3.17-bioc/R/library'
* installing *source* package 'AlpsNMR' ...
** using staged installation
** R
** data
** inst
** byte-compile and prepare package for lazy loading
** help
*** installing help indices
*** copying figures
** building package indices
** installing vignettes
** testing if installed package can be loaded from temporary location
** testing if installed package can be loaded from final location
** testing if installed package keeps a record of temporary installation path
* DONE (AlpsNMR)

Tests output

AlpsNMR.Rcheck/tests/testthat.Rout


R version 4.3.1 (2023-06-16 ucrt) -- "Beagle Scouts"
Copyright (C) 2023 The R Foundation for Statistical Computing
Platform: x86_64-w64-mingw32/x64 (64-bit)

R is free software and comes with ABSOLUTELY NO WARRANTY.
You are welcome to redistribute it under certain conditions.
Type 'license()' or 'licence()' for distribution details.

R is a collaborative project with many contributors.
Type 'contributors()' for more information and
'citation()' on how to cite R or R packages in publications.

Type 'demo()' for some demos, 'help()' for on-line help, or
'help.start()' for an HTML browser interface to help.
Type 'q()' to quit R.

> library(testthat)
> library(AlpsNMR)
Loading required package: future

Attaching package: 'AlpsNMR'

The following object is masked from 'package:stats':

    filter

> 
> test_check("AlpsNMR")
[ FAIL 0 | WARN 0 | SKIP 1 | PASS 91 ]

══ Skipped tests (1) ═══════════════════════════════════════════════════════════
• On Bioconductor (1): 'test_rDolphin.R:2:5'

[ FAIL 0 | WARN 0 | SKIP 1 | PASS 91 ]
> 
> proc.time()
   user  system elapsed 
   9.75    0.84   53.62 

Example timings

AlpsNMR.Rcheck/AlpsNMR-Ex.timings

nameusersystemelapsed
AlpsNMR-package1.130.084.62
HMDB_blood000
HMDB_cell000
HMDB_urine0.010.000.01
Parameters_blood000
Parameters_cell0.020.000.02
Parameters_urine000
Peak_detection 2.18 0.2023.05
Pipelines000
ROI_blood000
ROI_cell000
ROI_urine000
SummarizedExperiment_to_nmr_data_1r4.780.238.61
SummarizedExperiment_to_nmr_dataset_peak_table1.110.054.68
bp_VIP_analysis 1.86 0.0011.79
bp_kfold_VIP_analysis1.230.017.86
download_MTBLS242000
file_lister0.080.000.09
files_to_rDolphin000
filter.nmr_dataset_family0.800.024.30
format.nmr_dataset0.700.014.22
format.nmr_dataset_1D0.820.004.10
format.nmr_dataset_peak_table0.820.024.66
get_integration_with_metadata0.040.000.03
hmdb0.060.090.15
is.nmr_dataset0.860.054.75
is.nmr_dataset_1D0.740.054.31
is.nmr_dataset_peak_table0.860.034.36
load_and_save_functions0.730.014.69
models_stability_plot_bootstrap000
models_stability_plot_plsda1.220.077.22
new_nmr_dataset000
new_nmr_dataset_1D000
new_nmr_dataset_peak_table0.830.014.81
nmr_baseline_estimation0.110.050.16
nmr_baseline_removal000
nmr_baseline_threshold000
nmr_baseline_threshold_plot0.250.050.29
nmr_batman000
nmr_batman_options000
nmr_build_peak_table0.040.000.05
nmr_data0.070.000.06
nmr_data_1r_to_SummarizedExperiment1.040.014.67
nmr_data_analysis1.300.027.57
nmr_dataset000
nmr_dataset_1D000
nmr_dataset_peak_table_to_SummarizedExperiment1.130.015.11
nmr_exclude_region0.010.000.01
nmr_export_data_1r0.830.004.42
nmr_get_peak_distances000
nmr_identify_regions_blood000
nmr_identify_regions_cell0.000.020.02
nmr_identify_regions_urine0.040.000.02
nmr_integrate_regions0.010.000.01
nmr_interpolate_1D1.470.118.41
nmr_meta_add1.830.069.00
nmr_meta_export0.730.024.36
nmr_meta_get0.940.004.40
nmr_meta_get_column0.730.014.47
nmr_meta_groups0.800.034.17
nmr_normalize0.220.000.22
nmr_pca_build_model1.630.038.49
nmr_pca_outliers0.860.034.22
nmr_pca_outliers_filter0.880.074.24
nmr_pca_outliers_plot000
nmr_pca_outliers_robust4.880.258.53
nmr_pca_plots0.350.000.34
nmr_peak_clustering0.090.000.10
nmr_ppm_resolution0.000.010.01
nmr_read_bruker_fid000
nmr_read_samples1.610.008.27
nmr_zip_bruker_samples0.010.030.39
peaklist_accept_peaks0.020.000.01
permutation_test_model 1.81 0.0412.33
permutation_test_plot 1.86 0.0312.47
plot.nmr_dataset_1D000
plot_bootstrap_multimodel000
plot_interactive0.780.004.27
plot_plsda_multimodel1.270.017.06
plot_plsda_samples1.260.037.09
plot_vip_scores000
plot_webgl0.000.020.02
plsda_auroc_vip_compare 2.83 0.0114.50
plsda_auroc_vip_method000
ppm_resolution000
print.nmr_dataset0.830.024.51
print.nmr_dataset_1D0.890.054.47
print.nmr_dataset_peak_table0.880.044.47
random_subsampling000
save_files_to_rDolphin000
save_profiling_output000
sub-.nmr_dataset0.750.044.31
sub-.nmr_dataset_1D0.820.014.69
sub-.nmr_dataset_peak_table0.860.024.60
tidy.nmr_dataset_1D0.850.034.37
to_ChemoSpec0.920.064.36
validate_nmr_dataset1.500.038.39
validate_nmr_dataset_family0.840.004.48
validate_nmr_dataset_peak_table0.020.000.02
zzz0.000.002.05