Back to Multiple platform build/check report for BioC 3.17: simplified long |
|
This page was generated on 2023-09-23 11:35:44 -0400 (Sat, 23 Sep 2023).
Hostname | OS | Arch (*) | R version | Installed pkgs |
---|---|---|---|---|
nebbiolo1 | Linux (Ubuntu 22.04.2 LTS) | x86_64 | 4.3.1 (2023-06-16) -- "Beagle Scouts" | 4625 |
palomino3 | Windows Server 2022 Datacenter | x64 | 4.3.1 (2023-06-16 ucrt) -- "Beagle Scouts" | 4378 |
merida1 | macOS 12.6.4 Monterey | x86_64 | 4.3.1 (2023-06-16) -- "Beagle Scouts" | 4394 |
Click on any hostname to see more info about the system (e.g. compilers) (*) as reported by 'uname -p', except on Windows and Mac OS X |
Package 688/2230 | Hostname | OS / Arch | INSTALL | BUILD | CHECK | BUILD BIN | ||||||||
fcoex 1.14.0 (landing page) Tiago Lubiana
| nebbiolo1 | Linux (Ubuntu 22.04.2 LTS) / x86_64 | OK | ERROR | skipped | |||||||||
palomino3 | Windows Server 2022 Datacenter / x64 | OK | ERROR | skipped | skipped | |||||||||
merida1 | macOS 12.6.4 Monterey / x86_64 | OK | ERROR | skipped | skipped | |||||||||
To the developers/maintainers of the fcoex package: - Allow up to 24 hours (and sometimes 48 hours) for your latest push to git@git.bioconductor.org:packages/fcoex.git to reflect on this report. See Troubleshooting Build Report for more information. - Use the following Renviron settings to reproduce errors and warnings. - If 'R CMD check' started to fail recently on the Linux builder(s) over a missing dependency, add the missing dependency to 'Suggests:' in your DESCRIPTION file. See Renviron.bioc for more information. |
Package: fcoex |
Version: 1.14.0 |
Command: F:\biocbuild\bbs-3.17-bioc\R\bin\R.exe CMD INSTALL fcoex |
StartedAt: 2023-09-22 16:51:41 -0400 (Fri, 22 Sep 2023) |
EndedAt: 2023-09-22 16:52:49 -0400 (Fri, 22 Sep 2023) |
EllapsedTime: 68.5 seconds |
RetCode: 0 |
Status: OK |
############################################################################## ############################################################################## ### ### Running command: ### ### F:\biocbuild\bbs-3.17-bioc\R\bin\R.exe CMD INSTALL fcoex ### ############################################################################## ############################################################################## * installing to library 'F:/biocbuild/bbs-3.17-bioc/R/library' * installing *source* package 'fcoex' ... ** using staged installation ** R ** data *** moving datasets to lazyload DB Registered S3 methods overwritten by 'treeio': method from MRCA.phylo tidytree MRCA.treedata tidytree Nnode.treedata tidytree Ntip.treedata tidytree ancestor.phylo tidytree ancestor.treedata tidytree child.phylo tidytree child.treedata tidytree full_join.phylo tidytree full_join.treedata tidytree groupClade.phylo tidytree groupClade.treedata tidytree groupOTU.phylo tidytree groupOTU.treedata tidytree inner_join.phylo tidytree inner_join.treedata tidytree is.rooted.treedata tidytree nodeid.phylo tidytree nodeid.treedata tidytree nodelab.phylo tidytree nodelab.treedata tidytree offspring.phylo tidytree offspring.treedata tidytree parent.phylo tidytree parent.treedata tidytree root.treedata tidytree rootnode.phylo tidytree sibling.phylo tidytree Warning: replacing previous import 'Matrix::head' by 'utils::head' when loading 'fcoex' in method for 'mod_ora' with signature '"fcoex"': no definition for class "fcoex" ** byte-compile and prepare package for lazy loading Warning: replacing previous import 'Matrix::head' by 'utils::head' when loading 'fcoex' in method for 'mod_ora' with signature '"fcoex"': no definition for class "fcoex" ** help *** installing help indices ** building package indices ** installing vignettes ** testing if installed package can be loaded from temporary location Warning: replacing previous import 'Matrix::head' by 'utils::head' when loading 'fcoex' ** testing if installed package can be loaded from final location Warning: replacing previous import 'Matrix::head' by 'utils::head' when loading 'fcoex' ** testing if installed package keeps a record of temporary installation path * DONE (fcoex)