Back to Multiple platform build/check report for BioC 3.17:   simplified   long
ABCD[E]FGHIJKLMNOPQRSTUVWXYZ

This page was generated on 2023-03-23 11:06:42 -0400 (Thu, 23 Mar 2023).

HostnameOSArch (*)R versionInstalled pkgs
nebbiolo1Linux (Ubuntu 22.04.1 LTS)x86_64R Under development (unstable) (2023-03-16 r83996) -- "Unsuffered Consequences" 4536
palomino3Windows Server 2022 Datacenterx64R Under development (unstable) (2023-03-15 r83984 ucrt) -- "Unsuffered Consequences" 4298
merida1macOS 10.14.6 Mojavex86_64R Under development (unstable) (2023-03-16 r83985) -- "Unsuffered Consequences" 4290
Click on any hostname to see more info about the system (e.g. compilers)      (*) as reported by 'uname -p', except on Windows and Mac OS X

BUILD results for epigraHMM on merida1


To the developers/maintainers of the epigraHMM package:
- Please allow up to 24 hours (and sometimes 48 hours) for your latest push to git@git.bioconductor.org:packages/epigraHMM.git to
reflect on this report. See How and When does the builder pull? When will my changes propagate? for more information.
- Make sure to use the following settings in order to reproduce any error or warning you see on this page.

raw results

Package 628/2189HostnameOS / ArchINSTALLBUILDCHECKBUILD BIN
epigraHMM 1.7.0  (landing page)
Pedro Baldoni
Snapshot Date: 2023-03-22 14:00:17 -0400 (Wed, 22 Mar 2023)
git_url: https://git.bioconductor.org/packages/epigraHMM
git_branch: devel
git_last_commit: 984b8a3
git_last_commit_date: 2023-01-22 16:08:41 -0400 (Sun, 22 Jan 2023)
nebbiolo1Linux (Ubuntu 22.04.1 LTS) / x86_64  OK    OK    WARNINGS  NO, version to propagate (1.7.0) is lower than published version (1.7.1)
palomino3Windows Server 2022 Datacenter / x64  OK    OK    OK    OK  UNNEEDED, same version is already published
merida1macOS 10.14.6 Mojave / x86_64  OK    OK    WARNINGS    OK  NO, version to propagate (1.7.0) is lower than published version (1.7.1)

Summary

Package: epigraHMM
Version: 1.7.0
Command: /Library/Frameworks/R.framework/Resources/bin/R CMD build --keep-empty-dirs --no-resave-data epigraHMM
StartedAt: 2023-03-22 18:21:30 -0400 (Wed, 22 Mar 2023)
EndedAt: 2023-03-22 18:39:32 -0400 (Wed, 22 Mar 2023)
EllapsedTime: 1081.9 seconds
RetCode: 0
Status:   OK  
PackageFile: epigraHMM_1.7.0.tar.gz
PackageFileSize: 672.5 KiB

Command output

##############################################################################
##############################################################################
###
### Running command:
###
###   /Library/Frameworks/R.framework/Resources/bin/R CMD build --keep-empty-dirs --no-resave-data epigraHMM
###
##############################################################################
##############################################################################


* checking for file ‘epigraHMM/DESCRIPTION’ ... OK
* preparing ‘epigraHMM’:
* checking DESCRIPTION meta-information ... OK
* cleaning src
* installing the package to build vignettes
* creating vignettes ... OK
* cleaning src
* checking for LF line-endings in source and make files and shell scripts
* checking for empty or unneeded directories
  NB: this package now depends on R (>= 3.5.0)
  WARNING: Added dependency on R >= 3.5.0 because serialized objects in
  serialize/load version 3 cannot be read in older versions of R.
  File(s) containing such objects:
    ‘epigraHMM/data/helas3.rda’
* building ‘epigraHMM_1.7.0.tar.gz’