Back to Multiple platform build/check report for BioC 3.17:   simplified   long
ABCDEFGHIJKLMNOPQR[S]TUVWXYZ

This page was generated on 2023-05-27 11:06:18 -0400 (Sat, 27 May 2023).

HostnameOSArch (*)R versionInstalled pkgs
nebbiolo1Linux (Ubuntu 22.04.2 LTS)x86_644.3.0 RC (2023-04-13 r84269) -- "Already Tomorrow" 4617
palomino3Windows Server 2022 Datacenterx644.3.0 RC (2023-04-13 r84269 ucrt) -- "Already Tomorrow" 4368
merida1macOS 12.6.4 Montereyx86_644.3.0 RC (2023-04-13 r84257) -- "Already Tomorrow" 4326
Click on any hostname to see more info about the system (e.g. compilers)      (*) as reported by 'uname -p', except on Windows and Mac OS X

BUILD results for SpliceWiz on palomino3


To the developers/maintainers of the SpliceWiz package:
- Allow up to 24 hours (and sometimes 48 hours) for your latest push to git@git.bioconductor.org:packages/SpliceWiz.git to reflect on this report. See Troubleshooting Build Report for more information.

- Use the following Renviron settings to reproduce errors and warnings.

Note: If "R CMD check" recently failed on the Linux builder over a missing dependency, add the missing dependency to "Suggests" in your DESCRIPTION file. See the Renviron.bioc for details.

raw results

Package 1992/2229HostnameOS / ArchINSTALLBUILDCHECKBUILD BIN
SpliceWiz 1.2.1  (landing page)
Alex Chit Hei Wong
Snapshot Date: 2023-05-26 14:00:16 -0400 (Fri, 26 May 2023)
git_url: https://git.bioconductor.org/packages/SpliceWiz
git_branch: RELEASE_3_17
git_last_commit: d3a2512
git_last_commit_date: 2023-05-20 02:32:04 -0400 (Sat, 20 May 2023)
nebbiolo1Linux (Ubuntu 22.04.2 LTS) / x86_64  OK    OK    OK  UNNEEDED, same version is already published
palomino3Windows Server 2022 Datacenter / x64  OK    OK    OK    OK  UNNEEDED, same version is already published
merida1macOS 12.6.4 Monterey / x86_64  OK    OK    OK    OK  UNNEEDED, same version is already published

Summary

Package: SpliceWiz
Version: 1.2.1
Command: chmod a+r SpliceWiz -R && F:\biocbuild\bbs-3.17-bioc\R\bin\R.exe CMD build --keep-empty-dirs --no-resave-data SpliceWiz
StartedAt: 2023-05-26 22:30:38 -0400 (Fri, 26 May 2023)
EndedAt: 2023-05-26 22:37:33 -0400 (Fri, 26 May 2023)
EllapsedTime: 415.1 seconds
RetCode: 0
Status:   OK  
PackageFile: SpliceWiz_1.2.1.tar.gz
PackageFileSize: 3.853 MiB

Command output

##############################################################################
##############################################################################
###
### Running command:
###
###   chmod a+r SpliceWiz -R && F:\biocbuild\bbs-3.17-bioc\R\bin\R.exe CMD build --keep-empty-dirs --no-resave-data SpliceWiz
###
##############################################################################
##############################################################################


* checking for file 'SpliceWiz/DESCRIPTION' ... OK
* preparing 'SpliceWiz':
* checking DESCRIPTION meta-information ... OK
* cleaning src
* installing the package to build vignettes
* creating vignettes ... OK
* cleaning src
* checking for LF line-endings in source and make files and shell scripts
* checking for empty or unneeded directories
  NB: this package now depends on R (>= 3.5.0)
  WARNING: Added dependency on R >= 3.5.0 because serialized objects in
  serialize/load version 3 cannot be read in older versions of R.
  File(s) containing such objects:
    'SpliceWiz/inst/extdata/example_NxtSE.Rds'
    'SpliceWiz/inst/extdata/example_NxtSE_novel.Rds'
* building 'SpliceWiz_1.2.1.tar.gz'
Warning: file 'SpliceWiz/cleanup' did not have execute permissions: corrected
Warning: file 'SpliceWiz/configure' did not have execute permissions: corrected